{"text_format":"1","workbook":"xlsx","n_sheets":11,"sheets":["Slutsummering","D U-15","H U-15","Ranking SL D","Ranking SL H","Ranking GS D","Ranking GS H","Ranking SG DH D","TeamMidroc 2007","Ranking SG DH H","Poängberäkning"],"not_rendered":{"charts":0,"images":0,"macros":1,"external_links":1,"defined_names":4,"comments":0,"pivot_tables":0},"unopened":[],"bounds":{"document_bytes":16777216,"sheet_cells":100000,"rows_first":2000,"rows_last":500,"rows_between":2000,"halvings":0,"cell_chars":16384,"cell_head_chars":4096},"cells_cut":0,"cells_raw":0,"read":"row_number_cap","date_system":"1900"}

{"sheet":"Slutsummering","index":0,"n_rows":96,"n_cols":5,"rows_kept":96,"cut":false,"hidden":false,"merged":[]}
["Sammanställning USM-kval Region 3, U-15 2014"]
["Tjejer"]
["Rang","Född","Namn","Klubb","Bästa åk"]
[1,{"$f":"'D U-15'!B5","v":2000},{"$f":"'D U-15'!C5","v":"Alice Larsson"},{"$f":"'D U-15'!D5","v":"Sälens IF"},{"$f":"'D U-15'!E5","v":740}]
[2,{"$f":"'D U-15'!B6","v":2000},{"$f":"'D U-15'!C6","v":"Elin Petterson"},{"$f":"'D U-15'!D6","v":"Örebro SLF"},{"$f":"'D U-15'!E6","v":575}]
[3,{"$f":"'D U-15'!B7","v":2000},{"$f":"'D U-15'!C7","v":"Wilma Antfolk"},{"$f":"'D U-15'!D7","v":"IFK Borlänge"},{"$f":"'D U-15'!E7","v":510}]
[4,{"$f":"'D U-15'!B8","v":2000},{"$f":"'D U-15'!C8","v":"Ebba Kling Andersson"},{"$f":"'D U-15'!D8","v":"IFK Borlänge"},{"$f":"'D U-15'!E8","v":460}]
[5,{"$f":"'D U-15'!B9","v":2000},{"$f":"'D U-15'!C9","v":"Sofia Hedgren"},{"$f":"'D U-15'!D9","v":"Malungs SLK"},{"$f":"'D U-15'!E9","v":395}]
[6,{"$f":"'D U-15'!B10","v":2000},{"$f":"'D U-15'!C10","v":"Emmy Westerlund"},{"$f":"'D U-15'!D10","v":"Malungs SLK"},{"$f":"'D U-15'!E10","v":356}]
[7,{"$f":"'D U-15'!B11","v":2000},{"$f":"'D U-15'!C11","v":"Anna Jakobsson"},{"$f":"'D U-15'!D11","v":"Idre SK"},{"$f":"'D U-15'!E11","v":323}]
[8,{"$f":"'D U-15'!B12","v":2000},{"$f":"'D U-15'!C12","v":"Hanna Flodberg"},{"$f":"'D U-15'!D12","v":"IFK Falun"},{"$f":"'D U-15'!E12","v":306}]
[9,{"$f":"'D U-15'!B13","v":2000},{"$f":"'D U-15'!C13","v":"Linn Askman"},{"$f":"'D U-15'!D13","v":"Valfjällets SLK"},{"$f":"'D U-15'!E13","v":289}]
[10,{"$f":"'D U-15'!B14","v":2000},{"$f":"'D U-15'!C14","v":"Olivia Ederström"},{"$f":"'D U-15'!D14","v":"Kungsbergets AK"},{"$f":"'D U-15'!E14","v":276}]
[11,{"$f":"'D U-15'!B15","v":2000},{"$f":"'D U-15'!C15","v":"Emelie Ederborn"},{"$f":"'D U-15'!D15","v":"Idre SK"},{"$f":"'D U-15'!E15","v":273}]
[12,{"$f":"'D U-15'!B16","v":2000},{"$f":"'D U-15'!C16","v":"Lisa Tegnhed"},{"$f":"'D U-15'!D16","v":"Karlstads SLK"},{"$f":"'D U-15'!E16","v":255}]
[13,{"$f":"'D U-15'!B17","v":2000},{"$f":"'D U-15'!C17","v":"Ahnoo Sandberg"},{"$f":"'D U-15'!D17","v":"IFK Falun"},{"$f":"'D U-15'!E17","v":220}]
[14,{"$f":"'D U-15'!B18","v":2000},{"$f":"'D U-15'!C18","v":"Alma Faghén"},{"$f":"'D U-15'!D18","v":"Norrbärke SK Alpin"},{"$f":"'D U-15'!E18","v":189}]
[15,{"$f":"'D U-15'!B19","v":2000},{"$f":"'D U-15'!C19","v":"Lovisa Eklund"},{"$f":"'D U-15'!D19","v":"Leksands SLK"},{"$f":"'D U-15'!E19","v":170}]
[16,{"$f":"'D U-15'!B20","v":2000},{"$f":"'D U-15'!C20","v":"Linda Persson"},{"$f":"'D U-15'!D20","v":"Idre SK"},{"$f":"'D U-15'!E20","v":170}]
[17,{"$f":"'D U-15'!B21","v":2000},{"$f":"'D U-15'!C21","v":"Jennifer Thornell"},{"$f":"'D U-15'!D21","v":"Avesta AK"},{"$f":"'D U-15'!E21","v":158}]
[18,{"$f":"'D U-15'!B22","v":2000},{"$f":"'D U-15'!C22","v":"Tilde Grönstedt"},{"$f":"'D U-15'!D22","v":"Karlstads SLK"},{"$f":"'D U-15'!E22","v":156}]
[19,{"$f":"'D U-15'!B23","v":2000},{"$f":"'D U-15'!C23","v":"Felicia Lind"},{"$f":"'D U-15'!D23","v":"IFK Borlänge"},{"$f":"'D U-15'!E23","v":148}]
[20,{"$f":"'D U-15'!B24","v":2000},{"$f":"'D U-15'!C24","v":"Ida Söderlind"},{"$f":"'D U-15'!D24","v":"Örebro SLF"},{"$f":"'D U-15'!E24","v":139}]
[21,{"$f":"'D U-15'!B25","v":2000},{"$f":"'D U-15'!C25","v":"Ellen Kindberg"},{"$f":"'D U-15'!D25","v":"Kils SLK"},{"$f":"'D U-15'!E25","v":130}]
[22,{"$f":"'D U-15'!B26","v":2000},{"$f":"'D U-15'!C26","v":"Tilda Vestlund"},{"$f":"'D U-15'!D26","v":"Avesta AK"},{"$f":"'D U-15'!E26","v":130}]
[23,{"$f":"'D U-15'!B27","v":2000},{"$f":"'D U-15'!C27","v":"Ida Håkansson"},{"$f":"'D U-15'!D27","v":"Valfjällets SLK"},{"$f":"'D U-15'!E27","v":78}]
[24,{"$f":"'D U-15'!B28","v":2000},{"$f":"'D U-15'!C28","v":"Emma Skogsmark"},{"$f":"'D U-15'!D28","v":"Avesta AK"},{"$f":"'D U-15'!E28","v":61}]
[25,{"$f":"'D U-15'!B29","v":2000},{"$f":"'D U-15'!C29","v":"Emilia Pantzare"},{"$f":"'D U-15'!D29","v":"Idre SK"},{"$f":"'D U-15'!E29","v":0}]
[26,{"$f":"'D U-15'!B30","v":0},{"$f":"'D U-15'!C30","v":0},{"$f":"'D U-15'!D30","v":0},{"$f":"'D U-15'!E30","v":0}]
[27,{"$f":"'D U-15'!B31","v":0},{"$f":"'D U-15'!C31","v":0},{"$f":"'D U-15'!D31","v":0},{"$f":"'D U-15'!E31","v":0}]
[28,{"$f":"'D U-15'!B32","v":0},{"$f":"'D U-15'!C32","v":0},{"$f":"'D U-15'!D32","v":0},{"$f":"'D U-15'!E32","v":0}]
[29,{"$f":"'D U-15'!B33","v":0},{"$f":"'D U-15'!C33","v":0},{"$f":"'D U-15'!D33","v":0},{"$f":"'D U-15'!E33","v":0}]
[30,{"$f":"'D U-15'!B34","v":0},{"$f":"'D U-15'!C34","v":0},{"$f":"'D U-15'!D34","v":0},{"$f":"'D U-15'!E34","v":0}]
[31,{"$f":"'D U-15'!B35","v":0},{"$f":"'D U-15'!C35","v":0},{"$f":"'D U-15'!D35","v":0},{"$f":"'D U-15'!E35","v":0}]
[32,{"$f":"'D U-15'!B36","v":0},{"$f":"'D U-15'!C36","v":0},{"$f":"'D U-15'!D36","v":0},{"$f":"'D U-15'!E36","v":0}]
[33,{"$f":"'D U-15'!B37","v":0},{"$f":"'D U-15'!C37","v":0},{"$f":"'D U-15'!D37","v":0},{"$f":"'D U-15'!E37","v":0}]
[34,{"$f":"'D U-15'!B38","v":0},{"$f":"'D U-15'!C38","v":0},{"$f":"'D U-15'!D38","v":0},{"$f":"'D U-15'!E38","v":0}]
[35,{"$f":"'D U-15'!B39","v":0},{"$f":"'D U-15'!C39","v":0},{"$f":"'D U-15'!D39","v":0},{"$f":"'D U-15'!E39","v":0}]
[36,{"$f":"'D U-15'!B40","v":0},{"$f":"'D U-15'!C40","v":0},{"$f":"'D U-15'!D40","v":0},{"$f":"'D U-15'!E40","v":0}]
[37,{"$f":"'D U-15'!B41","v":0},{"$f":"'D U-15'!C41","v":0},{"$f":"'D U-15'!D41","v":0},{"$f":"'D U-15'!E41","v":0}]
[38,{"$f":"'D U-15'!B42","v":0},{"$f":"'D U-15'!C42","v":0},{"$f":"'D U-15'!D42","v":0},{"$f":"'D U-15'!E42","v":0}]
[39,{"$f":"'D U-15'!B43","v":0},{"$f":"'D U-15'!C43","v":0},{"$f":"'D U-15'!D43","v":0},{"$f":"'D U-15'!E43","v":0}]
[40,{"$f":"'D U-15'!B44","v":0},{"$f":"'D U-15'!C44","v":0},{"$f":"'D U-15'!D44","v":0},{"$f":"'D U-15'!E44","v":0}]
[41,{"$f":"'D U-15'!B45","v":0},{"$f":"'D U-15'!C45","v":0},{"$f":"'D U-15'!D45","v":0},{"$f":"'D U-15'!E45","v":0}]
[42,{"$f":"'D U-15'!B46","v":0},{"$f":"'D U-15'!C46","v":0},{"$f":"'D U-15'!D46","v":0},{"$f":"'D U-15'!E46","v":0}]
[43,{"$f":"'D U-15'!B47","v":0},{"$f":"'D U-15'!C47","v":0},{"$f":"'D U-15'!D47","v":0},{"$f":"'D U-15'!E47","v":0}]
[44,{"$f":"'D U-15'!B48","v":0},{"$f":"'D U-15'!C48","v":0},{"$f":"'D U-15'!D48","v":0},{"$f":"'D U-15'!E48","v":0}]
[45,{"$f":"'D U-15'!B49","v":0},{"$f":"'D U-15'!C49","v":0},{"$f":"'D U-15'!D49","v":0},{"$f":"'D U-15'!E49","v":0}]
[]
["Sammanställning USM-kval Region 3, U-15 2014"]
["Killar"]
["Rang","Född","Namn","Klubb","Bästa åk"]
[1,{"$f":"'H U-15'!B5","v":2000},{"$f":"'H U-15'!C5","v":"Mikael Semdahl"},{"$f":"'H U-15'!D5","v":"IFK Borlänge"},{"$f":"'H U-15'!E5","v":660}]
[2,{"$f":"'H U-15'!B6","v":2000},{"$f":"'H U-15'!C6","v":"Rickard Forsman"},{"$f":"'H U-15'!D6","v":"Malungs SLK"},{"$f":"'H U-15'!E6","v":628}]
[3,{"$f":"'H U-15'!B7","v":2000},{"$f":"'H U-15'!C7","v":"Edvin Sundberg"},{"$f":"'H U-15'!D7","v":"Örebro SLF"},{"$f":"'H U-15'!E7","v":580}]
[4,{"$f":"'H U-15'!B8","v":2000},{"$f":"'H U-15'!C8","v":"Erik Hultman"},{"$f":"'H U-15'!D8","v":"Karlskoga SLK"},{"$f":"'H U-15'!E8","v":425}]
[5,{"$f":"'H U-15'!B9","v":2000},{"$f":"'H U-15'!C9","v":"Carl Setterström"},{"$f":"'H U-15'!D9","v":"Karlstads SLK"},{"$f":"'H U-15'!E9","v":405}]
[6,{"$f":"'H U-15'!B10","v":2000},{"$f":"'H U-15'!C10","v":"Gusten Berglund"},{"$f":"'H U-15'!D10","v":"Karlstads SLK"},{"$f":"'H U-15'!E10","v":393}]
[7,{"$f":"'H U-15'!B11","v":2000},{"$f":"'H U-15'!C11","v":"Filip Lindström"},{"$f":"'H U-15'!D11","v":"Kumla SF"},{"$f":"'H U-15'!E11","v":360}]
[8,{"$f":"'H U-15'!B12","v":2000},{"$f":"'H U-15'!C12","v":"Adam Ståhlbom"},{"$f":"'H U-15'!D12","v":"Kumla SF"},{"$f":"'H U-15'!E12","v":341}]
[9,{"$f":"'H U-15'!B13","v":2000},{"$f":"'H U-15'!C13","v":"Carl Kieksi"},{"$f":"'H U-15'!D13","v":"IFK Borlänge"},{"$f":"'H U-15'!E13","v":310}]
[10,{"$f":"'H U-15'!B14","v":2000},{"$f":"'H U-15'!C15","v":"Martin Jansson"},{"$f":"'H U-15'!D15","v":"IFK Falun"},{"$f":"'H U-15'!E14","v":308}]
[11,{"$f":"'H U-15'!B15","v":2000},{"$f":"'H U-15'!C16","v":"Mathias Gatu"},{"$f":"'H U-15'!D16","v":"Rättviks SLK"},{"$f":"'H U-15'!E15","v":292}]
[12,{"$f":"'H U-15'!B16","v":2000},{"$f":"'H U-15'!C17","v":"Oliver Suther"},{"$f":"'H U-15'!D17","v":"Rättviks SLK"},{"$f":"'H U-15'!E16","v":122}]
[13,{"$f":"'H U-15'!B17","v":2000},{"$f":"'H U-15'!#REF!","v":{"$error":"#REF!"}},{"$f":"'H U-15'!#REF!","v":{"$error":"#REF!"}},{"$f":"'H U-15'!E17","v":81}]
[14,{"$f":"'H U-15'!B18","v":2000},{"$f":"'H U-15'!C18","v":"Alexander Mueller"},{"$f":"'H U-15'!D18","v":"Kungsbergets AK"},{"$f":"'H U-15'!E18","v":42}]
[15,{"$f":"'H U-15'!B19","v":0},{"$f":"'H U-15'!C19","v":0},{"$f":"'H U-15'!D19","v":0},{"$f":"'H U-15'!E19","v":0}]
[16,{"$f":"'H U-15'!B20","v":0},{"$f":"'H U-15'!C20","v":0},{"$f":"'H U-15'!D20","v":0},{"$f":"'H U-15'!E20","v":0}]
[17,{"$f":"'H U-15'!B21","v":0},{"$f":"'H U-15'!C21","v":0},{"$f":"'H U-15'!D21","v":0},{"$f":"'H U-15'!E21","v":0}]
[18,{"$f":"'H U-15'!B22","v":0},{"$f":"'H U-15'!C22","v":0},{"$f":"'H U-15'!D22","v":0},{"$f":"'H U-15'!E22","v":0}]
[19,{"$f":"'H U-15'!B23","v":0},{"$f":"'H U-15'!C23","v":0},{"$f":"'H U-15'!D23","v":0},{"$f":"'H U-15'!E23","v":0}]
[20,{"$f":"'H U-15'!B24","v":0},{"$f":"'H U-15'!C24","v":0},{"$f":"'H U-15'!D24","v":0},{"$f":"'H U-15'!E24","v":0}]
[21,{"$f":"'H U-15'!B25","v":0},{"$f":"'H U-15'!C25","v":0},{"$f":"'H U-15'!D25","v":0},{"$f":"'H U-15'!E25","v":0}]
[22,{"$f":"'H U-15'!B26","v":0},{"$f":"'H U-15'!C26","v":0},{"$f":"'H U-15'!D26","v":0},{"$f":"'H U-15'!E26","v":0}]
[23,{"$f":"'H U-15'!B27","v":0},{"$f":"'H U-15'!C27","v":0},{"$f":"'H U-15'!D27","v":0},{"$f":"'H U-15'!E27","v":0}]
[24,{"$f":"'H U-15'!B28","v":0},{"$f":"'H U-15'!C28","v":0},{"$f":"'H U-15'!D28","v":0},{"$f":"'H U-15'!E28","v":0}]
[25,{"$f":"'H U-15'!B29","v":0},{"$f":"'H U-15'!C29","v":0},{"$f":"'H U-15'!D29","v":0},{"$f":"'H U-15'!E29","v":0}]
[26,{"$f":"'H U-15'!B30","v":0},{"$f":"'H U-15'!C30","v":0},{"$f":"'H U-15'!D30","v":0},{"$f":"'H U-15'!E30","v":0}]
[27,{"$f":"'H U-15'!B31","v":0},{"$f":"'H U-15'!C31","v":0},{"$f":"'H U-15'!D31","v":0},{"$f":"'H U-15'!E31","v":0}]
[28,{"$f":"'H U-15'!B32","v":0},{"$f":"'H U-15'!C32","v":0},{"$f":"'H U-15'!D32","v":0},{"$f":"'H U-15'!E32","v":0}]
[29,{"$f":"'H U-15'!B33","v":0},{"$f":"'H U-15'!C33","v":0},{"$f":"'H U-15'!D33","v":0},{"$f":"'H U-15'!E33","v":0}]
[30,{"$f":"'H U-15'!B34","v":0},{"$f":"'H U-15'!C34","v":0},{"$f":"'H U-15'!D34","v":0},{"$f":"'H U-15'!E34","v":0}]
[31,{"$f":"'H U-15'!B35","v":0},{"$f":"'H U-15'!C35","v":0},{"$f":"'H U-15'!D35","v":0},{"$f":"'H U-15'!E35","v":0}]
[32,{"$f":"'H U-15'!B36","v":0},{"$f":"'H U-15'!C36","v":0},{"$f":"'H U-15'!D36","v":0},{"$f":"'H U-15'!E36","v":0}]
[33,{"$f":"'H U-15'!B37","v":0},{"$f":"'H U-15'!C37","v":0},{"$f":"'H U-15'!D37","v":0},{"$f":"'H U-15'!E37","v":0}]
[34,{"$f":"'H U-15'!B38","v":0},{"$f":"'H U-15'!C38","v":0},{"$f":"'H U-15'!D38","v":0},{"$f":"'H U-15'!E38","v":0}]
[35,{"$f":"'H U-15'!B39","v":0},{"$f":"'H U-15'!C39","v":0},{"$f":"'H U-15'!D39","v":0},{"$f":"'H U-15'!E39","v":0}]
[36,{"$f":"'H U-15'!B40","v":0},{"$f":"'H U-15'!C40","v":0},{"$f":"'H U-15'!D40","v":0},{"$f":"'H U-15'!E40","v":0}]
[37,{"$f":"'H U-15'!B41","v":0},{"$f":"'H U-15'!C41","v":0},{"$f":"'H U-15'!D41","v":0},{"$f":"'H U-15'!E41","v":0}]
[38,{"$f":"'H U-15'!B42","v":0},{"$f":"'H U-15'!C42","v":0},{"$f":"'H U-15'!D42","v":0},{"$f":"'H U-15'!E42","v":0}]
[39,{"$f":"'H U-15'!B43","v":0},{"$f":"'H U-15'!C43","v":0},{"$f":"'H U-15'!D43","v":0},{"$f":"'H U-15'!E43","v":0}]
[40,{"$f":"'H U-15'!B44","v":0},{"$f":"'H U-15'!C44","v":0},{"$f":"'H U-15'!D44","v":0},{"$f":"'H U-15'!E44","v":0}]
[41,{"$f":"'H U-15'!B45","v":0},{"$f":"'H U-15'!C45","v":0},{"$f":"'H U-15'!D45","v":0},{"$f":"'H U-15'!E45","v":0}]
[42,{"$f":"'H U-15'!B46","v":0},{"$f":"'H U-15'!C46","v":0},{"$f":"'H U-15'!D46","v":0},{"$f":"'H U-15'!E46","v":0}]
[43,{"$f":"'H U-15'!B47","v":0},{"$f":"'H U-15'!C47","v":0},{"$f":"'H U-15'!D47","v":0},{"$f":"'H U-15'!E47","v":0}]
[44,{"$f":"'H U-15'!B48","v":0},{"$f":"'H U-15'!C48","v":0},{"$f":"'H U-15'!D48","v":0},{"$f":"'H U-15'!E48","v":0}]

{"sheet":"D U-15","index":1,"n_rows":1048576,"n_cols":65,"rows_kept":4500,"cut":true,"hidden":false,"merged":[[3,53,3,54],[2,43,2,46],[2,51,2,54],[3,35,3,36],[3,23,3,24],[3,25,3,26],[3,31,3,32],[3,33,3,34],[2,2,2,3],[2,35,2,38],[3,45,3,46],[3,11,3,12],[3,13,3,14],[3,19,3,20],[3,21,3,22],[2,7,2,10],[2,11,2,14],[3,29,3,30],[3,7,3,8],[3,37,3,38],[2,15,2,18],[2,19,2,22],[3,43,3,44],[3,15,3,16],[3,17,3,18],[0,0,0,54],[1,0,1,54],[2,55,3,66],[2,47,2,50],[3,39,3,40],[3,41,3,42],[2,39,2,42],[3,9,3,10],[3,27,3,28],[3,47,3,48],[3,49,3,50],[2,31,2,34],[2,23,2,26],[2,27,2,30],[3,51,3,52]],"bounds":{"rows_first":2000,"rows_last":500,"rows_between":2000,"halvings":0},"read":"row_number_cap"}
["USM-kval region 3 2015"]
["Damer U-15",null,null,null,null,null,null,null,null,null,null,null,null,null,null,null,null,null,null,null,null,null,null,null,null,null,null,null,null,null,null,null,null,null,null,null,null,null,null,null,null,null,null,null,null,null,null,null,null,null,null,null,null,null,null,"1:a","2:a","3:e","4:e","5:e","6:e","7:e","8:e","9:e","10:e"]
[null,null," ",null,"Topp 10","Topp 10","Totalt","Falun SL 1",null,null,null,"Falun SL 2",null,null,null,"Idre SL 3",null,null,null,"Idre SL 4",null,null,null,"Borlänge GS 1",null,null,null,"Borlänge GS 2",null,null,null,"Valfjället GS",null,null,null,"Valfjället GS",null,null,null,"Duved DH",null,null,null,"Duved SG",null,null,null,null,null,null,null,null,null,null,null,"De 10 bästa åken.                         "]
["Rang","Född","Namn","Klubb","Bästa åk","Bästa åk","Poäng","10/1  Åk1",null,"10/1  Åk2",null,"11/1  Åk 1",null,"11/1 Åk 2",null,"17/1  Åk 1",null,"17/1 Åk 2",null,"18/1 Åk 1",null,"18/1  Åk2",null,"31/1  Åk 1",null,"31/1  Åk 2",null,"31/1  Åk 3",null,"31/1  Åk 4",null,"15/2  Åk 1",null,"15/2  Åk 2",null,"16/2  Åk 1",null,"16/2  Åk 2",null,"1/2  Åk 1",null,"1/2  Åk 2",null,"2/2  Åk 1",null,"2/2  Åk 2"]
[1,2000,"Alice Larsson","Sälens IF",{"$f":"SUM(BD5:BM5)","v":740},{"$f":"SUM(BD5:BK5)","v":740},{"$f":"I5+K5+M5+O5+Q5+S5+U5+W5+Y5+AA5+AC5+AE5+AG5+AI5+AK5+AM5+AO5+AQ5+AS5+AU5+AW5+AY5+BA5+BC5","v":740},1,{"$f":"LOOKUP(H5,Poängberäkning!$B$6:$B$97,Poängberäkning!$C$6:$C$97)","v":100},1,{"$f":"LOOKUP(J5,Poängberäkning!$B$6:$B$97,Poängberäkning!$C$6:$C$97)","v":100},1,{"$f":"LOOKUP(L5,Poängberäkning!$B$6:$B$97,Poängberäkning!$C$6:$C$97)","v":100},2,{"$f":"LOOKUP(N5,Poängberäkning!$B$6:$B$97,Poängberäkning!$C$6:$C$97)","v":80},1,{"$f":"LOOKUP(P5,Poängberäkning!$B$6:$B$97,Poängberäkning!$C$6:$C$97)","v":100},4,{"$f":"LOOKUP(R5,Poängberäkning!$B$6:$B$97,Poängberäkning!$C$6:$C$97)","v":60},1,{"$f":"LOOKUP(T5,Poängberäkning!$B$6:$B$97,Poängberäkning!$C$6:$C$97)","v":100},1,{"$f":"LOOKUP(V5,Poängberäkning!$B$6:$B$97,Poängberäkning!$C$6:$C$97)","v":100},null,{"$f":"LOOKUP(X5,Poängberäkning!$B$6:$B$97,Poängberäkning!$C$6:$C$97)","v":0},null,{"$f":"LOOKUP(Z5,Poängberäkning!$B$6:$B$97,Poängberäkning!$C$6:$C$97)","v":0},null,{"$f":"LOOKUP(AB5,Poängberäkning!$B$6:$B$97,Poängberäkning!$C$6:$C$97)","v":0},null,{"$f":"LOOKUP(AD5,Poängberäkning!$B$6:$B$97,Poängberäkning!$C$6:$C$97)","v":0},null,{"$f":"LOOKUP(AF5,Poängberäkning!$B$6:$B$97,Poängberäkning!$C$6:$C$97)","v":0},null,{"$f":"LOOKUP(AH5,Poängberäkning!$B$6:$B$97,Poängberäkning!$C$6:$C$97)","v":0},null,{"$f":"LOOKUP(AJ5,Poängberäkning!$B$6:$B$97,Poängberäkning!$C$6:$C$97)","v":0},null,{"$f":"LOOKUP(AL5,Poängberäkning!$B$6:$B$97,Poängberäkning!$C$6:$C$97)","v":0},null,{"$f":"LOOKUP(AN5,Poängberäkning!$B$6:$B$97,Poängberäkning!$C$6:$C$97)","v":0},null,{"$f":"LOOKUP(AP5,Poängberäkning!$B$6:$B$97,Poängberäkning!$C$6:$C$97)","v":0},null,{"$f":"LOOKUP(AR5,Poängberäkning!$B$6:$B$97,Poängberäkning!$C$6:$C$97)","v":0},null,{"$f":"LOOKUP(AT5,Poängberäkning!$B$6:$B$97,Poängberäkning!$C$6:$C$97)","v":0},null,null,null,null,null,null,null,null,{"$f":"LARGE(($I5,$K5,$M5,$O5,$Q5,$S5,$U5,$W5,$Y5,$AA5,$AC5,$AE5,$AG5,$AI5,$AK5,$AM5,$AO5,$AQ5,$AS5,$AU5,$AW5,$AY5,$BA5,$BC5),1)","v":100},{"$f":"LARGE(($I5,$K5,$M5,$O5,$Q5,$S5,$U5,$W5,$Y5,$AA5,$AC5,$AE5,$AG5,$AI5,$AK5,$AM5,$AO5,$AQ5,$AS5,$AU5,$AW5,$AY5,$BA5,$BC5),2)","v":100},{"$f":"LARGE(($I5,$K5,$M5,$O5,$Q5,$S5,$U5,$W5,$Y5,$AA5,$AC5,$AE5,$AG5,$AI5,$AK5,$AM5,$AO5,$AQ5,$AS5,$AU5,$AW5,$AY5,$BA5,$BC5),3)","v":100},{"$f":"LARGE(($I5,$K5,$M5,$O5,$Q5,$S5,$U5,$W5,$Y5,$AA5,$AC5,$AE5,$AG5,$AI5,$AK5,$AM5,$AO5,$AQ5,$AS5,$AU5,$AW5,$AY5,$BA5,$BC5),4)","v":100},{"$f":"LARGE(($I5,$K5,$M5,$O5,$Q5,$S5,$U5,$W5,$Y5,$AA5,$AC5,$AE5,$AG5,$AI5,$AK5,$AM5,$AO5,$AQ5,$AS5,$AU5,$AW5,$AY5,$BA5,$BC5),5)","v":100},{"$f":"LARGE(($I5,$K5,$M5,$O5,$Q5,$S5,$U5,$W5,$Y5,$AA5,$AC5,$AE5,$AG5,$AI5,$AK5,$AM5,$AO5,$AQ5,$AS5,$AU5,$AW5,$AY5,$BA5,$BC5),6)","v":100},{"$f":"LARGE(($I5,$K5,$M5,$O5,$Q5,$S5,$U5,$W5,$Y5,$AA5,$AC5,$AE5,$AG5,$AI5,$AK5,$AM5,$AO5,$AQ5,$AS5,$AU5,$AW5,$AY5,$BA5,$BC5),7)","v":80},{"$f":"LARGE(($I5,$K5,$M5,$O5,$Q5,$S5,$U5,$W5,$Y5,$AA5,$AC5,$AE5,$AG5,$AI5,$AK5,$AM5,$AO5,$AQ5,$AS5,$AU5,$AW5,$AY5,$BA5,$BC5),8)","v":60},{"$f":"LARGE(($I5,$K5,$M5,$O5,$Q5,$S5,$U5,$W5,$Y5,$AA5,$AC5,$AE5,$AG5,$AI5,$AK5,$AM5,$AO5,$AQ5,$AS5,$AU5,$AW5,$AY5,$BA5,$BC5),9)","v":0},{"$f":"LARGE(($I5,$K5,$M5,$O5,$Q5,$S5,$U5,$W5,$Y5,$AA5,$AC5,$AE5,$AG5,$AI5,$AK5,$AM5,$AO5,$AQ5,$AS5,$AU5,$AW5,$AY5,$BA5,$BC5),10)","v":0}]
[{"$f":"A5+1","v":2},2000,"Elin Petterson","Örebro SLF",575,575,575,3,{"$f":"LOOKUP(H6,Poängberäkning!$B$6:$B$97,Poängberäkning!$C$6:$C$97)","v":70},3,{"$f":"LOOKUP(J6,Poängberäkning!$B$6:$B$97,Poängberäkning!$C$6:$C$97)","v":70},2,{"$f":"LOOKUP(L6,Poängberäkning!$B$6:$B$97,Poängberäkning!$C$6:$C$97)","v":80},5,{"$f":"LOOKUP(N6,Poängberäkning!$B$6:$B$97,Poängberäkning!$C$6:$C$97)","v":55},3,{"$f":"LOOKUP(P6,Poängberäkning!$B$6:$B$97,Poängberäkning!$C$6:$C$97)","v":70},2,{"$f":"LOOKUP(R6,Poängberäkning!$B$6:$B$97,Poängberäkning!$C$6:$C$97)","v":80},3,{"$f":"LOOKUP(T6,Poängberäkning!$B$6:$B$97,Poängberäkning!$C$6:$C$97)","v":70},2,{"$f":"LOOKUP(V6,Poängberäkning!$B$6:$B$97,Poängberäkning!$C$6:$C$97)","v":80},null,{"$f":"LOOKUP(X6,Poängberäkning!$B$6:$B$97,Poängberäkning!$C$6:$C$97)","v":0},null,{"$f":"LOOKUP(Z6,Poängberäkning!$B$6:$B$97,Poängberäkning!$C$6:$C$97)","v":0},null,{"$f":"LOOKUP(AB6,Poängberäkning!$B$6:$B$97,Poängberäkning!$C$6:$C$97)","v":0},null,{"$f":"LOOKUP(AD6,Poängberäkning!$B$6:$B$97,Poängberäkning!$C$6:$C$97)","v":0},null,{"$f":"LOOKUP(AF6,Poängberäkning!$B$6:$B$97,Poängberäkning!$C$6:$C$97)","v":0},null,{"$f":"LOOKUP(AH6,Poängberäkning!$B$6:$B$97,Poängberäkning!$C$6:$C$97)","v":0},null,{"$f":"LOOKUP(AJ6,Poängberäkning!$B$6:$B$97,Poängberäkning!$C$6:$C$97)","v":0},null,{"$f":"LOOKUP(AL6,Poängberäkning!$B$6:$B$97,Poängberäkning!$C$6:$C$97)","v":0},null,{"$f":"LOOKUP(AN6,Poängberäkning!$B$6:$B$97,Poängberäkning!$C$6:$C$97)","v":0},null,{"$f":"LOOKUP(AP6,Poängberäkning!$B$6:$B$97,Poängberäkning!$C$6:$C$97)","v":0},null,{"$f":"LOOKUP(AR6,Poängberäkning!$B$6:$B$97,Poängberäkning!$C$6:$C$97)","v":0},null,{"$f":"LOOKUP(AT6,Poängberäkning!$B$6:$B$97,Poängberäkning!$C$6:$C$97)","v":0},null,null,null,null,null,null,null,null,{"$f":"LARGE(($I6,$K6,$M6,$O6,$Q6,$S6,$U6,$W6,$Y6,$AA6,$AC6,$AE6,$AG6,$AI6,$AK6,$AM6,$AO6,$AQ6,$AS6,$AU6,$AW6,$AY6,$BA6,$BC6),1)","v":80},{"$f":"LARGE(($I6,$K6,$M6,$O6,$Q6,$S6,$U6,$W6,$Y6,$AA6,$AC6,$AE6,$AG6,$AI6,$AK6,$AM6,$AO6,$AQ6,$AS6,$AU6,$AW6,$AY6,$BA6,$BC6),2)","v":80},{"$f":"LARGE(($I6,$K6,$M6,$O6,$Q6,$S6,$U6,$W6,$Y6,$AA6,$AC6,$AE6,$AG6,$AI6,$AK6,$AM6,$AO6,$AQ6,$AS6,$AU6,$AW6,$AY6,$BA6,$BC6),3)","v":80},{"$f":"LARGE(($I6,$K6,$M6,$O6,$Q6,$S6,$U6,$W6,$Y6,$AA6,$AC6,$AE6,$AG6,$AI6,$AK6,$AM6,$AO6,$AQ6,$AS6,$AU6,$AW6,$AY6,$BA6,$BC6),4)","v":70},{"$f":"LARGE(($I6,$K6,$M6,$O6,$Q6,$S6,$U6,$W6,$Y6,$AA6,$AC6,$AE6,$AG6,$AI6,$AK6,$AM6,$AO6,$AQ6,$AS6,$AU6,$AW6,$AY6,$BA6,$BC6),5)","v":70},{"$f":"LARGE(($I6,$K6,$M6,$O6,$Q6,$S6,$U6,$W6,$Y6,$AA6,$AC6,$AE6,$AG6,$AI6,$AK6,$AM6,$AO6,$AQ6,$AS6,$AU6,$AW6,$AY6,$BA6,$BC6),6)","v":70},{"$f":"LARGE(($I6,$K6,$M6,$O6,$Q6,$S6,$U6,$W6,$Y6,$AA6,$AC6,$AE6,$AG6,$AI6,$AK6,$AM6,$AO6,$AQ6,$AS6,$AU6,$AW6,$AY6,$BA6,$BC6),7)","v":70},{"$f":"LARGE(($I6,$K6,$M6,$O6,$Q6,$S6,$U6,$W6,$Y6,$AA6,$AC6,$AE6,$AG6,$AI6,$AK6,$AM6,$AO6,$AQ6,$AS6,$AU6,$AW6,$AY6,$BA6,$BC6),8)","v":55},{"$f":"LARGE(($I6,$K6,$M6,$O6,$Q6,$S6,$U6,$W6,$Y6,$AA6,$AC6,$AE6,$AG6,$AI6,$AK6,$AM6,$AO6,$AQ6,$AS6,$AU6,$AW6,$AY6,$BA6,$BC6),9)","v":0},{"$f":"LARGE(($I6,$K6,$M6,$O6,$Q6,$S6,$U6,$W6,$Y6,$AA6,$AC6,$AE6,$AG6,$AI6,$AK6,$AM6,$AO6,$AQ6,$AS6,$AU6,$AW6,$AY6,$BA6,$BC6),10)","v":0}]
[{"$f":"A6+1","v":3},2000,"Wilma Antfolk","IFK Borlänge",510,510,510,2,{"$f":"LOOKUP(H7,Poängberäkning!$B$6:$B$97,Poängberäkning!$C$6:$C$97)","v":80},2,{"$f":"LOOKUP(J7,Poängberäkning!$B$6:$B$97,Poängberäkning!$C$6:$C$97)","v":80},3,{"$f":"LOOKUP(L7,Poängberäkning!$B$6:$B$97,Poängberäkning!$C$6:$C$97)","v":70},1,{"$f":"LOOKUP(N7,Poängberäkning!$B$6:$B$97,Poängberäkning!$C$6:$C$97)","v":100},2,{"$f":"LOOKUP(P7,Poängberäkning!$B$6:$B$97,Poängberäkning!$C$6:$C$97)","v":80},1,{"$f":"LOOKUP(R7,Poängberäkning!$B$6:$B$97,Poängberäkning!$C$6:$C$97)","v":100},99,{"$f":"LOOKUP(T7,Poängberäkning!$B$6:$B$97,Poängberäkning!$C$6:$C$97)","v":0},99,{"$f":"LOOKUP(V7,Poängberäkning!$B$6:$B$97,Poängberäkning!$C$6:$C$97)","v":0},null,{"$f":"LOOKUP(X7,Poängberäkning!$B$6:$B$97,Poängberäkning!$C$6:$C$97)","v":0},null,{"$f":"LOOKUP(Z7,Poängberäkning!$B$6:$B$97,Poängberäkning!$C$6:$C$97)","v":0},null,{"$f":"LOOKUP(AB7,Poängberäkning!$B$6:$B$97,Poängberäkning!$C$6:$C$97)","v":0},null,{"$f":"LOOKUP(AD7,Poängberäkning!$B$6:$B$97,Poängberäkning!$C$6:$C$97)","v":0},null,{"$f":"LOOKUP(AF7,Poängberäkning!$B$6:$B$97,Poängberäkning!$C$6:$C$97)","v":0},null,{"$f":"LOOKUP(AH7,Poängberäkning!$B$6:$B$97,Poängberäkning!$C$6:$C$97)","v":0},null,{"$f":"LOOKUP(AJ7,Poängberäkning!$B$6:$B$97,Poängberäkning!$C$6:$C$97)","v":0},null,{"$f":"LOOKUP(AL7,Poängberäkning!$B$6:$B$97,Poängberäkning!$C$6:$C$97)","v":0},null,{"$f":"LOOKUP(AN7,Poängberäkning!$B$6:$B$97,Poängberäkning!$C$6:$C$97)","v":0},null,{"$f":"LOOKUP(AP7,Poängberäkning!$B$6:$B$97,Poängberäkning!$C$6:$C$97)","v":0},null,{"$f":"LOOKUP(AR7,Poängberäkning!$B$6:$B$97,Poängberäkning!$C$6:$C$97)","v":0},null,{"$f":"LOOKUP(AT7,Poängberäkning!$B$6:$B$97,Poängberäkning!$C$6:$C$97)","v":0},null,null,null,null,null,null,null,null,{"$f":"LARGE(($I7,$K7,$M7,$O7,$Q7,$S7,$U7,$W7,$Y7,$AA7,$AC7,$AE7,$AG7,$AI7,$AK7,$AM7,$AO7,$AQ7,$AS7,$AU7,$AW7,$AY7,$BA7,$BC7),1)","v":100},{"$f":"LARGE(($I7,$K7,$M7,$O7,$Q7,$S7,$U7,$W7,$Y7,$AA7,$AC7,$AE7,$AG7,$AI7,$AK7,$AM7,$AO7,$AQ7,$AS7,$AU7,$AW7,$AY7,$BA7,$BC7),2)","v":100},{"$f":"LARGE(($I7,$K7,$M7,$O7,$Q7,$S7,$U7,$W7,$Y7,$AA7,$AC7,$AE7,$AG7,$AI7,$AK7,$AM7,$AO7,$AQ7,$AS7,$AU7,$AW7,$AY7,$BA7,$BC7),3)","v":80},{"$f":"LARGE(($I7,$K7,$M7,$O7,$Q7,$S7,$U7,$W7,$Y7,$AA7,$AC7,$AE7,$AG7,$AI7,$AK7,$AM7,$AO7,$AQ7,$AS7,$AU7,$AW7,$AY7,$BA7,$BC7),4)","v":80},{"$f":"LARGE(($I7,$K7,$M7,$O7,$Q7,$S7,$U7,$W7,$Y7,$AA7,$AC7,$AE7,$AG7,$AI7,$AK7,$AM7,$AO7,$AQ7,$AS7,$AU7,$AW7,$AY7,$BA7,$BC7),5)","v":80},{"$f":"LARGE(($I7,$K7,$M7,$O7,$Q7,$S7,$U7,$W7,$Y7,$AA7,$AC7,$AE7,$AG7,$AI7,$AK7,$AM7,$AO7,$AQ7,$AS7,$AU7,$AW7,$AY7,$BA7,$BC7),6)","v":70},{"$f":"LARGE(($I7,$K7,$M7,$O7,$Q7,$S7,$U7,$W7,$Y7,$AA7,$AC7,$AE7,$AG7,$AI7,$AK7,$AM7,$AO7,$AQ7,$AS7,$AU7,$AW7,$AY7,$BA7,$BC7),7)","v":0},{"$f":"LARGE(($I7,$K7,$M7,$O7,$Q7,$S7,$U7,$W7,$Y7,$AA7,$AC7,$AE7,$AG7,$AI7,$AK7,$AM7,$AO7,$AQ7,$AS7,$AU7,$AW7,$AY7,$BA7,$BC7),8)","v":0},{"$f":"LARGE(($I7,$K7,$M7,$O7,$Q7,$S7,$U7,$W7,$Y7,$AA7,$AC7,$AE7,$AG7,$AI7,$AK7,$AM7,$AO7,$AQ7,$AS7,$AU7,$AW7,$AY7,$BA7,$BC7),9)","v":0},{"$f":"LARGE(($I7,$K7,$M7,$O7,$Q7,$S7,$U7,$W7,$Y7,$AA7,$AC7,$AE7,$AG7,$AI7,$AK7,$AM7,$AO7,$AQ7,$AS7,$AU7,$AW7,$AY7,$BA7,$BC7),10)","v":0}]
[4,2000,"Ebba Kling Andersson","IFK Borlänge",460,460,460,99,{"$f":"LOOKUP(H8,Poängberäkning!$B$6:$B$97,Poängberäkning!$C$6:$C$97)","v":0},4,{"$f":"LOOKUP(J8,Poängberäkning!$B$6:$B$97,Poängberäkning!$C$6:$C$97)","v":60},6,{"$f":"LOOKUP(L8,Poängberäkning!$B$6:$B$97,Poängberäkning!$C$6:$C$97)","v":50},3,{"$f":"LOOKUP(N8,Poängberäkning!$B$6:$B$97,Poängberäkning!$C$6:$C$97)","v":70},4,{"$f":"LOOKUP(P8,Poängberäkning!$B$6:$B$97,Poängberäkning!$C$6:$C$97)","v":60},3,{"$f":"LOOKUP(R8,Poängberäkning!$B$6:$B$97,Poängberäkning!$C$6:$C$97)","v":70},2,{"$f":"LOOKUP(T8,Poängberäkning!$B$6:$B$97,Poängberäkning!$C$6:$C$97)","v":80},3,{"$f":"LOOKUP(V8,Poängberäkning!$B$6:$B$97,Poängberäkning!$C$6:$C$97)","v":70},null,{"$f":"LOOKUP(X8,Poängberäkning!$B$6:$B$97,Poängberäkning!$C$6:$C$97)","v":0},null,{"$f":"LOOKUP(Z8,Poängberäkning!$B$6:$B$97,Poängberäkning!$C$6:$C$97)","v":0},null,{"$f":"LOOKUP(AB8,Poängberäkning!$B$6:$B$97,Poängberäkning!$C$6:$C$97)","v":0},null,{"$f":"LOOKUP(AD8,Poängberäkning!$B$6:$B$97,Poängberäkning!$C$6:$C$97)","v":0},null,{"$f":"LOOKUP(AF8,Poängberäkning!$B$6:$B$97,Poängberäkning!$C$6:$C$97)","v":0},null,{"$f":"LOOKUP(AH8,Poängberäkning!$B$6:$B$97,Poängberäkning!$C$6:$C$97)","v":0},null,{"$f":"LOOKUP(AJ8,Poängberäkning!$B$6:$B$97,Poängberäkning!$C$6:$C$97)","v":0},null,{"$f":"LOOKUP(AL8,Poängberäkning!$B$6:$B$97,Poängberäkning!$C$6:$C$97)","v":0},null,{"$f":"LOOKUP(AN8,Poängberäkning!$B$6:$B$97,Poängberäkning!$C$6:$C$97)","v":0},null,{"$f":"LOOKUP(AP8,Poängberäkning!$B$6:$B$97,Poängberäkning!$C$6:$C$97)","v":0},null,{"$f":"LOOKUP(AR8,Poängberäkning!$B$6:$B$97,Poängberäkning!$C$6:$C$97)","v":0},null,{"$f":"LOOKUP(AT8,Poängberäkning!$B$6:$B$97,Poängberäkning!$C$6:$C$97)","v":0},null,null,null,null,null,null,null,null,{"$f":"LARGE(($I8,$K8,$M8,$O8,$Q8,$S8,$U8,$W8,$Y8,$AA8,$AC8,$AE8,$AG8,$AI8,$AK8,$AM8,$AO8,$AQ8,$AS8,$AU8,$AW8,$AY8,$BA8,$BC8),1)","v":80},{"$f":"LARGE(($I8,$K8,$M8,$O8,$Q8,$S8,$U8,$W8,$Y8,$AA8,$AC8,$AE8,$AG8,$AI8,$AK8,$AM8,$AO8,$AQ8,$AS8,$AU8,$AW8,$AY8,$BA8,$BC8),2)","v":70},{"$f":"LARGE(($I8,$K8,$M8,$O8,$Q8,$S8,$U8,$W8,$Y8,$AA8,$AC8,$AE8,$AG8,$AI8,$AK8,$AM8,$AO8,$AQ8,$AS8,$AU8,$AW8,$AY8,$BA8,$BC8),3)","v":70},{"$f":"LARGE(($I8,$K8,$M8,$O8,$Q8,$S8,$U8,$W8,$Y8,$AA8,$AC8,$AE8,$AG8,$AI8,$AK8,$AM8,$AO8,$AQ8,$AS8,$AU8,$AW8,$AY8,$BA8,$BC8),4)","v":70},{"$f":"LARGE(($I8,$K8,$M8,$O8,$Q8,$S8,$U8,$W8,$Y8,$AA8,$AC8,$AE8,$AG8,$AI8,$AK8,$AM8,$AO8,$AQ8,$AS8,$AU8,$AW8,$AY8,$BA8,$BC8),5)","v":60},{"$f":"LARGE(($I8,$K8,$M8,$O8,$Q8,$S8,$U8,$W8,$Y8,$AA8,$AC8,$AE8,$AG8,$AI8,$AK8,$AM8,$AO8,$AQ8,$AS8,$AU8,$AW8,$AY8,$BA8,$BC8),6)","v":60},{"$f":"LARGE(($I8,$K8,$M8,$O8,$Q8,$S8,$U8,$W8,$Y8,$AA8,$AC8,$AE8,$AG8,$AI8,$AK8,$AM8,$AO8,$AQ8,$AS8,$AU8,$AW8,$AY8,$BA8,$BC8),7)","v":50},{"$f":"LARGE(($I8,$K8,$M8,$O8,$Q8,$S8,$U8,$W8,$Y8,$AA8,$AC8,$AE8,$AG8,$AI8,$AK8,$AM8,$AO8,$AQ8,$AS8,$AU8,$AW8,$AY8,$BA8,$BC8),8)","v":0},{"$f":"LARGE(($I8,$K8,$M8,$O8,$Q8,$S8,$U8,$W8,$Y8,$AA8,$AC8,$AE8,$AG8,$AI8,$AK8,$AM8,$AO8,$AQ8,$AS8,$AU8,$AW8,$AY8,$BA8,$BC8),9)","v":0},{"$f":"LARGE(($I8,$K8,$M8,$O8,$Q8,$S8,$U8,$W8,$Y8,$AA8,$AC8,$AE8,$AG8,$AI8,$AK8,$AM8,$AO8,$AQ8,$AS8,$AU8,$AW8,$AY8,$BA8,$BC8),10)","v":0}]
[5,2000,"Sofia Hedgren","Malungs SLK",395,395,395,5,{"$f":"LOOKUP(H9,Poängberäkning!$B$6:$B$97,Poängberäkning!$C$6:$C$97)","v":55},16,{"$f":"LOOKUP(J9,Poängberäkning!$B$6:$B$97,Poängberäkning!$C$6:$C$97)","v":35},7,{"$f":"LOOKUP(L9,Poängberäkning!$B$6:$B$97,Poängberäkning!$C$6:$C$97)","v":48},6,{"$f":"LOOKUP(N9,Poängberäkning!$B$6:$B$97,Poängberäkning!$C$6:$C$97)","v":50},9,{"$f":"LOOKUP(P9,Poängberäkning!$B$6:$B$97,Poängberäkning!$C$6:$C$97)","v":44},7,{"$f":"LOOKUP(R9,Poängberäkning!$B$6:$B$97,Poängberäkning!$C$6:$C$97)","v":48},4,{"$f":"LOOKUP(T9,Poängberäkning!$B$6:$B$97,Poängberäkning!$C$6:$C$97)","v":60},5,{"$f":"LOOKUP(V9,Poängberäkning!$B$6:$B$97,Poängberäkning!$C$6:$C$97)","v":55},null,{"$f":"LOOKUP(X9,Poängberäkning!$B$6:$B$97,Poängberäkning!$C$6:$C$97)","v":0},null,{"$f":"LOOKUP(Z9,Poängberäkning!$B$6:$B$97,Poängberäkning!$C$6:$C$97)","v":0},null,{"$f":"LOOKUP(AB9,Poängberäkning!$B$6:$B$97,Poängberäkning!$C$6:$C$97)","v":0},null,{"$f":"LOOKUP(AD9,Poängberäkning!$B$6:$B$97,Poängberäkning!$C$6:$C$97)","v":0},null,{"$f":"LOOKUP(AF9,Poängberäkning!$B$6:$B$97,Poängberäkning!$C$6:$C$97)","v":0},null,{"$f":"LOOKUP(AH9,Poängberäkning!$B$6:$B$97,Poängberäkning!$C$6:$C$97)","v":0},null,{"$f":"LOOKUP(AJ9,Poängberäkning!$B$6:$B$97,Poängberäkning!$C$6:$C$97)","v":0},null,{"$f":"LOOKUP(AL9,Poängberäkning!$B$6:$B$97,Poängberäkning!$C$6:$C$97)","v":0},null,{"$f":"LOOKUP(AN9,Poängberäkning!$B$6:$B$97,Poängberäkning!$C$6:$C$97)","v":0},null,{"$f":"LOOKUP(AP9,Poängberäkning!$B$6:$B$97,Poängberäkning!$C$6:$C$97)","v":0},null,{"$f":"LOOKUP(AR9,Poängberäkning!$B$6:$B$97,Poängberäkning!$C$6:$C$97)","v":0},null,{"$f":"LOOKUP(AT9,Poängberäkning!$B$6:$B$97,Poängberäkning!$C$6:$C$97)","v":0},null,null,null,null,null,null,null,null,{"$f":"LARGE(($I9,$K9,$M9,$O9,$Q9,$S9,$U9,$W9,$Y9,$AA9,$AC9,$AE9,$AG9,$AI9,$AK9,$AM9,$AO9,$AQ9,$AS9,$AU9,$AW9,$AY9,$BA9,$BC9),1)","v":60},{"$f":"LARGE(($I9,$K9,$M9,$O9,$Q9,$S9,$U9,$W9,$Y9,$AA9,$AC9,$AE9,$AG9,$AI9,$AK9,$AM9,$AO9,$AQ9,$AS9,$AU9,$AW9,$AY9,$BA9,$BC9),2)","v":55},{"$f":"LARGE(($I9,$K9,$M9,$O9,$Q9,$S9,$U9,$W9,$Y9,$AA9,$AC9,$AE9,$AG9,$AI9,$AK9,$AM9,$AO9,$AQ9,$AS9,$AU9,$AW9,$AY9,$BA9,$BC9),3)","v":55},{"$f":"LARGE(($I9,$K9,$M9,$O9,$Q9,$S9,$U9,$W9,$Y9,$AA9,$AC9,$AE9,$AG9,$AI9,$AK9,$AM9,$AO9,$AQ9,$AS9,$AU9,$AW9,$AY9,$BA9,$BC9),4)","v":50},{"$f":"LARGE(($I9,$K9,$M9,$O9,$Q9,$S9,$U9,$W9,$Y9,$AA9,$AC9,$AE9,$AG9,$AI9,$AK9,$AM9,$AO9,$AQ9,$AS9,$AU9,$AW9,$AY9,$BA9,$BC9),5)","v":48},{"$f":"LARGE(($I9,$K9,$M9,$O9,$Q9,$S9,$U9,$W9,$Y9,$AA9,$AC9,$AE9,$AG9,$AI9,$AK9,$AM9,$AO9,$AQ9,$AS9,$AU9,$AW9,$AY9,$BA9,$BC9),6)","v":48},{"$f":"LARGE(($I9,$K9,$M9,$O9,$Q9,$S9,$U9,$W9,$Y9,$AA9,$AC9,$AE9,$AG9,$AI9,$AK9,$AM9,$AO9,$AQ9,$AS9,$AU9,$AW9,$AY9,$BA9,$BC9),7)","v":44},{"$f":"LARGE(($I9,$K9,$M9,$O9,$Q9,$S9,$U9,$W9,$Y9,$AA9,$AC9,$AE9,$AG9,$AI9,$AK9,$AM9,$AO9,$AQ9,$AS9,$AU9,$AW9,$AY9,$BA9,$BC9),8)","v":35},{"$f":"LARGE(($I9,$K9,$M9,$O9,$Q9,$S9,$U9,$W9,$Y9,$AA9,$AC9,$AE9,$AG9,$AI9,$AK9,$AM9,$AO9,$AQ9,$AS9,$AU9,$AW9,$AY9,$BA9,$BC9),9)","v":0},{"$f":"LARGE(($I9,$K9,$M9,$O9,$Q9,$S9,$U9,$W9,$Y9,$AA9,$AC9,$AE9,$AG9,$AI9,$AK9,$AM9,$AO9,$AQ9,$AS9,$AU9,$AW9,$AY9,$BA9,$BC9),10)","v":0}]
[6,2000,"Emmy Westerlund","Malungs SLK",356,356,356,8,{"$f":"LOOKUP(H10,Poängberäkning!$B$6:$B$97,Poängberäkning!$C$6:$C$97)","v":46},13,{"$f":"LOOKUP(J10,Poängberäkning!$B$6:$B$97,Poängberäkning!$C$6:$C$97)","v":38},9,{"$f":"LOOKUP(L10,Poängberäkning!$B$6:$B$97,Poängberäkning!$C$6:$C$97)","v":44},10,{"$f":"LOOKUP(N10,Poängberäkning!$B$6:$B$97,Poängberäkning!$C$6:$C$97)","v":42},8,{"$f":"LOOKUP(P10,Poängberäkning!$B$6:$B$97,Poängberäkning!$C$6:$C$97)","v":46},8,{"$f":"LOOKUP(R10,Poängberäkning!$B$6:$B$97,Poängberäkning!$C$6:$C$97)","v":46},7,{"$f":"LOOKUP(T10,Poängberäkning!$B$6:$B$97,Poängberäkning!$C$6:$C$97)","v":48},8,{"$f":"LOOKUP(V10,Poängberäkning!$B$6:$B$97,Poängberäkning!$C$6:$C$97)","v":46},null,{"$f":"LOOKUP(X10,Poängberäkning!$B$6:$B$97,Poängberäkning!$C$6:$C$97)","v":0},null,{"$f":"LOOKUP(Z10,Poängberäkning!$B$6:$B$97,Poängberäkning!$C$6:$C$97)","v":0},null,{"$f":"LOOKUP(AB10,Poängberäkning!$B$6:$B$97,Poängberäkning!$C$6:$C$97)","v":0},null,{"$f":"LOOKUP(AD10,Poängberäkning!$B$6:$B$97,Poängberäkning!$C$6:$C$97)","v":0},null,{"$f":"LOOKUP(AF10,Poängberäkning!$B$6:$B$97,Poängberäkning!$C$6:$C$97)","v":0},null,{"$f":"LOOKUP(AH10,Poängberäkning!$B$6:$B$97,Poängberäkning!$C$6:$C$97)","v":0},null,{"$f":"LOOKUP(AJ10,Poängberäkning!$B$6:$B$97,Poängberäkning!$C$6:$C$97)","v":0},null,{"$f":"LOOKUP(AL10,Poängberäkning!$B$6:$B$97,Poängberäkning!$C$6:$C$97)","v":0},null,{"$f":"LOOKUP(AN10,Poängberäkning!$B$6:$B$97,Poängberäkning!$C$6:$C$97)","v":0},null,{"$f":"LOOKUP(AP10,Poängberäkning!$B$6:$B$97,Poängberäkning!$C$6:$C$97)","v":0},null,{"$f":"LOOKUP(AR10,Poängberäkning!$B$6:$B$97,Poängberäkning!$C$6:$C$97)","v":0},null,{"$f":"LOOKUP(AT10,Poängberäkning!$B$6:$B$97,Poängberäkning!$C$6:$C$97)","v":0},null,null,null,null,null,null,null,null,{"$f":"LARGE(($I10,$K10,$M10,$O10,$Q10,$S10,$U10,$W10,$Y10,$AA10,$AC10,$AE10,$AG10,$AI10,$AK10,$AM10,$AO10,$AQ10,$AS10,$AU10,$AW10,$AY10,$BA10,$BC10),1)","v":48},{"$f":"LARGE(($I10,$K10,$M10,$O10,$Q10,$S10,$U10,$W10,$Y10,$AA10,$AC10,$AE10,$AG10,$AI10,$AK10,$AM10,$AO10,$AQ10,$AS10,$AU10,$AW10,$AY10,$BA10,$BC10),2)","v":46},{"$f":"LARGE(($I10,$K10,$M10,$O10,$Q10,$S10,$U10,$W10,$Y10,$AA10,$AC10,$AE10,$AG10,$AI10,$AK10,$AM10,$AO10,$AQ10,$AS10,$AU10,$AW10,$AY10,$BA10,$BC10),3)","v":46},{"$f":"LARGE(($I10,$K10,$M10,$O10,$Q10,$S10,$U10,$W10,$Y10,$AA10,$AC10,$AE10,$AG10,$AI10,$AK10,$AM10,$AO10,$AQ10,$AS10,$AU10,$AW10,$AY10,$BA10,$BC10),4)","v":46},{"$f":"LARGE(($I10,$K10,$M10,$O10,$Q10,$S10,$U10,$W10,$Y10,$AA10,$AC10,$AE10,$AG10,$AI10,$AK10,$AM10,$AO10,$AQ10,$AS10,$AU10,$AW10,$AY10,$BA10,$BC10),5)","v":46},{"$f":"LARGE(($I10,$K10,$M10,$O10,$Q10,$S10,$U10,$W10,$Y10,$AA10,$AC10,$AE10,$AG10,$AI10,$AK10,$AM10,$AO10,$AQ10,$AS10,$AU10,$AW10,$AY10,$BA10,$BC10),6)","v":44},{"$f":"LARGE(($I10,$K10,$M10,$O10,$Q10,$S10,$U10,$W10,$Y10,$AA10,$AC10,$AE10,$AG10,$AI10,$AK10,$AM10,$AO10,$AQ10,$AS10,$AU10,$AW10,$AY10,$BA10,$BC10),7)","v":42},{"$f":"LARGE(($I10,$K10,$M10,$O10,$Q10,$S10,$U10,$W10,$Y10,$AA10,$AC10,$AE10,$AG10,$AI10,$AK10,$AM10,$AO10,$AQ10,$AS10,$AU10,$AW10,$AY10,$BA10,$BC10),8)","v":38},{"$f":"LARGE(($I10,$K10,$M10,$O10,$Q10,$S10,$U10,$W10,$Y10,$AA10,$AC10,$AE10,$AG10,$AI10,$AK10,$AM10,$AO10,$AQ10,$AS10,$AU10,$AW10,$AY10,$BA10,$BC10),9)","v":0},{"$f":"LARGE(($I10,$K10,$M10,$O10,$Q10,$S10,$U10,$W10,$Y10,$AA10,$AC10,$AE10,$AG10,$AI10,$AK10,$AM10,$AO10,$AQ10,$AS10,$AU10,$AW10,$AY10,$BA10,$BC10),10)","v":0}]
[7,2000,"Anna Jakobsson","Idre SK",323,323,323,6,{"$f":"LOOKUP(H11,Poängberäkning!$B$6:$B$97,Poängberäkning!$C$6:$C$97)","v":50},7,{"$f":"LOOKUP(J11,Poängberäkning!$B$6:$B$97,Poängberäkning!$C$6:$C$97)","v":48},99,{"$f":"LOOKUP(L11,Poängberäkning!$B$6:$B$97,Poängberäkning!$C$6:$C$97)","v":0},99,{"$f":"LOOKUP(N11,Poängberäkning!$B$6:$B$97,Poängberäkning!$C$6:$C$97)","v":0},5,{"$f":"LOOKUP(P11,Poängberäkning!$B$6:$B$97,Poängberäkning!$C$6:$C$97)","v":55},5,{"$f":"LOOKUP(R11,Poängberäkning!$B$6:$B$97,Poängberäkning!$C$6:$C$97)","v":55},5,{"$f":"LOOKUP(T11,Poängberäkning!$B$6:$B$97,Poängberäkning!$C$6:$C$97)","v":55},4,{"$f":"LOOKUP(V11,Poängberäkning!$B$6:$B$97,Poängberäkning!$C$6:$C$97)","v":60},null,{"$f":"LOOKUP(X11,Poängberäkning!$B$6:$B$97,Poängberäkning!$C$6:$C$97)","v":0},null,{"$f":"LOOKUP(Z11,Poängberäkning!$B$6:$B$97,Poängberäkning!$C$6:$C$97)","v":0},null,{"$f":"LOOKUP(AB11,Poängberäkning!$B$6:$B$97,Poängberäkning!$C$6:$C$97)","v":0},null,{"$f":"LOOKUP(AD11,Poängberäkning!$B$6:$B$97,Poängberäkning!$C$6:$C$97)","v":0},null,{"$f":"LOOKUP(AF11,Poängberäkning!$B$6:$B$97,Poängberäkning!$C$6:$C$97)","v":0},null,{"$f":"LOOKUP(AH11,Poängberäkning!$B$6:$B$97,Poängberäkning!$C$6:$C$97)","v":0},null,{"$f":"LOOKUP(AJ11,Poängberäkning!$B$6:$B$97,Poängberäkning!$C$6:$C$97)","v":0},null,{"$f":"LOOKUP(AL11,Poängberäkning!$B$6:$B$97,Poängberäkning!$C$6:$C$97)","v":0},null,{"$f":"LOOKUP(AN11,Poängberäkning!$B$6:$B$97,Poängberäkning!$C$6:$C$97)","v":0},null,{"$f":"LOOKUP(AP11,Poängberäkning!$B$6:$B$97,Poängberäkning!$C$6:$C$97)","v":0},null,{"$f":"LOOKUP(AR11,Poängberäkning!$B$6:$B$97,Poängberäkning!$C$6:$C$97)","v":0},null,{"$f":"LOOKUP(AT11,Poängberäkning!$B$6:$B$97,Poängberäkning!$C$6:$C$97)","v":0},null,null,null,null,null,null,null,null,{"$f":"LARGE(($I11,$K11,$M11,$O11,$Q11,$S11,$U11,$W11,$Y11,$AA11,$AC11,$AE11,$AG11,$AI11,$AK11,$AM11,$AO11,$AQ11,$AS11,$AU11,$AW11,$AY11,$BA11,$BC11),1)","v":60},{"$f":"LARGE(($I11,$K11,$M11,$O11,$Q11,$S11,$U11,$W11,$Y11,$AA11,$AC11,$AE11,$AG11,$AI11,$AK11,$AM11,$AO11,$AQ11,$AS11,$AU11,$AW11,$AY11,$BA11,$BC11),2)","v":55},{"$f":"LARGE(($I11,$K11,$M11,$O11,$Q11,$S11,$U11,$W11,$Y11,$AA11,$AC11,$AE11,$AG11,$AI11,$AK11,$AM11,$AO11,$AQ11,$AS11,$AU11,$AW11,$AY11,$BA11,$BC11),3)","v":55},{"$f":"LARGE(($I11,$K11,$M11,$O11,$Q11,$S11,$U11,$W11,$Y11,$AA11,$AC11,$AE11,$AG11,$AI11,$AK11,$AM11,$AO11,$AQ11,$AS11,$AU11,$AW11,$AY11,$BA11,$BC11),4)","v":55},{"$f":"LARGE(($I11,$K11,$M11,$O11,$Q11,$S11,$U11,$W11,$Y11,$AA11,$AC11,$AE11,$AG11,$AI11,$AK11,$AM11,$AO11,$AQ11,$AS11,$AU11,$AW11,$AY11,$BA11,$BC11),5)","v":50},{"$f":"LARGE(($I11,$K11,$M11,$O11,$Q11,$S11,$U11,$W11,$Y11,$AA11,$AC11,$AE11,$AG11,$AI11,$AK11,$AM11,$AO11,$AQ11,$AS11,$AU11,$AW11,$AY11,$BA11,$BC11),6)","v":48},{"$f":"LARGE(($I11,$K11,$M11,$O11,$Q11,$S11,$U11,$W11,$Y11,$AA11,$AC11,$AE11,$AG11,$AI11,$AK11,$AM11,$AO11,$AQ11,$AS11,$AU11,$AW11,$AY11,$BA11,$BC11),7)","v":0},{"$f":"LARGE(($I11,$K11,$M11,$O11,$Q11,$S11,$U11,$W11,$Y11,$AA11,$AC11,$AE11,$AG11,$AI11,$AK11,$AM11,$AO11,$AQ11,$AS11,$AU11,$AW11,$AY11,$BA11,$BC11),8)","v":0},{"$f":"LARGE(($I11,$K11,$M11,$O11,$Q11,$S11,$U11,$W11,$Y11,$AA11,$AC11,$AE11,$AG11,$AI11,$AK11,$AM11,$AO11,$AQ11,$AS11,$AU11,$AW11,$AY11,$BA11,$BC11),9)","v":0},{"$f":"LARGE(($I11,$K11,$M11,$O11,$Q11,$S11,$U11,$W11,$Y11,$AA11,$AC11,$AE11,$AG11,$AI11,$AK11,$AM11,$AO11,$AQ11,$AS11,$AU11,$AW11,$AY11,$BA11,$BC11),10)","v":0}]
[8,2000,"Hanna Flodberg","IFK Falun",306,306,306,7,{"$f":"LOOKUP(H12,Poängberäkning!$B$6:$B$97,Poängberäkning!$C$6:$C$97)","v":48},12,{"$f":"LOOKUP(J12,Poängberäkning!$B$6:$B$97,Poängberäkning!$C$6:$C$97)","v":39},14,{"$f":"LOOKUP(L12,Poängberäkning!$B$6:$B$97,Poängberäkning!$C$6:$C$97)","v":37},13,{"$f":"LOOKUP(N12,Poängberäkning!$B$6:$B$97,Poängberäkning!$C$6:$C$97)","v":38},99,{"$f":"LOOKUP(P12,Poängberäkning!$B$6:$B$97,Poängberäkning!$C$6:$C$97)","v":0},6,{"$f":"LOOKUP(R12,Poängberäkning!$B$6:$B$97,Poängberäkning!$C$6:$C$97)","v":50},6,{"$f":"LOOKUP(T12,Poängberäkning!$B$6:$B$97,Poängberäkning!$C$6:$C$97)","v":50},9,{"$f":"LOOKUP(V12,Poängberäkning!$B$6:$B$97,Poängberäkning!$C$6:$C$97)","v":44},null,{"$f":"LOOKUP(X12,Poängberäkning!$B$6:$B$97,Poängberäkning!$C$6:$C$97)","v":0},null,{"$f":"LOOKUP(Z12,Poängberäkning!$B$6:$B$97,Poängberäkning!$C$6:$C$97)","v":0},null,{"$f":"LOOKUP(AB12,Poängberäkning!$B$6:$B$97,Poängberäkning!$C$6:$C$97)","v":0},null,{"$f":"LOOKUP(AD12,Poängberäkning!$B$6:$B$97,Poängberäkning!$C$6:$C$97)","v":0},null,{"$f":"LOOKUP(AF12,Poängberäkning!$B$6:$B$97,Poängberäkning!$C$6:$C$97)","v":0},null,{"$f":"LOOKUP(AH12,Poängberäkning!$B$6:$B$97,Poängberäkning!$C$6:$C$97)","v":0},null,{"$f":"LOOKUP(AJ12,Poängberäkning!$B$6:$B$97,Poängberäkning!$C$6:$C$97)","v":0},null,{"$f":"LOOKUP(AL12,Poängberäkning!$B$6:$B$97,Poängberäkning!$C$6:$C$97)","v":0},null,{"$f":"LOOKUP(AN12,Poängberäkning!$B$6:$B$97,Poängberäkning!$C$6:$C$97)","v":0},null,{"$f":"LOOKUP(AP12,Poängberäkning!$B$6:$B$97,Poängberäkning!$C$6:$C$97)","v":0},null,{"$f":"LOOKUP(AR12,Poängberäkning!$B$6:$B$97,Poängberäkning!$C$6:$C$97)","v":0},null,{"$f":"LOOKUP(AT12,Poängberäkning!$B$6:$B$97,Poängberäkning!$C$6:$C$97)","v":0},null,null,null,null,null,null,null,null,{"$f":"LARGE(($I12,$K12,$M12,$O12,$Q12,$S12,$U12,$W12,$Y12,$AA12,$AC12,$AE12,$AG12,$AI12,$AK12,$AM12,$AO12,$AQ12,$AS12,$AU12,$AW12,$AY12,$BA12,$BC12),1)","v":50},{"$f":"LARGE(($I12,$K12,$M12,$O12,$Q12,$S12,$U12,$W12,$Y12,$AA12,$AC12,$AE12,$AG12,$AI12,$AK12,$AM12,$AO12,$AQ12,$AS12,$AU12,$AW12,$AY12,$BA12,$BC12),2)","v":50},{"$f":"LARGE(($I12,$K12,$M12,$O12,$Q12,$S12,$U12,$W12,$Y12,$AA12,$AC12,$AE12,$AG12,$AI12,$AK12,$AM12,$AO12,$AQ12,$AS12,$AU12,$AW12,$AY12,$BA12,$BC12),3)","v":48},{"$f":"LARGE(($I12,$K12,$M12,$O12,$Q12,$S12,$U12,$W12,$Y12,$AA12,$AC12,$AE12,$AG12,$AI12,$AK12,$AM12,$AO12,$AQ12,$AS12,$AU12,$AW12,$AY12,$BA12,$BC12),4)","v":44},{"$f":"LARGE(($I12,$K12,$M12,$O12,$Q12,$S12,$U12,$W12,$Y12,$AA12,$AC12,$AE12,$AG12,$AI12,$AK12,$AM12,$AO12,$AQ12,$AS12,$AU12,$AW12,$AY12,$BA12,$BC12),5)","v":39},{"$f":"LARGE(($I12,$K12,$M12,$O12,$Q12,$S12,$U12,$W12,$Y12,$AA12,$AC12,$AE12,$AG12,$AI12,$AK12,$AM12,$AO12,$AQ12,$AS12,$AU12,$AW12,$AY12,$BA12,$BC12),6)","v":38},{"$f":"LARGE(($I12,$K12,$M12,$O12,$Q12,$S12,$U12,$W12,$Y12,$AA12,$AC12,$AE12,$AG12,$AI12,$AK12,$AM12,$AO12,$AQ12,$AS12,$AU12,$AW12,$AY12,$BA12,$BC12),7)","v":37},{"$f":"LARGE(($I12,$K12,$M12,$O12,$Q12,$S12,$U12,$W12,$Y12,$AA12,$AC12,$AE12,$AG12,$AI12,$AK12,$AM12,$AO12,$AQ12,$AS12,$AU12,$AW12,$AY12,$BA12,$BC12),8)","v":0},{"$f":"LARGE(($I12,$K12,$M12,$O12,$Q12,$S12,$U12,$W12,$Y12,$AA12,$AC12,$AE12,$AG12,$AI12,$AK12,$AM12,$AO12,$AQ12,$AS12,$AU12,$AW12,$AY12,$BA12,$BC12),9)","v":0},{"$f":"LARGE(($I12,$K12,$M12,$O12,$Q12,$S12,$U12,$W12,$Y12,$AA12,$AC12,$AE12,$AG12,$AI12,$AK12,$AM12,$AO12,$AQ12,$AS12,$AU12,$AW12,$AY12,$BA12,$BC12),10)","v":0}]
[9,2000,"Linn Askman","Valfjällets SLK",289,289,289,99,{"$f":"LOOKUP(H13,Poängberäkning!$B$6:$B$97,Poängberäkning!$C$6:$C$97)","v":0},5,{"$f":"LOOKUP(J13,Poängberäkning!$B$6:$B$97,Poängberäkning!$C$6:$C$97)","v":55},8,{"$f":"LOOKUP(L13,Poängberäkning!$B$6:$B$97,Poängberäkning!$C$6:$C$97)","v":46},7,{"$f":"LOOKUP(N13,Poängberäkning!$B$6:$B$97,Poängberäkning!$C$6:$C$97)","v":48},7,{"$f":"LOOKUP(P13,Poängberäkning!$B$6:$B$97,Poängberäkning!$C$6:$C$97)","v":48},9,{"$f":"LOOKUP(R13,Poängberäkning!$B$6:$B$97,Poängberäkning!$C$6:$C$97)","v":44},99,{"$f":"LOOKUP(T13,Poängberäkning!$B$6:$B$97,Poängberäkning!$C$6:$C$97)","v":0},7,{"$f":"LOOKUP(V13,Poängberäkning!$B$6:$B$97,Poängberäkning!$C$6:$C$97)","v":48},null,{"$f":"LOOKUP(X13,Poängberäkning!$B$6:$B$97,Poängberäkning!$C$6:$C$97)","v":0},null,{"$f":"LOOKUP(Z13,Poängberäkning!$B$6:$B$97,Poängberäkning!$C$6:$C$97)","v":0},null,{"$f":"LOOKUP(AB13,Poängberäkning!$B$6:$B$97,Poängberäkning!$C$6:$C$97)","v":0},null,{"$f":"LOOKUP(AD13,Poängberäkning!$B$6:$B$97,Poängberäkning!$C$6:$C$97)","v":0},null,{"$f":"LOOKUP(AF13,Poängberäkning!$B$6:$B$97,Poängberäkning!$C$6:$C$97)","v":0},null,{"$f":"LOOKUP(AH13,Poängberäkning!$B$6:$B$97,Poängberäkning!$C$6:$C$97)","v":0},null,{"$f":"LOOKUP(AJ13,Poängberäkning!$B$6:$B$97,Poängberäkning!$C$6:$C$97)","v":0},null,{"$f":"LOOKUP(AL13,Poängberäkning!$B$6:$B$97,Poängberäkning!$C$6:$C$97)","v":0},null,{"$f":"LOOKUP(AN13,Poängberäkning!$B$6:$B$97,Poängberäkning!$C$6:$C$97)","v":0},null,{"$f":"LOOKUP(AP13,Poängberäkning!$B$6:$B$97,Poängberäkning!$C$6:$C$97)","v":0},null,{"$f":"LOOKUP(AR13,Poängberäkning!$B$6:$B$97,Poängberäkning!$C$6:$C$97)","v":0},null,{"$f":"LOOKUP(AT13,Poängberäkning!$B$6:$B$97,Poängberäkning!$C$6:$C$97)","v":0},null,null,null,null,null,null,null,null,{"$f":"LARGE(($I13,$K13,$M13,$O13,$Q13,$S13,$U13,$W13,$Y13,$AA13,$AC13,$AE13,$AG13,$AI13,$AK13,$AM13,$AO13,$AQ13,$AS13,$AU13,$AW13,$AY13,$BA13,$BC13),1)","v":55},{"$f":"LARGE(($I13,$K13,$M13,$O13,$Q13,$S13,$U13,$W13,$Y13,$AA13,$AC13,$AE13,$AG13,$AI13,$AK13,$AM13,$AO13,$AQ13,$AS13,$AU13,$AW13,$AY13,$BA13,$BC13),2)","v":48},{"$f":"LARGE(($I13,$K13,$M13,$O13,$Q13,$S13,$U13,$W13,$Y13,$AA13,$AC13,$AE13,$AG13,$AI13,$AK13,$AM13,$AO13,$AQ13,$AS13,$AU13,$AW13,$AY13,$BA13,$BC13),3)","v":48},{"$f":"LARGE(($I13,$K13,$M13,$O13,$Q13,$S13,$U13,$W13,$Y13,$AA13,$AC13,$AE13,$AG13,$AI13,$AK13,$AM13,$AO13,$AQ13,$AS13,$AU13,$AW13,$AY13,$BA13,$BC13),4)","v":48},{"$f":"LARGE(($I13,$K13,$M13,$O13,$Q13,$S13,$U13,$W13,$Y13,$AA13,$AC13,$AE13,$AG13,$AI13,$AK13,$AM13,$AO13,$AQ13,$AS13,$AU13,$AW13,$AY13,$BA13,$BC13),5)","v":46},{"$f":"LARGE(($I13,$K13,$M13,$O13,$Q13,$S13,$U13,$W13,$Y13,$AA13,$AC13,$AE13,$AG13,$AI13,$AK13,$AM13,$AO13,$AQ13,$AS13,$AU13,$AW13,$AY13,$BA13,$BC13),6)","v":44},{"$f":"LARGE(($I13,$K13,$M13,$O13,$Q13,$S13,$U13,$W13,$Y13,$AA13,$AC13,$AE13,$AG13,$AI13,$AK13,$AM13,$AO13,$AQ13,$AS13,$AU13,$AW13,$AY13,$BA13,$BC13),7)","v":0},{"$f":"LARGE(($I13,$K13,$M13,$O13,$Q13,$S13,$U13,$W13,$Y13,$AA13,$AC13,$AE13,$AG13,$AI13,$AK13,$AM13,$AO13,$AQ13,$AS13,$AU13,$AW13,$AY13,$BA13,$BC13),8)","v":0},{"$f":"LARGE(($I13,$K13,$M13,$O13,$Q13,$S13,$U13,$W13,$Y13,$AA13,$AC13,$AE13,$AG13,$AI13,$AK13,$AM13,$AO13,$AQ13,$AS13,$AU13,$AW13,$AY13,$BA13,$BC13),9)","v":0},{"$f":"LARGE(($I13,$K13,$M13,$O13,$Q13,$S13,$U13,$W13,$Y13,$AA13,$AC13,$AE13,$AG13,$AI13,$AK13,$AM13,$AO13,$AQ13,$AS13,$AU13,$AW13,$AY13,$BA13,$BC13),10)","v":0}]
[10,2000,"Olivia Ederström","Kungsbergets AK",276,276,276,15,{"$f":"LOOKUP(H14,Poängberäkning!$B$6:$B$97,Poängberäkning!$C$6:$C$97)","v":36},9,{"$f":"LOOKUP(J14,Poängberäkning!$B$6:$B$97,Poängberäkning!$C$6:$C$97)","v":44},11,{"$f":"LOOKUP(L14,Poängberäkning!$B$6:$B$97,Poängberäkning!$C$6:$C$97)","v":40},99,{"$f":"LOOKUP(N14,Poängberäkning!$B$6:$B$97,Poängberäkning!$C$6:$C$97)","v":0},11,{"$f":"LOOKUP(P14,Poängberäkning!$B$6:$B$97,Poängberäkning!$C$6:$C$97)","v":40},13,{"$f":"LOOKUP(R14,Poängberäkning!$B$6:$B$97,Poängberäkning!$C$6:$C$97)","v":38},12,{"$f":"LOOKUP(T14,Poängberäkning!$B$6:$B$97,Poängberäkning!$C$6:$C$97)","v":39},12,{"$f":"LOOKUP(V14,Poängberäkning!$B$6:$B$97,Poängberäkning!$C$6:$C$97)","v":39},null,{"$f":"LOOKUP(X14,Poängberäkning!$B$6:$B$97,Poängberäkning!$C$6:$C$97)","v":0},null,{"$f":"LOOKUP(Z14,Poängberäkning!$B$6:$B$97,Poängberäkning!$C$6:$C$97)","v":0},null,{"$f":"LOOKUP(AB14,Poängberäkning!$B$6:$B$97,Poängberäkning!$C$6:$C$97)","v":0},null,{"$f":"LOOKUP(AD14,Poängberäkning!$B$6:$B$97,Poängberäkning!$C$6:$C$97)","v":0},null,{"$f":"LOOKUP(AF14,Poängberäkning!$B$6:$B$97,Poängberäkning!$C$6:$C$97)","v":0},null,{"$f":"LOOKUP(AH14,Poängberäkning!$B$6:$B$97,Poängberäkning!$C$6:$C$97)","v":0},null,{"$f":"LOOKUP(AJ14,Poängberäkning!$B$6:$B$97,Poängberäkning!$C$6:$C$97)","v":0},null,{"$f":"LOOKUP(AL14,Poängberäkning!$B$6:$B$97,Poängberäkning!$C$6:$C$97)","v":0},null,{"$f":"LOOKUP(AN14,Poängberäkning!$B$6:$B$97,Poängberäkning!$C$6:$C$97)","v":0},null,{"$f":"LOOKUP(AP14,Poängberäkning!$B$6:$B$97,Poängberäkning!$C$6:$C$97)","v":0},null,{"$f":"LOOKUP(AR14,Poängberäkning!$B$6:$B$97,Poängberäkning!$C$6:$C$97)","v":0},null,{"$f":"LOOKUP(AT14,Poängberäkning!$B$6:$B$97,Poängberäkning!$C$6:$C$97)","v":0},null,null,null,null,null,null,null,null,{"$f":"LARGE(($I14,$K14,$M14,$O14,$Q14,$S14,$U14,$W14,$Y14,$AA14,$AC14,$AE14,$AG14,$AI14,$AK14,$AM14,$AO14,$AQ14,$AS14,$AU14,$AW14,$AY14,$BA14,$BC14),1)","v":44},{"$f":"LARGE(($I14,$K14,$M14,$O14,$Q14,$S14,$U14,$W14,$Y14,$AA14,$AC14,$AE14,$AG14,$AI14,$AK14,$AM14,$AO14,$AQ14,$AS14,$AU14,$AW14,$AY14,$BA14,$BC14),2)","v":40},{"$f":"LARGE(($I14,$K14,$M14,$O14,$Q14,$S14,$U14,$W14,$Y14,$AA14,$AC14,$AE14,$AG14,$AI14,$AK14,$AM14,$AO14,$AQ14,$AS14,$AU14,$AW14,$AY14,$BA14,$BC14),3)","v":40},{"$f":"LARGE(($I14,$K14,$M14,$O14,$Q14,$S14,$U14,$W14,$Y14,$AA14,$AC14,$AE14,$AG14,$AI14,$AK14,$AM14,$AO14,$AQ14,$AS14,$AU14,$AW14,$AY14,$BA14,$BC14),4)","v":39},{"$f":"LARGE(($I14,$K14,$M14,$O14,$Q14,$S14,$U14,$W14,$Y14,$AA14,$AC14,$AE14,$AG14,$AI14,$AK14,$AM14,$AO14,$AQ14,$AS14,$AU14,$AW14,$AY14,$BA14,$BC14),5)","v":39},{"$f":"LARGE(($I14,$K14,$M14,$O14,$Q14,$S14,$U14,$W14,$Y14,$AA14,$AC14,$AE14,$AG14,$AI14,$AK14,$AM14,$AO14,$AQ14,$AS14,$AU14,$AW14,$AY14,$BA14,$BC14),6)","v":38},{"$f":"LARGE(($I14,$K14,$M14,$O14,$Q14,$S14,$U14,$W14,$Y14,$AA14,$AC14,$AE14,$AG14,$AI14,$AK14,$AM14,$AO14,$AQ14,$AS14,$AU14,$AW14,$AY14,$BA14,$BC14),7)","v":36},{"$f":"LARGE(($I14,$K14,$M14,$O14,$Q14,$S14,$U14,$W14,$Y14,$AA14,$AC14,$AE14,$AG14,$AI14,$AK14,$AM14,$AO14,$AQ14,$AS14,$AU14,$AW14,$AY14,$BA14,$BC14),8)","v":0},{"$f":"LARGE(($I14,$K14,$M14,$O14,$Q14,$S14,$U14,$W14,$Y14,$AA14,$AC14,$AE14,$AG14,$AI14,$AK14,$AM14,$AO14,$AQ14,$AS14,$AU14,$AW14,$AY14,$BA14,$BC14),9)","v":0},{"$f":"LARGE(($I14,$K14,$M14,$O14,$Q14,$S14,$U14,$W14,$Y14,$AA14,$AC14,$AE14,$AG14,$AI14,$AK14,$AM14,$AO14,$AQ14,$AS14,$AU14,$AW14,$AY14,$BA14,$BC14),10)","v":0}]
[11,2000,"Emelie Ederborn","Idre SK",273,273,273,4,{"$f":"LOOKUP(H15,Poängberäkning!$B$6:$B$97,Poängberäkning!$C$6:$C$97)","v":60},15,{"$f":"LOOKUP(J15,Poängberäkning!$B$6:$B$97,Poängberäkning!$C$6:$C$97)","v":36},13,{"$f":"LOOKUP(L15,Poängberäkning!$B$6:$B$97,Poängberäkning!$C$6:$C$97)","v":38},12,{"$f":"LOOKUP(N15,Poängberäkning!$B$6:$B$97,Poängberäkning!$C$6:$C$97)","v":39},6,{"$f":"LOOKUP(P15,Poängberäkning!$B$6:$B$97,Poängberäkning!$C$6:$C$97)","v":50},99,{"$f":"LOOKUP(R15,Poängberäkning!$B$6:$B$97,Poängberäkning!$C$6:$C$97)","v":0},99,{"$f":"LOOKUP(T15,Poängberäkning!$B$6:$B$97,Poängberäkning!$C$6:$C$97)","v":0},6,{"$f":"LOOKUP(V15,Poängberäkning!$B$6:$B$97,Poängberäkning!$C$6:$C$97)","v":50},null,{"$f":"LOOKUP(X15,Poängberäkning!$B$6:$B$97,Poängberäkning!$C$6:$C$97)","v":0},null,{"$f":"LOOKUP(Z15,Poängberäkning!$B$6:$B$97,Poängberäkning!$C$6:$C$97)","v":0},null,{"$f":"LOOKUP(AB15,Poängberäkning!$B$6:$B$97,Poängberäkning!$C$6:$C$97)","v":0},null,{"$f":"LOOKUP(AD15,Poängberäkning!$B$6:$B$97,Poängberäkning!$C$6:$C$97)","v":0},null,{"$f":"LOOKUP(AF15,Poängberäkning!$B$6:$B$97,Poängberäkning!$C$6:$C$97)","v":0},null,{"$f":"LOOKUP(AH15,Poängberäkning!$B$6:$B$97,Poängberäkning!$C$6:$C$97)","v":0},null,{"$f":"LOOKUP(AJ15,Poängberäkning!$B$6:$B$97,Poängberäkning!$C$6:$C$97)","v":0},null,{"$f":"LOOKUP(AL15,Poängberäkning!$B$6:$B$97,Poängberäkning!$C$6:$C$97)","v":0},null,{"$f":"LOOKUP(AN15,Poängberäkning!$B$6:$B$97,Poängberäkning!$C$6:$C$97)","v":0},null,{"$f":"LOOKUP(AP15,Poängberäkning!$B$6:$B$97,Poängberäkning!$C$6:$C$97)","v":0},null,{"$f":"LOOKUP(AR15,Poängberäkning!$B$6:$B$97,Poängberäkning!$C$6:$C$97)","v":0},null,{"$f":"LOOKUP(AT15,Poängberäkning!$B$6:$B$97,Poängberäkning!$C$6:$C$97)","v":0},null,null,null,null,null,null,null,null,{"$f":"LARGE(($I15,$K15,$M15,$O15,$Q15,$S15,$U15,$W15,$Y15,$AA15,$AC15,$AE15,$AG15,$AI15,$AK15,$AM15,$AO15,$AQ15,$AS15,$AU15,$AW15,$AY15,$BA15,$BC15),1)","v":60},{"$f":"LARGE(($I15,$K15,$M15,$O15,$Q15,$S15,$U15,$W15,$Y15,$AA15,$AC15,$AE15,$AG15,$AI15,$AK15,$AM15,$AO15,$AQ15,$AS15,$AU15,$AW15,$AY15,$BA15,$BC15),2)","v":50},{"$f":"LARGE(($I15,$K15,$M15,$O15,$Q15,$S15,$U15,$W15,$Y15,$AA15,$AC15,$AE15,$AG15,$AI15,$AK15,$AM15,$AO15,$AQ15,$AS15,$AU15,$AW15,$AY15,$BA15,$BC15),3)","v":50},{"$f":"LARGE(($I15,$K15,$M15,$O15,$Q15,$S15,$U15,$W15,$Y15,$AA15,$AC15,$AE15,$AG15,$AI15,$AK15,$AM15,$AO15,$AQ15,$AS15,$AU15,$AW15,$AY15,$BA15,$BC15),4)","v":39},{"$f":"LARGE(($I15,$K15,$M15,$O15,$Q15,$S15,$U15,$W15,$Y15,$AA15,$AC15,$AE15,$AG15,$AI15,$AK15,$AM15,$AO15,$AQ15,$AS15,$AU15,$AW15,$AY15,$BA15,$BC15),5)","v":38},{"$f":"LARGE(($I15,$K15,$M15,$O15,$Q15,$S15,$U15,$W15,$Y15,$AA15,$AC15,$AE15,$AG15,$AI15,$AK15,$AM15,$AO15,$AQ15,$AS15,$AU15,$AW15,$AY15,$BA15,$BC15),6)","v":36},{"$f":"LARGE(($I15,$K15,$M15,$O15,$Q15,$S15,$U15,$W15,$Y15,$AA15,$AC15,$AE15,$AG15,$AI15,$AK15,$AM15,$AO15,$AQ15,$AS15,$AU15,$AW15,$AY15,$BA15,$BC15),7)","v":0},{"$f":"LARGE(($I15,$K15,$M15,$O15,$Q15,$S15,$U15,$W15,$Y15,$AA15,$AC15,$AE15,$AG15,$AI15,$AK15,$AM15,$AO15,$AQ15,$AS15,$AU15,$AW15,$AY15,$BA15,$BC15),8)","v":0},{"$f":"LARGE(($I15,$K15,$M15,$O15,$Q15,$S15,$U15,$W15,$Y15,$AA15,$AC15,$AE15,$AG15,$AI15,$AK15,$AM15,$AO15,$AQ15,$AS15,$AU15,$AW15,$AY15,$BA15,$BC15),9)","v":0},{"$f":"LARGE(($I15,$K15,$M15,$O15,$Q15,$S15,$U15,$W15,$Y15,$AA15,$AC15,$AE15,$AG15,$AI15,$AK15,$AM15,$AO15,$AQ15,$AS15,$AU15,$AW15,$AY15,$BA15,$BC15),10)","v":0}]
[12,2000,"Lisa Tegnhed","Karlstads SLK",255,255,255,14,{"$f":"LOOKUP(H16,Poängberäkning!$B$6:$B$97,Poängberäkning!$C$6:$C$97)","v":37},21,{"$f":"LOOKUP(J16,Poängberäkning!$B$6:$B$97,Poängberäkning!$C$6:$C$97)","v":30},17,{"$f":"LOOKUP(L16,Poängberäkning!$B$6:$B$97,Poängberäkning!$C$6:$C$97)","v":34},17,{"$f":"LOOKUP(N16,Poängberäkning!$B$6:$B$97,Poängberäkning!$C$6:$C$97)","v":34},13,{"$f":"LOOKUP(P16,Poängberäkning!$B$6:$B$97,Poängberäkning!$C$6:$C$97)","v":38},11,{"$f":"LOOKUP(R16,Poängberäkning!$B$6:$B$97,Poängberäkning!$C$6:$C$97)","v":40},99,{"$f":"LOOKUP(T16,Poängberäkning!$B$6:$B$97,Poängberäkning!$C$6:$C$97)","v":0},10,{"$f":"LOOKUP(V16,Poängberäkning!$B$6:$B$97,Poängberäkning!$C$6:$C$97)","v":42},null,{"$f":"LOOKUP(X16,Poängberäkning!$B$6:$B$97,Poängberäkning!$C$6:$C$97)","v":0},null,{"$f":"LOOKUP(Z16,Poängberäkning!$B$6:$B$97,Poängberäkning!$C$6:$C$97)","v":0},null,{"$f":"LOOKUP(AB16,Poängberäkning!$B$6:$B$97,Poängberäkning!$C$6:$C$97)","v":0},null,{"$f":"LOOKUP(AD16,Poängberäkning!$B$6:$B$97,Poängberäkning!$C$6:$C$97)","v":0},null,{"$f":"LOOKUP(AF16,Poängberäkning!$B$6:$B$97,Poängberäkning!$C$6:$C$97)","v":0},null,{"$f":"LOOKUP(AH16,Poängberäkning!$B$6:$B$97,Poängberäkning!$C$6:$C$97)","v":0},null,{"$f":"LOOKUP(AJ16,Poängberäkning!$B$6:$B$97,Poängberäkning!$C$6:$C$97)","v":0},null,{"$f":"LOOKUP(AL16,Poängberäkning!$B$6:$B$97,Poängberäkning!$C$6:$C$97)","v":0},null,{"$f":"LOOKUP(AN16,Poängberäkning!$B$6:$B$97,Poängberäkning!$C$6:$C$97)","v":0},null,{"$f":"LOOKUP(AP16,Poängberäkning!$B$6:$B$97,Poängberäkning!$C$6:$C$97)","v":0},null,{"$f":"LOOKUP(AR16,Poängberäkning!$B$6:$B$97,Poängberäkning!$C$6:$C$97)","v":0},null,{"$f":"LOOKUP(AT16,Poängberäkning!$B$6:$B$97,Poängberäkning!$C$6:$C$97)","v":0},null,null,null,null,null,null,null,null,{"$f":"LARGE(($I16,$K16,$M16,$O16,$Q16,$S16,$U16,$W16,$Y16,$AA16,$AC16,$AE16,$AG16,$AI16,$AK16,$AM16,$AO16,$AQ16,$AS16,$AU16,$AW16,$AY16,$BA16,$BC16),1)","v":42},{"$f":"LARGE(($I16,$K16,$M16,$O16,$Q16,$S16,$U16,$W16,$Y16,$AA16,$AC16,$AE16,$AG16,$AI16,$AK16,$AM16,$AO16,$AQ16,$AS16,$AU16,$AW16,$AY16,$BA16,$BC16),2)","v":40},{"$f":"LARGE(($I16,$K16,$M16,$O16,$Q16,$S16,$U16,$W16,$Y16,$AA16,$AC16,$AE16,$AG16,$AI16,$AK16,$AM16,$AO16,$AQ16,$AS16,$AU16,$AW16,$AY16,$BA16,$BC16),3)","v":38},{"$f":"LARGE(($I16,$K16,$M16,$O16,$Q16,$S16,$U16,$W16,$Y16,$AA16,$AC16,$AE16,$AG16,$AI16,$AK16,$AM16,$AO16,$AQ16,$AS16,$AU16,$AW16,$AY16,$BA16,$BC16),4)","v":37},{"$f":"LARGE(($I16,$K16,$M16,$O16,$Q16,$S16,$U16,$W16,$Y16,$AA16,$AC16,$AE16,$AG16,$AI16,$AK16,$AM16,$AO16,$AQ16,$AS16,$AU16,$AW16,$AY16,$BA16,$BC16),5)","v":34},{"$f":"LARGE(($I16,$K16,$M16,$O16,$Q16,$S16,$U16,$W16,$Y16,$AA16,$AC16,$AE16,$AG16,$AI16,$AK16,$AM16,$AO16,$AQ16,$AS16,$AU16,$AW16,$AY16,$BA16,$BC16),6)","v":34},{"$f":"LARGE(($I16,$K16,$M16,$O16,$Q16,$S16,$U16,$W16,$Y16,$AA16,$AC16,$AE16,$AG16,$AI16,$AK16,$AM16,$AO16,$AQ16,$AS16,$AU16,$AW16,$AY16,$BA16,$BC16),7)","v":30},{"$f":"LARGE(($I16,$K16,$M16,$O16,$Q16,$S16,$U16,$W16,$Y16,$AA16,$AC16,$AE16,$AG16,$AI16,$AK16,$AM16,$AO16,$AQ16,$AS16,$AU16,$AW16,$AY16,$BA16,$BC16),8)","v":0},{"$f":"LARGE(($I16,$K16,$M16,$O16,$Q16,$S16,$U16,$W16,$Y16,$AA16,$AC16,$AE16,$AG16,$AI16,$AK16,$AM16,$AO16,$AQ16,$AS16,$AU16,$AW16,$AY16,$BA16,$BC16),9)","v":0},{"$f":"LARGE(($I16,$K16,$M16,$O16,$Q16,$S16,$U16,$W16,$Y16,$AA16,$AC16,$AE16,$AG16,$AI16,$AK16,$AM16,$AO16,$AQ16,$AS16,$AU16,$AW16,$AY16,$BA16,$BC16),10)","v":0}]
[13,2000,"Ahnoo Sandberg","IFK Falun",220,220,220,99,{"$f":"LOOKUP(H17,Poängberäkning!$B$6:$B$97,Poängberäkning!$C$6:$C$97)","v":0},20,{"$f":"LOOKUP(J17,Poängberäkning!$B$6:$B$97,Poängberäkning!$C$6:$C$97)","v":31},16,{"$f":"LOOKUP(L17,Poängberäkning!$B$6:$B$97,Poängberäkning!$C$6:$C$97)","v":35},15,{"$f":"LOOKUP(N17,Poängberäkning!$B$6:$B$97,Poängberäkning!$C$6:$C$97)","v":36},14,{"$f":"LOOKUP(P17,Poängberäkning!$B$6:$B$97,Poängberäkning!$C$6:$C$97)","v":37},99,{"$f":"LOOKUP(R17,Poängberäkning!$B$6:$B$97,Poängberäkning!$C$6:$C$97)","v":0},10,{"$f":"LOOKUP(T17,Poängberäkning!$B$6:$B$97,Poängberäkning!$C$6:$C$97)","v":42},12,{"$f":"LOOKUP(V17,Poängberäkning!$B$6:$B$97,Poängberäkning!$C$6:$C$97)","v":39},null,{"$f":"LOOKUP(X17,Poängberäkning!$B$6:$B$97,Poängberäkning!$C$6:$C$97)","v":0},null,{"$f":"LOOKUP(Z17,Poängberäkning!$B$6:$B$97,Poängberäkning!$C$6:$C$97)","v":0},null,{"$f":"LOOKUP(AB17,Poängberäkning!$B$6:$B$97,Poängberäkning!$C$6:$C$97)","v":0},null,{"$f":"LOOKUP(AD17,Poängberäkning!$B$6:$B$97,Poängberäkning!$C$6:$C$97)","v":0},null,{"$f":"LOOKUP(AF17,Poängberäkning!$B$6:$B$97,Poängberäkning!$C$6:$C$97)","v":0},null,{"$f":"LOOKUP(AH17,Poängberäkning!$B$6:$B$97,Poängberäkning!$C$6:$C$97)","v":0},null,{"$f":"LOOKUP(AJ17,Poängberäkning!$B$6:$B$97,Poängberäkning!$C$6:$C$97)","v":0},null,{"$f":"LOOKUP(AL17,Poängberäkning!$B$6:$B$97,Poängberäkning!$C$6:$C$97)","v":0},null,{"$f":"LOOKUP(AN17,Poängberäkning!$B$6:$B$97,Poängberäkning!$C$6:$C$97)","v":0},null,{"$f":"LOOKUP(AP17,Poängberäkning!$B$6:$B$97,Poängberäkning!$C$6:$C$97)","v":0},null,{"$f":"LOOKUP(AR17,Poängberäkning!$B$6:$B$97,Poängberäkning!$C$6:$C$97)","v":0},null,{"$f":"LOOKUP(AT17,Poängberäkning!$B$6:$B$97,Poängberäkning!$C$6:$C$97)","v":0},null,null,null,null,null,null,null,null,{"$f":"LARGE(($I17,$K17,$M17,$O17,$Q17,$S17,$U17,$W17,$Y17,$AA17,$AC17,$AE17,$AG17,$AI17,$AK17,$AM17,$AO17,$AQ17,$AS17,$AU17,$AW17,$AY17,$BA17,$BC17),1)","v":42},{"$f":"LARGE(($I17,$K17,$M17,$O17,$Q17,$S17,$U17,$W17,$Y17,$AA17,$AC17,$AE17,$AG17,$AI17,$AK17,$AM17,$AO17,$AQ17,$AS17,$AU17,$AW17,$AY17,$BA17,$BC17),2)","v":39},{"$f":"LARGE(($I17,$K17,$M17,$O17,$Q17,$S17,$U17,$W17,$Y17,$AA17,$AC17,$AE17,$AG17,$AI17,$AK17,$AM17,$AO17,$AQ17,$AS17,$AU17,$AW17,$AY17,$BA17,$BC17),3)","v":37},{"$f":"LARGE(($I17,$K17,$M17,$O17,$Q17,$S17,$U17,$W17,$Y17,$AA17,$AC17,$AE17,$AG17,$AI17,$AK17,$AM17,$AO17,$AQ17,$AS17,$AU17,$AW17,$AY17,$BA17,$BC17),4)","v":36},{"$f":"LARGE(($I17,$K17,$M17,$O17,$Q17,$S17,$U17,$W17,$Y17,$AA17,$AC17,$AE17,$AG17,$AI17,$AK17,$AM17,$AO17,$AQ17,$AS17,$AU17,$AW17,$AY17,$BA17,$BC17),5)","v":35},{"$f":"LARGE(($I17,$K17,$M17,$O17,$Q17,$S17,$U17,$W17,$Y17,$AA17,$AC17,$AE17,$AG17,$AI17,$AK17,$AM17,$AO17,$AQ17,$AS17,$AU17,$AW17,$AY17,$BA17,$BC17),6)","v":31},{"$f":"LARGE(($I17,$K17,$M17,$O17,$Q17,$S17,$U17,$W17,$Y17,$AA17,$AC17,$AE17,$AG17,$AI17,$AK17,$AM17,$AO17,$AQ17,$AS17,$AU17,$AW17,$AY17,$BA17,$BC17),7)","v":0},{"$f":"LARGE(($I17,$K17,$M17,$O17,$Q17,$S17,$U17,$W17,$Y17,$AA17,$AC17,$AE17,$AG17,$AI17,$AK17,$AM17,$AO17,$AQ17,$AS17,$AU17,$AW17,$AY17,$BA17,$BC17),8)","v":0},{"$f":"LARGE(($I17,$K17,$M17,$O17,$Q17,$S17,$U17,$W17,$Y17,$AA17,$AC17,$AE17,$AG17,$AI17,$AK17,$AM17,$AO17,$AQ17,$AS17,$AU17,$AW17,$AY17,$BA17,$BC17),9)","v":0},{"$f":"LARGE(($I17,$K17,$M17,$O17,$Q17,$S17,$U17,$W17,$Y17,$AA17,$AC17,$AE17,$AG17,$AI17,$AK17,$AM17,$AO17,$AQ17,$AS17,$AU17,$AW17,$AY17,$BA17,$BC17),10)","v":0}]
[14,2000,"Alma Faghén","Norrbärke SK Alpin",189,189,189,99,{"$f":"LOOKUP(H18,Poängberäkning!$B$6:$B$97,Poängberäkning!$C$6:$C$97)","v":0},8,{"$f":"LOOKUP(J18,Poängberäkning!$B$6:$B$97,Poängberäkning!$C$6:$C$97)","v":46},5,{"$f":"LOOKUP(L18,Poängberäkning!$B$6:$B$97,Poängberäkning!$C$6:$C$97)","v":55},8,{"$f":"LOOKUP(N18,Poängberäkning!$B$6:$B$97,Poängberäkning!$C$6:$C$97)","v":46},10,{"$f":"LOOKUP(P18,Poängberäkning!$B$6:$B$97,Poängberäkning!$C$6:$C$97)","v":42},99,{"$f":"LOOKUP(R18,Poängberäkning!$B$6:$B$97,Poängberäkning!$C$6:$C$97)","v":0},99,{"$f":"LOOKUP(T18,Poängberäkning!$B$6:$B$97,Poängberäkning!$C$6:$C$97)","v":0},99,{"$f":"LOOKUP(V18,Poängberäkning!$B$6:$B$97,Poängberäkning!$C$6:$C$97)","v":0},null,{"$f":"LOOKUP(X18,Poängberäkning!$B$6:$B$97,Poängberäkning!$C$6:$C$97)","v":0},null,{"$f":"LOOKUP(Z18,Poängberäkning!$B$6:$B$97,Poängberäkning!$C$6:$C$97)","v":0},null,{"$f":"LOOKUP(AB18,Poängberäkning!$B$6:$B$97,Poängberäkning!$C$6:$C$97)","v":0},null,{"$f":"LOOKUP(AD18,Poängberäkning!$B$6:$B$97,Poängberäkning!$C$6:$C$97)","v":0},null,{"$f":"LOOKUP(AF18,Poängberäkning!$B$6:$B$97,Poängberäkning!$C$6:$C$97)","v":0},null,{"$f":"LOOKUP(AH18,Poängberäkning!$B$6:$B$97,Poängberäkning!$C$6:$C$97)","v":0},null,{"$f":"LOOKUP(AJ18,Poängberäkning!$B$6:$B$97,Poängberäkning!$C$6:$C$97)","v":0},null,{"$f":"LOOKUP(AL18,Poängberäkning!$B$6:$B$97,Poängberäkning!$C$6:$C$97)","v":0},null,{"$f":"LOOKUP(AN18,Poängberäkning!$B$6:$B$97,Poängberäkning!$C$6:$C$97)","v":0},null,{"$f":"LOOKUP(AP18,Poängberäkning!$B$6:$B$97,Poängberäkning!$C$6:$C$97)","v":0},null,{"$f":"LOOKUP(AR18,Poängberäkning!$B$6:$B$97,Poängberäkning!$C$6:$C$97)","v":0},null,{"$f":"LOOKUP(AT18,Poängberäkning!$B$6:$B$97,Poängberäkning!$C$6:$C$97)","v":0},null,null,null,null,null,null,null,null,{"$f":"LARGE(($I18,$K18,$M18,$O18,$Q18,$S18,$U18,$W18,$Y18,$AA18,$AC18,$AE18,$AG18,$AI18,$AK18,$AM18,$AO18,$AQ18,$AS18,$AU18,$AW18,$AY18,$BA18,$BC18),1)","v":55},{"$f":"LARGE(($I18,$K18,$M18,$O18,$Q18,$S18,$U18,$W18,$Y18,$AA18,$AC18,$AE18,$AG18,$AI18,$AK18,$AM18,$AO18,$AQ18,$AS18,$AU18,$AW18,$AY18,$BA18,$BC18),2)","v":46},{"$f":"LARGE(($I18,$K18,$M18,$O18,$Q18,$S18,$U18,$W18,$Y18,$AA18,$AC18,$AE18,$AG18,$AI18,$AK18,$AM18,$AO18,$AQ18,$AS18,$AU18,$AW18,$AY18,$BA18,$BC18),3)","v":46},{"$f":"LARGE(($I18,$K18,$M18,$O18,$Q18,$S18,$U18,$W18,$Y18,$AA18,$AC18,$AE18,$AG18,$AI18,$AK18,$AM18,$AO18,$AQ18,$AS18,$AU18,$AW18,$AY18,$BA18,$BC18),4)","v":42},{"$f":"LARGE(($I18,$K18,$M18,$O18,$Q18,$S18,$U18,$W18,$Y18,$AA18,$AC18,$AE18,$AG18,$AI18,$AK18,$AM18,$AO18,$AQ18,$AS18,$AU18,$AW18,$AY18,$BA18,$BC18),5)","v":0},{"$f":"LARGE(($I18,$K18,$M18,$O18,$Q18,$S18,$U18,$W18,$Y18,$AA18,$AC18,$AE18,$AG18,$AI18,$AK18,$AM18,$AO18,$AQ18,$AS18,$AU18,$AW18,$AY18,$BA18,$BC18),6)","v":0},{"$f":"LARGE(($I18,$K18,$M18,$O18,$Q18,$S18,$U18,$W18,$Y18,$AA18,$AC18,$AE18,$AG18,$AI18,$AK18,$AM18,$AO18,$AQ18,$AS18,$AU18,$AW18,$AY18,$BA18,$BC18),7)","v":0},{"$f":"LARGE(($I18,$K18,$M18,$O18,$Q18,$S18,$U18,$W18,$Y18,$AA18,$AC18,$AE18,$AG18,$AI18,$AK18,$AM18,$AO18,$AQ18,$AS18,$AU18,$AW18,$AY18,$BA18,$BC18),8)","v":0},{"$f":"LARGE(($I18,$K18,$M18,$O18,$Q18,$S18,$U18,$W18,$Y18,$AA18,$AC18,$AE18,$AG18,$AI18,$AK18,$AM18,$AO18,$AQ18,$AS18,$AU18,$AW18,$AY18,$BA18,$BC18),9)","v":0},{"$f":"LARGE(($I18,$K18,$M18,$O18,$Q18,$S18,$U18,$W18,$Y18,$AA18,$AC18,$AE18,$AG18,$AI18,$AK18,$AM18,$AO18,$AQ18,$AS18,$AU18,$AW18,$AY18,$BA18,$BC18),10)","v":0}]
[15,2000,"Lovisa Eklund","Leksands SLK",170,170,170,99,{"$f":"LOOKUP(H19,Poängberäkning!$B$6:$B$97,Poängberäkning!$C$6:$C$97)","v":0},6,{"$f":"LOOKUP(J19,Poängberäkning!$B$6:$B$97,Poängberäkning!$C$6:$C$97)","v":50},4,{"$f":"LOOKUP(L19,Poängberäkning!$B$6:$B$97,Poängberäkning!$C$6:$C$97)","v":60},4,{"$f":"LOOKUP(N19,Poängberäkning!$B$6:$B$97,Poängberäkning!$C$6:$C$97)","v":60},99,{"$f":"LOOKUP(P19,Poängberäkning!$B$6:$B$97,Poängberäkning!$C$6:$C$97)","v":0},99,{"$f":"LOOKUP(R19,Poängberäkning!$B$6:$B$97,Poängberäkning!$C$6:$C$97)","v":0},99,{"$f":"LOOKUP(T19,Poängberäkning!$B$6:$B$97,Poängberäkning!$C$6:$C$97)","v":0},99,{"$f":"LOOKUP(V19,Poängberäkning!$B$6:$B$97,Poängberäkning!$C$6:$C$97)","v":0},null,{"$f":"LOOKUP(X19,Poängberäkning!$B$6:$B$97,Poängberäkning!$C$6:$C$97)","v":0},null,{"$f":"LOOKUP(Z19,Poängberäkning!$B$6:$B$97,Poängberäkning!$C$6:$C$97)","v":0},null,{"$f":"LOOKUP(AB19,Poängberäkning!$B$6:$B$97,Poängberäkning!$C$6:$C$97)","v":0},null,{"$f":"LOOKUP(AD19,Poängberäkning!$B$6:$B$97,Poängberäkning!$C$6:$C$97)","v":0},null,{"$f":"LOOKUP(AF19,Poängberäkning!$B$6:$B$97,Poängberäkning!$C$6:$C$97)","v":0},null,{"$f":"LOOKUP(AH19,Poängberäkning!$B$6:$B$97,Poängberäkning!$C$6:$C$97)","v":0},null,{"$f":"LOOKUP(AJ19,Poängberäkning!$B$6:$B$97,Poängberäkning!$C$6:$C$97)","v":0},null,{"$f":"LOOKUP(AL19,Poängberäkning!$B$6:$B$97,Poängberäkning!$C$6:$C$97)","v":0},null,{"$f":"LOOKUP(AN19,Poängberäkning!$B$6:$B$97,Poängberäkning!$C$6:$C$97)","v":0},null,{"$f":"LOOKUP(AP19,Poängberäkning!$B$6:$B$97,Poängberäkning!$C$6:$C$97)","v":0},null,{"$f":"LOOKUP(AR19,Poängberäkning!$B$6:$B$97,Poängberäkning!$C$6:$C$97)","v":0},null,{"$f":"LOOKUP(AT19,Poängberäkning!$B$6:$B$97,Poängberäkning!$C$6:$C$97)","v":0},null,null,null,null,null,null,null,null,{"$f":"LARGE(($I19,$K19,$M19,$O19,$Q19,$S19,$U19,$W19,$Y19,$AA19,$AC19,$AE19,$AG19,$AI19,$AK19,$AM19,$AO19,$AQ19,$AS19,$AU19,$AW19,$AY19,$BA19,$BC19),1)","v":60},{"$f":"LARGE(($I19,$K19,$M19,$O19,$Q19,$S19,$U19,$W19,$Y19,$AA19,$AC19,$AE19,$AG19,$AI19,$AK19,$AM19,$AO19,$AQ19,$AS19,$AU19,$AW19,$AY19,$BA19,$BC19),2)","v":60},{"$f":"LARGE(($I19,$K19,$M19,$O19,$Q19,$S19,$U19,$W19,$Y19,$AA19,$AC19,$AE19,$AG19,$AI19,$AK19,$AM19,$AO19,$AQ19,$AS19,$AU19,$AW19,$AY19,$BA19,$BC19),3)","v":50},{"$f":"LARGE(($I19,$K19,$M19,$O19,$Q19,$S19,$U19,$W19,$Y19,$AA19,$AC19,$AE19,$AG19,$AI19,$AK19,$AM19,$AO19,$AQ19,$AS19,$AU19,$AW19,$AY19,$BA19,$BC19),4)","v":0},{"$f":"LARGE(($I19,$K19,$M19,$O19,$Q19,$S19,$U19,$W19,$Y19,$AA19,$AC19,$AE19,$AG19,$AI19,$AK19,$AM19,$AO19,$AQ19,$AS19,$AU19,$AW19,$AY19,$BA19,$BC19),5)","v":0},{"$f":"LARGE(($I19,$K19,$M19,$O19,$Q19,$S19,$U19,$W19,$Y19,$AA19,$AC19,$AE19,$AG19,$AI19,$AK19,$AM19,$AO19,$AQ19,$AS19,$AU19,$AW19,$AY19,$BA19,$BC19),6)","v":0},{"$f":"LARGE(($I19,$K19,$M19,$O19,$Q19,$S19,$U19,$W19,$Y19,$AA19,$AC19,$AE19,$AG19,$AI19,$AK19,$AM19,$AO19,$AQ19,$AS19,$AU19,$AW19,$AY19,$BA19,$BC19),7)","v":0},{"$f":"LARGE(($I19,$K19,$M19,$O19,$Q19,$S19,$U19,$W19,$Y19,$AA19,$AC19,$AE19,$AG19,$AI19,$AK19,$AM19,$AO19,$AQ19,$AS19,$AU19,$AW19,$AY19,$BA19,$BC19),8)","v":0},{"$f":"LARGE(($I19,$K19,$M19,$O19,$Q19,$S19,$U19,$W19,$Y19,$AA19,$AC19,$AE19,$AG19,$AI19,$AK19,$AM19,$AO19,$AQ19,$AS19,$AU19,$AW19,$AY19,$BA19,$BC19),9)","v":0},{"$f":"LARGE(($I19,$K19,$M19,$O19,$Q19,$S19,$U19,$W19,$Y19,$AA19,$AC19,$AE19,$AG19,$AI19,$AK19,$AM19,$AO19,$AQ19,$AS19,$AU19,$AW19,$AY19,$BA19,$BC19),10)","v":0}]
[16,2000,"Linda Persson","Idre SK",170,170,170,99,{"$f":"LOOKUP(H20,Poängberäkning!$B$6:$B$97,Poängberäkning!$C$6:$C$97)","v":0},11,{"$f":"LOOKUP(J20,Poängberäkning!$B$6:$B$97,Poängberäkning!$C$6:$C$97)","v":40},10,{"$f":"LOOKUP(L20,Poängberäkning!$B$6:$B$97,Poängberäkning!$C$6:$C$97)","v":42},9,{"$f":"LOOKUP(N20,Poängberäkning!$B$6:$B$97,Poängberäkning!$C$6:$C$97)","v":44},99,{"$f":"LOOKUP(P20,Poängberäkning!$B$6:$B$97,Poängberäkning!$C$6:$C$97)","v":0},99,{"$f":"LOOKUP(R20,Poängberäkning!$B$6:$B$97,Poängberäkning!$C$6:$C$97)","v":0},9,{"$f":"LOOKUP(T20,Poängberäkning!$B$6:$B$97,Poängberäkning!$C$6:$C$97)","v":44},null,{"$f":"LOOKUP(V20,Poängberäkning!$B$6:$B$97,Poängberäkning!$C$6:$C$97)","v":0},null,{"$f":"LOOKUP(X20,Poängberäkning!$B$6:$B$97,Poängberäkning!$C$6:$C$97)","v":0},null,{"$f":"LOOKUP(Z20,Poängberäkning!$B$6:$B$97,Poängberäkning!$C$6:$C$97)","v":0},null,{"$f":"LOOKUP(AB20,Poängberäkning!$B$6:$B$97,Poängberäkning!$C$6:$C$97)","v":0},null,{"$f":"LOOKUP(AD20,Poängberäkning!$B$6:$B$97,Poängberäkning!$C$6:$C$97)","v":0},null,{"$f":"LOOKUP(AF20,Poängberäkning!$B$6:$B$97,Poängberäkning!$C$6:$C$97)","v":0},null,{"$f":"LOOKUP(AH20,Poängberäkning!$B$6:$B$97,Poängberäkning!$C$6:$C$97)","v":0},null,{"$f":"LOOKUP(AJ20,Poängberäkning!$B$6:$B$97,Poängberäkning!$C$6:$C$97)","v":0},null,{"$f":"LOOKUP(AL20,Poängberäkning!$B$6:$B$97,Poängberäkning!$C$6:$C$97)","v":0},null,{"$f":"LOOKUP(AN20,Poängberäkning!$B$6:$B$97,Poängberäkning!$C$6:$C$97)","v":0},null,{"$f":"LOOKUP(AP20,Poängberäkning!$B$6:$B$97,Poängberäkning!$C$6:$C$97)","v":0},null,{"$f":"LOOKUP(AR20,Poängberäkning!$B$6:$B$97,Poängberäkning!$C$6:$C$97)","v":0},null,{"$f":"LOOKUP(AT20,Poängberäkning!$B$6:$B$97,Poängberäkning!$C$6:$C$97)","v":0},null,null,null,null,null,null,null,null,{"$f":"LARGE(($I20,$K20,$M20,$O20,$Q20,$S20,$U20,$W20,$Y20,$AA20,$AC20,$AE20,$AG20,$AI20,$AK20,$AM20,$AO20,$AQ20,$AS20,$AU20,$AW20,$AY20,$BA20,$BC20),1)","v":44},{"$f":"LARGE(($I20,$K20,$M20,$O20,$Q20,$S20,$U20,$W20,$Y20,$AA20,$AC20,$AE20,$AG20,$AI20,$AK20,$AM20,$AO20,$AQ20,$AS20,$AU20,$AW20,$AY20,$BA20,$BC20),2)","v":44},{"$f":"LARGE(($I20,$K20,$M20,$O20,$Q20,$S20,$U20,$W20,$Y20,$AA20,$AC20,$AE20,$AG20,$AI20,$AK20,$AM20,$AO20,$AQ20,$AS20,$AU20,$AW20,$AY20,$BA20,$BC20),3)","v":42},{"$f":"LARGE(($I20,$K20,$M20,$O20,$Q20,$S20,$U20,$W20,$Y20,$AA20,$AC20,$AE20,$AG20,$AI20,$AK20,$AM20,$AO20,$AQ20,$AS20,$AU20,$AW20,$AY20,$BA20,$BC20),4)","v":40},{"$f":"LARGE(($I20,$K20,$M20,$O20,$Q20,$S20,$U20,$W20,$Y20,$AA20,$AC20,$AE20,$AG20,$AI20,$AK20,$AM20,$AO20,$AQ20,$AS20,$AU20,$AW20,$AY20,$BA20,$BC20),5)","v":0},{"$f":"LARGE(($I20,$K20,$M20,$O20,$Q20,$S20,$U20,$W20,$Y20,$AA20,$AC20,$AE20,$AG20,$AI20,$AK20,$AM20,$AO20,$AQ20,$AS20,$AU20,$AW20,$AY20,$BA20,$BC20),6)","v":0},{"$f":"LARGE(($I20,$K20,$M20,$O20,$Q20,$S20,$U20,$W20,$Y20,$AA20,$AC20,$AE20,$AG20,$AI20,$AK20,$AM20,$AO20,$AQ20,$AS20,$AU20,$AW20,$AY20,$BA20,$BC20),7)","v":0},{"$f":"LARGE(($I20,$K20,$M20,$O20,$Q20,$S20,$U20,$W20,$Y20,$AA20,$AC20,$AE20,$AG20,$AI20,$AK20,$AM20,$AO20,$AQ20,$AS20,$AU20,$AW20,$AY20,$BA20,$BC20),8)","v":0},{"$f":"LARGE(($I20,$K20,$M20,$O20,$Q20,$S20,$U20,$W20,$Y20,$AA20,$AC20,$AE20,$AG20,$AI20,$AK20,$AM20,$AO20,$AQ20,$AS20,$AU20,$AW20,$AY20,$BA20,$BC20),9)","v":0},{"$f":"LARGE(($I20,$K20,$M20,$O20,$Q20,$S20,$U20,$W20,$Y20,$AA20,$AC20,$AE20,$AG20,$AI20,$AK20,$AM20,$AO20,$AQ20,$AS20,$AU20,$AW20,$AY20,$BA20,$BC20),10)","v":0}]
[17,2000,"Jennifer Thornell","Avesta AK",158,158,158,null,{"$f":"LOOKUP(H21,Poängberäkning!$B$6:$B$97,Poängberäkning!$C$6:$C$97)","v":0},null,{"$f":"LOOKUP(J21,Poängberäkning!$B$6:$B$97,Poängberäkning!$C$6:$C$97)","v":0},null,{"$f":"LOOKUP(L21,Poängberäkning!$B$6:$B$97,Poängberäkning!$C$6:$C$97)","v":0},null,{"$f":"LOOKUP(N21,Poängberäkning!$B$6:$B$97,Poängberäkning!$C$6:$C$97)","v":0},12,{"$f":"LOOKUP(P21,Poängberäkning!$B$6:$B$97,Poängberäkning!$C$6:$C$97)","v":39},12,{"$f":"LOOKUP(R21,Poängberäkning!$B$6:$B$97,Poängberäkning!$C$6:$C$97)","v":39},11,{"$f":"LOOKUP(T21,Poängberäkning!$B$6:$B$97,Poängberäkning!$C$6:$C$97)","v":40},11,{"$f":"LOOKUP(V21,Poängberäkning!$B$6:$B$97,Poängberäkning!$C$6:$C$97)","v":40},null,{"$f":"LOOKUP(X21,Poängberäkning!$B$6:$B$97,Poängberäkning!$C$6:$C$97)","v":0},null,{"$f":"LOOKUP(Z21,Poängberäkning!$B$6:$B$97,Poängberäkning!$C$6:$C$97)","v":0},null,{"$f":"LOOKUP(AB21,Poängberäkning!$B$6:$B$97,Poängberäkning!$C$6:$C$97)","v":0},null,{"$f":"LOOKUP(AD21,Poängberäkning!$B$6:$B$97,Poängberäkning!$C$6:$C$97)","v":0},null,{"$f":"LOOKUP(AF21,Poängberäkning!$B$6:$B$97,Poängberäkning!$C$6:$C$97)","v":0},null,{"$f":"LOOKUP(AH21,Poängberäkning!$B$6:$B$97,Poängberäkning!$C$6:$C$97)","v":0},null,{"$f":"LOOKUP(AJ21,Poängberäkning!$B$6:$B$97,Poängberäkning!$C$6:$C$97)","v":0},null,{"$f":"LOOKUP(AL21,Poängberäkning!$B$6:$B$97,Poängberäkning!$C$6:$C$97)","v":0},null,{"$f":"LOOKUP(AN21,Poängberäkning!$B$6:$B$97,Poängberäkning!$C$6:$C$97)","v":0},null,{"$f":"LOOKUP(AP21,Poängberäkning!$B$6:$B$97,Poängberäkning!$C$6:$C$97)","v":0},null,{"$f":"LOOKUP(AR21,Poängberäkning!$B$6:$B$97,Poängberäkning!$C$6:$C$97)","v":0},null,{"$f":"LOOKUP(AT21,Poängberäkning!$B$6:$B$97,Poängberäkning!$C$6:$C$97)","v":0},null,null,null,null,null,null,null,null,{"$f":"LARGE(($I21,$K21,$M21,$O21,$Q21,$S21,$U21,$W21,$Y21,$AA21,$AC21,$AE21,$AG21,$AI21,$AK21,$AM21,$AO21,$AQ21,$AS21,$AU21,$AW21,$AY21,$BA21,$BC21),1)","v":40},{"$f":"LARGE(($I21,$K21,$M21,$O21,$Q21,$S21,$U21,$W21,$Y21,$AA21,$AC21,$AE21,$AG21,$AI21,$AK21,$AM21,$AO21,$AQ21,$AS21,$AU21,$AW21,$AY21,$BA21,$BC21),2)","v":40},{"$f":"LARGE(($I21,$K21,$M21,$O21,$Q21,$S21,$U21,$W21,$Y21,$AA21,$AC21,$AE21,$AG21,$AI21,$AK21,$AM21,$AO21,$AQ21,$AS21,$AU21,$AW21,$AY21,$BA21,$BC21),3)","v":39},{"$f":"LARGE(($I21,$K21,$M21,$O21,$Q21,$S21,$U21,$W21,$Y21,$AA21,$AC21,$AE21,$AG21,$AI21,$AK21,$AM21,$AO21,$AQ21,$AS21,$AU21,$AW21,$AY21,$BA21,$BC21),4)","v":39},{"$f":"LARGE(($I21,$K21,$M21,$O21,$Q21,$S21,$U21,$W21,$Y21,$AA21,$AC21,$AE21,$AG21,$AI21,$AK21,$AM21,$AO21,$AQ21,$AS21,$AU21,$AW21,$AY21,$BA21,$BC21),5)","v":0},{"$f":"LARGE(($I21,$K21,$M21,$O21,$Q21,$S21,$U21,$W21,$Y21,$AA21,$AC21,$AE21,$AG21,$AI21,$AK21,$AM21,$AO21,$AQ21,$AS21,$AU21,$AW21,$AY21,$BA21,$BC21),6)","v":0},{"$f":"LARGE(($I21,$K21,$M21,$O21,$Q21,$S21,$U21,$W21,$Y21,$AA21,$AC21,$AE21,$AG21,$AI21,$AK21,$AM21,$AO21,$AQ21,$AS21,$AU21,$AW21,$AY21,$BA21,$BC21),7)","v":0},{"$f":"LARGE(($I21,$K21,$M21,$O21,$Q21,$S21,$U21,$W21,$Y21,$AA21,$AC21,$AE21,$AG21,$AI21,$AK21,$AM21,$AO21,$AQ21,$AS21,$AU21,$AW21,$AY21,$BA21,$BC21),8)","v":0},{"$f":"LARGE(($I21,$K21,$M21,$O21,$Q21,$S21,$U21,$W21,$Y21,$AA21,$AC21,$AE21,$AG21,$AI21,$AK21,$AM21,$AO21,$AQ21,$AS21,$AU21,$AW21,$AY21,$BA21,$BC21),9)","v":0},{"$f":"LARGE(($I21,$K21,$M21,$O21,$Q21,$S21,$U21,$W21,$Y21,$AA21,$AC21,$AE21,$AG21,$AI21,$AK21,$AM21,$AO21,$AQ21,$AS21,$AU21,$AW21,$AY21,$BA21,$BC21),10)","v":0}]
[18,2000,"Tilde Grönstedt","Karlstads SLK",156,156,156,11,{"$f":"LOOKUP(H22,Poängberäkning!$B$6:$B$97,Poängberäkning!$C$6:$C$97)","v":40},14,{"$f":"LOOKUP(J22,Poängberäkning!$B$6:$B$97,Poängberäkning!$C$6:$C$97)","v":37},12,{"$f":"LOOKUP(L22,Poängberäkning!$B$6:$B$97,Poängberäkning!$C$6:$C$97)","v":39},11,{"$f":"LOOKUP(N22,Poängberäkning!$B$6:$B$97,Poängberäkning!$C$6:$C$97)","v":40},null,{"$f":"LOOKUP(P22,Poängberäkning!$B$6:$B$97,Poängberäkning!$C$6:$C$97)","v":0},null,{"$f":"LOOKUP(R22,Poängberäkning!$B$6:$B$97,Poängberäkning!$C$6:$C$97)","v":0},null,{"$f":"LOOKUP(T22,Poängberäkning!$B$6:$B$97,Poängberäkning!$C$6:$C$97)","v":0},null,{"$f":"LOOKUP(V22,Poängberäkning!$B$6:$B$97,Poängberäkning!$C$6:$C$97)","v":0},null,{"$f":"LOOKUP(X22,Poängberäkning!$B$6:$B$97,Poängberäkning!$C$6:$C$97)","v":0},null,{"$f":"LOOKUP(Z22,Poängberäkning!$B$6:$B$97,Poängberäkning!$C$6:$C$97)","v":0},null,{"$f":"LOOKUP(AB22,Poängberäkning!$B$6:$B$97,Poängberäkning!$C$6:$C$97)","v":0},null,{"$f":"LOOKUP(AD22,Poängberäkning!$B$6:$B$97,Poängberäkning!$C$6:$C$97)","v":0},null,{"$f":"LOOKUP(AF22,Poängberäkning!$B$6:$B$97,Poängberäkning!$C$6:$C$97)","v":0},null,{"$f":"LOOKUP(AH22,Poängberäkning!$B$6:$B$97,Poängberäkning!$C$6:$C$97)","v":0},null,{"$f":"LOOKUP(AJ22,Poängberäkning!$B$6:$B$97,Poängberäkning!$C$6:$C$97)","v":0},null,{"$f":"LOOKUP(AL22,Poängberäkning!$B$6:$B$97,Poängberäkning!$C$6:$C$97)","v":0},null,{"$f":"LOOKUP(AN22,Poängberäkning!$B$6:$B$97,Poängberäkning!$C$6:$C$97)","v":0},null,{"$f":"LOOKUP(AP22,Poängberäkning!$B$6:$B$97,Poängberäkning!$C$6:$C$97)","v":0},null,{"$f":"LOOKUP(AR22,Poängberäkning!$B$6:$B$97,Poängberäkning!$C$6:$C$97)","v":0},null,{"$f":"LOOKUP(AT22,Poängberäkning!$B$6:$B$97,Poängberäkning!$C$6:$C$97)","v":0},null,null,null,null,null,null,null,null,{"$f":"LARGE(($I22,$K22,$M22,$O22,$Q22,$S22,$U22,$W22,$Y22,$AA22,$AC22,$AE22,$AG22,$AI22,$AK22,$AM22,$AO22,$AQ22,$AS22,$AU22,$AW22,$AY22,$BA22,$BC22),1)","v":40},{"$f":"LARGE(($I22,$K22,$M22,$O22,$Q22,$S22,$U22,$W22,$Y22,$AA22,$AC22,$AE22,$AG22,$AI22,$AK22,$AM22,$AO22,$AQ22,$AS22,$AU22,$AW22,$AY22,$BA22,$BC22),2)","v":40},{"$f":"LARGE(($I22,$K22,$M22,$O22,$Q22,$S22,$U22,$W22,$Y22,$AA22,$AC22,$AE22,$AG22,$AI22,$AK22,$AM22,$AO22,$AQ22,$AS22,$AU22,$AW22,$AY22,$BA22,$BC22),3)","v":39},{"$f":"LARGE(($I22,$K22,$M22,$O22,$Q22,$S22,$U22,$W22,$Y22,$AA22,$AC22,$AE22,$AG22,$AI22,$AK22,$AM22,$AO22,$AQ22,$AS22,$AU22,$AW22,$AY22,$BA22,$BC22),4)","v":37},{"$f":"LARGE(($I22,$K22,$M22,$O22,$Q22,$S22,$U22,$W22,$Y22,$AA22,$AC22,$AE22,$AG22,$AI22,$AK22,$AM22,$AO22,$AQ22,$AS22,$AU22,$AW22,$AY22,$BA22,$BC22),5)","v":0},{"$f":"LARGE(($I22,$K22,$M22,$O22,$Q22,$S22,$U22,$W22,$Y22,$AA22,$AC22,$AE22,$AG22,$AI22,$AK22,$AM22,$AO22,$AQ22,$AS22,$AU22,$AW22,$AY22,$BA22,$BC22),6)","v":0},{"$f":"LARGE(($I22,$K22,$M22,$O22,$Q22,$S22,$U22,$W22,$Y22,$AA22,$AC22,$AE22,$AG22,$AI22,$AK22,$AM22,$AO22,$AQ22,$AS22,$AU22,$AW22,$AY22,$BA22,$BC22),7)","v":0},{"$f":"LARGE(($I22,$K22,$M22,$O22,$Q22,$S22,$U22,$W22,$Y22,$AA22,$AC22,$AE22,$AG22,$AI22,$AK22,$AM22,$AO22,$AQ22,$AS22,$AU22,$AW22,$AY22,$BA22,$BC22),8)","v":0},{"$f":"LARGE(($I22,$K22,$M22,$O22,$Q22,$S22,$U22,$W22,$Y22,$AA22,$AC22,$AE22,$AG22,$AI22,$AK22,$AM22,$AO22,$AQ22,$AS22,$AU22,$AW22,$AY22,$BA22,$BC22),9)","v":0},{"$f":"LARGE(($I22,$K22,$M22,$O22,$Q22,$S22,$U22,$W22,$Y22,$AA22,$AC22,$AE22,$AG22,$AI22,$AK22,$AM22,$AO22,$AQ22,$AS22,$AU22,$AW22,$AY22,$BA22,$BC22),10)","v":0}]
[19,2000,"Felicia Lind","IFK Borlänge",148,148,148,10,{"$f":"LOOKUP(H23,Poängberäkning!$B$6:$B$97,Poängberäkning!$C$6:$C$97)","v":42},18,{"$f":"LOOKUP(J23,Poängberäkning!$B$6:$B$97,Poängberäkning!$C$6:$C$97)","v":33},15,{"$f":"LOOKUP(L23,Poängberäkning!$B$6:$B$97,Poängberäkning!$C$6:$C$97)","v":36},14,{"$f":"LOOKUP(N23,Poängberäkning!$B$6:$B$97,Poängberäkning!$C$6:$C$97)","v":37},99,{"$f":"LOOKUP(P23,Poängberäkning!$B$6:$B$97,Poängberäkning!$C$6:$C$97)","v":0},99,{"$f":"LOOKUP(R23,Poängberäkning!$B$6:$B$97,Poängberäkning!$C$6:$C$97)","v":0},99,{"$f":"LOOKUP(T23,Poängberäkning!$B$6:$B$97,Poängberäkning!$C$6:$C$97)","v":0},99,{"$f":"LOOKUP(V23,Poängberäkning!$B$6:$B$97,Poängberäkning!$C$6:$C$97)","v":0},null,{"$f":"LOOKUP(X23,Poängberäkning!$B$6:$B$97,Poängberäkning!$C$6:$C$97)","v":0},null,{"$f":"LOOKUP(Z23,Poängberäkning!$B$6:$B$97,Poängberäkning!$C$6:$C$97)","v":0},null,{"$f":"LOOKUP(AB23,Poängberäkning!$B$6:$B$97,Poängberäkning!$C$6:$C$97)","v":0},null,{"$f":"LOOKUP(AD23,Poängberäkning!$B$6:$B$97,Poängberäkning!$C$6:$C$97)","v":0},null,{"$f":"LOOKUP(AF23,Poängberäkning!$B$6:$B$97,Poängberäkning!$C$6:$C$97)","v":0},null,{"$f":"LOOKUP(AH23,Poängberäkning!$B$6:$B$97,Poängberäkning!$C$6:$C$97)","v":0},null,{"$f":"LOOKUP(AJ23,Poängberäkning!$B$6:$B$97,Poängberäkning!$C$6:$C$97)","v":0},null,{"$f":"LOOKUP(AL23,Poängberäkning!$B$6:$B$97,Poängberäkning!$C$6:$C$97)","v":0},null,{"$f":"LOOKUP(AN23,Poängberäkning!$B$6:$B$97,Poängberäkning!$C$6:$C$97)","v":0},null,{"$f":"LOOKUP(AP23,Poängberäkning!$B$6:$B$97,Poängberäkning!$C$6:$C$97)","v":0},null,{"$f":"LOOKUP(AR23,Poängberäkning!$B$6:$B$97,Poängberäkning!$C$6:$C$97)","v":0},null,{"$f":"LOOKUP(AT23,Poängberäkning!$B$6:$B$97,Poängberäkning!$C$6:$C$97)","v":0},null,null,null,null,null,null,null,null,{"$f":"LARGE(($I23,$K23,$M23,$O23,$Q23,$S23,$U23,$W23,$Y23,$AA23,$AC23,$AE23,$AG23,$AI23,$AK23,$AM23,$AO23,$AQ23,$AS23,$AU23,$AW23,$AY23,$BA23,$BC23),1)","v":42},{"$f":"LARGE(($I23,$K23,$M23,$O23,$Q23,$S23,$U23,$W23,$Y23,$AA23,$AC23,$AE23,$AG23,$AI23,$AK23,$AM23,$AO23,$AQ23,$AS23,$AU23,$AW23,$AY23,$BA23,$BC23),2)","v":37},{"$f":"LARGE(($I23,$K23,$M23,$O23,$Q23,$S23,$U23,$W23,$Y23,$AA23,$AC23,$AE23,$AG23,$AI23,$AK23,$AM23,$AO23,$AQ23,$AS23,$AU23,$AW23,$AY23,$BA23,$BC23),3)","v":36},{"$f":"LARGE(($I23,$K23,$M23,$O23,$Q23,$S23,$U23,$W23,$Y23,$AA23,$AC23,$AE23,$AG23,$AI23,$AK23,$AM23,$AO23,$AQ23,$AS23,$AU23,$AW23,$AY23,$BA23,$BC23),4)","v":33},{"$f":"LARGE(($I23,$K23,$M23,$O23,$Q23,$S23,$U23,$W23,$Y23,$AA23,$AC23,$AE23,$AG23,$AI23,$AK23,$AM23,$AO23,$AQ23,$AS23,$AU23,$AW23,$AY23,$BA23,$BC23),5)","v":0},{"$f":"LARGE(($I23,$K23,$M23,$O23,$Q23,$S23,$U23,$W23,$Y23,$AA23,$AC23,$AE23,$AG23,$AI23,$AK23,$AM23,$AO23,$AQ23,$AS23,$AU23,$AW23,$AY23,$BA23,$BC23),6)","v":0},{"$f":"LARGE(($I23,$K23,$M23,$O23,$Q23,$S23,$U23,$W23,$Y23,$AA23,$AC23,$AE23,$AG23,$AI23,$AK23,$AM23,$AO23,$AQ23,$AS23,$AU23,$AW23,$AY23,$BA23,$BC23),7)","v":0},{"$f":"LARGE(($I23,$K23,$M23,$O23,$Q23,$S23,$U23,$W23,$Y23,$AA23,$AC23,$AE23,$AG23,$AI23,$AK23,$AM23,$AO23,$AQ23,$AS23,$AU23,$AW23,$AY23,$BA23,$BC23),8)","v":0},{"$f":"LARGE(($I23,$K23,$M23,$O23,$Q23,$S23,$U23,$W23,$Y23,$AA23,$AC23,$AE23,$AG23,$AI23,$AK23,$AM23,$AO23,$AQ23,$AS23,$AU23,$AW23,$AY23,$BA23,$BC23),9)","v":0},{"$f":"LARGE(($I23,$K23,$M23,$O23,$Q23,$S23,$U23,$W23,$Y23,$AA23,$AC23,$AE23,$AG23,$AI23,$AK23,$AM23,$AO23,$AQ23,$AS23,$AU23,$AW23,$AY23,$BA23,$BC23),10)","v":0}]
[20,2000,"Ida Söderlind","Örebro SLF",139,139,139,12,{"$f":"LOOKUP(H24,Poängberäkning!$B$6:$B$97,Poängberäkning!$C$6:$C$97)","v":39},19,{"$f":"LOOKUP(J24,Poängberäkning!$B$6:$B$97,Poängberäkning!$C$6:$C$97)","v":32},18,{"$f":"LOOKUP(L24,Poängberäkning!$B$6:$B$97,Poängberäkning!$C$6:$C$97)","v":33},16,{"$f":"LOOKUP(N24,Poängberäkning!$B$6:$B$97,Poängberäkning!$C$6:$C$97)","v":35},null,{"$f":"LOOKUP(P24,Poängberäkning!$B$6:$B$97,Poängberäkning!$C$6:$C$97)","v":0},null,{"$f":"LOOKUP(R24,Poängberäkning!$B$6:$B$97,Poängberäkning!$C$6:$C$97)","v":0},null,{"$f":"LOOKUP(T24,Poängberäkning!$B$6:$B$97,Poängberäkning!$C$6:$C$97)","v":0},null,{"$f":"LOOKUP(V24,Poängberäkning!$B$6:$B$97,Poängberäkning!$C$6:$C$97)","v":0},null,{"$f":"LOOKUP(X24,Poängberäkning!$B$6:$B$97,Poängberäkning!$C$6:$C$97)","v":0},null,{"$f":"LOOKUP(Z24,Poängberäkning!$B$6:$B$97,Poängberäkning!$C$6:$C$97)","v":0},null,{"$f":"LOOKUP(AB24,Poängberäkning!$B$6:$B$97,Poängberäkning!$C$6:$C$97)","v":0},null,{"$f":"LOOKUP(AD24,Poängberäkning!$B$6:$B$97,Poängberäkning!$C$6:$C$97)","v":0},null,{"$f":"LOOKUP(AF24,Poängberäkning!$B$6:$B$97,Poängberäkning!$C$6:$C$97)","v":0},null,{"$f":"LOOKUP(AH24,Poängberäkning!$B$6:$B$97,Poängberäkning!$C$6:$C$97)","v":0},null,{"$f":"LOOKUP(AJ24,Poängberäkning!$B$6:$B$97,Poängberäkning!$C$6:$C$97)","v":0},null,{"$f":"LOOKUP(AL24,Poängberäkning!$B$6:$B$97,Poängberäkning!$C$6:$C$97)","v":0},null,{"$f":"LOOKUP(AN24,Poängberäkning!$B$6:$B$97,Poängberäkning!$C$6:$C$97)","v":0},null,{"$f":"LOOKUP(AP24,Poängberäkning!$B$6:$B$97,Poängberäkning!$C$6:$C$97)","v":0},null,{"$f":"LOOKUP(AR24,Poängberäkning!$B$6:$B$97,Poängberäkning!$C$6:$C$97)","v":0},null,{"$f":"LOOKUP(AT24,Poängberäkning!$B$6:$B$97,Poängberäkning!$C$6:$C$97)","v":0},null,null,null,null,null,null,null,null,{"$f":"LARGE(($I24,$K24,$M24,$O24,$Q24,$S24,$U24,$W24,$Y24,$AA24,$AC24,$AE24,$AG24,$AI24,$AK24,$AM24,$AO24,$AQ24,$AS24,$AU24,$AW24,$AY24,$BA24,$BC24),1)","v":39},{"$f":"LARGE(($I24,$K24,$M24,$O24,$Q24,$S24,$U24,$W24,$Y24,$AA24,$AC24,$AE24,$AG24,$AI24,$AK24,$AM24,$AO24,$AQ24,$AS24,$AU24,$AW24,$AY24,$BA24,$BC24),2)","v":35},{"$f":"LARGE(($I24,$K24,$M24,$O24,$Q24,$S24,$U24,$W24,$Y24,$AA24,$AC24,$AE24,$AG24,$AI24,$AK24,$AM24,$AO24,$AQ24,$AS24,$AU24,$AW24,$AY24,$BA24,$BC24),3)","v":33},{"$f":"LARGE(($I24,$K24,$M24,$O24,$Q24,$S24,$U24,$W24,$Y24,$AA24,$AC24,$AE24,$AG24,$AI24,$AK24,$AM24,$AO24,$AQ24,$AS24,$AU24,$AW24,$AY24,$BA24,$BC24),4)","v":32},{"$f":"LARGE(($I24,$K24,$M24,$O24,$Q24,$S24,$U24,$W24,$Y24,$AA24,$AC24,$AE24,$AG24,$AI24,$AK24,$AM24,$AO24,$AQ24,$AS24,$AU24,$AW24,$AY24,$BA24,$BC24),5)","v":0},{"$f":"LARGE(($I24,$K24,$M24,$O24,$Q24,$S24,$U24,$W24,$Y24,$AA24,$AC24,$AE24,$AG24,$AI24,$AK24,$AM24,$AO24,$AQ24,$AS24,$AU24,$AW24,$AY24,$BA24,$BC24),6)","v":0},{"$f":"LARGE(($I24,$K24,$M24,$O24,$Q24,$S24,$U24,$W24,$Y24,$AA24,$AC24,$AE24,$AG24,$AI24,$AK24,$AM24,$AO24,$AQ24,$AS24,$AU24,$AW24,$AY24,$BA24,$BC24),7)","v":0},{"$f":"LARGE(($I24,$K24,$M24,$O24,$Q24,$S24,$U24,$W24,$Y24,$AA24,$AC24,$AE24,$AG24,$AI24,$AK24,$AM24,$AO24,$AQ24,$AS24,$AU24,$AW24,$AY24,$BA24,$BC24),8)","v":0},{"$f":"LARGE(($I24,$K24,$M24,$O24,$Q24,$S24,$U24,$W24,$Y24,$AA24,$AC24,$AE24,$AG24,$AI24,$AK24,$AM24,$AO24,$AQ24,$AS24,$AU24,$AW24,$AY24,$BA24,$BC24),9)","v":0},{"$f":"LARGE(($I24,$K24,$M24,$O24,$Q24,$S24,$U24,$W24,$Y24,$AA24,$AC24,$AE24,$AG24,$AI24,$AK24,$AM24,$AO24,$AQ24,$AS24,$AU24,$AW24,$AY24,$BA24,$BC24),10)","v":0}]
[21,2000,"Ellen Kindberg","Kils SLK",130,130,130,13,{"$f":"LOOKUP(H25,Poängberäkning!$B$6:$B$97,Poängberäkning!$C$6:$C$97)","v":38},23,{"$f":"LOOKUP(J25,Poängberäkning!$B$6:$B$97,Poängberäkning!$C$6:$C$97)","v":28},20,{"$f":"LOOKUP(L25,Poängberäkning!$B$6:$B$97,Poängberäkning!$C$6:$C$97)","v":31},18,{"$f":"LOOKUP(N25,Poängberäkning!$B$6:$B$97,Poängberäkning!$C$6:$C$97)","v":33},null,{"$f":"LOOKUP(P25,Poängberäkning!$B$6:$B$97,Poängberäkning!$C$6:$C$97)","v":0},null,{"$f":"LOOKUP(R25,Poängberäkning!$B$6:$B$97,Poängberäkning!$C$6:$C$97)","v":0},null,{"$f":"LOOKUP(T25,Poängberäkning!$B$6:$B$97,Poängberäkning!$C$6:$C$97)","v":0},null,{"$f":"LOOKUP(V25,Poängberäkning!$B$6:$B$97,Poängberäkning!$C$6:$C$97)","v":0},null,{"$f":"LOOKUP(X25,Poängberäkning!$B$6:$B$97,Poängberäkning!$C$6:$C$97)","v":0},null,{"$f":"LOOKUP(Z25,Poängberäkning!$B$6:$B$97,Poängberäkning!$C$6:$C$97)","v":0},null,{"$f":"LOOKUP(AB25,Poängberäkning!$B$6:$B$97,Poängberäkning!$C$6:$C$97)","v":0},null,{"$f":"LOOKUP(AD25,Poängberäkning!$B$6:$B$97,Poängberäkning!$C$6:$C$97)","v":0},null,{"$f":"LOOKUP(AF25,Poängberäkning!$B$6:$B$97,Poängberäkning!$C$6:$C$97)","v":0},null,{"$f":"LOOKUP(AH25,Poängberäkning!$B$6:$B$97,Poängberäkning!$C$6:$C$97)","v":0},null,{"$f":"LOOKUP(AJ25,Poängberäkning!$B$6:$B$97,Poängberäkning!$C$6:$C$97)","v":0},null,{"$f":"LOOKUP(AL25,Poängberäkning!$B$6:$B$97,Poängberäkning!$C$6:$C$97)","v":0},null,{"$f":"LOOKUP(AN25,Poängberäkning!$B$6:$B$97,Poängberäkning!$C$6:$C$97)","v":0},null,{"$f":"LOOKUP(AP25,Poängberäkning!$B$6:$B$97,Poängberäkning!$C$6:$C$97)","v":0},null,{"$f":"LOOKUP(AR25,Poängberäkning!$B$6:$B$97,Poängberäkning!$C$6:$C$97)","v":0},null,{"$f":"LOOKUP(AT25,Poängberäkning!$B$6:$B$97,Poängberäkning!$C$6:$C$97)","v":0},null,null,null,null,null,null,null,null,{"$f":"LARGE(($I25,$K25,$M25,$O25,$Q25,$S25,$U25,$W25,$Y25,$AA25,$AC25,$AE25,$AG25,$AI25,$AK25,$AM25,$AO25,$AQ25,$AS25,$AU25,$AW25,$AY25,$BA25,$BC25),1)","v":38},{"$f":"LARGE(($I25,$K25,$M25,$O25,$Q25,$S25,$U25,$W25,$Y25,$AA25,$AC25,$AE25,$AG25,$AI25,$AK25,$AM25,$AO25,$AQ25,$AS25,$AU25,$AW25,$AY25,$BA25,$BC25),2)","v":33},{"$f":"LARGE(($I25,$K25,$M25,$O25,$Q25,$S25,$U25,$W25,$Y25,$AA25,$AC25,$AE25,$AG25,$AI25,$AK25,$AM25,$AO25,$AQ25,$AS25,$AU25,$AW25,$AY25,$BA25,$BC25),3)","v":31},{"$f":"LARGE(($I25,$K25,$M25,$O25,$Q25,$S25,$U25,$W25,$Y25,$AA25,$AC25,$AE25,$AG25,$AI25,$AK25,$AM25,$AO25,$AQ25,$AS25,$AU25,$AW25,$AY25,$BA25,$BC25),4)","v":28},{"$f":"LARGE(($I25,$K25,$M25,$O25,$Q25,$S25,$U25,$W25,$Y25,$AA25,$AC25,$AE25,$AG25,$AI25,$AK25,$AM25,$AO25,$AQ25,$AS25,$AU25,$AW25,$AY25,$BA25,$BC25),5)","v":0},{"$f":"LARGE(($I25,$K25,$M25,$O25,$Q25,$S25,$U25,$W25,$Y25,$AA25,$AC25,$AE25,$AG25,$AI25,$AK25,$AM25,$AO25,$AQ25,$AS25,$AU25,$AW25,$AY25,$BA25,$BC25),6)","v":0},{"$f":"LARGE(($I25,$K25,$M25,$O25,$Q25,$S25,$U25,$W25,$Y25,$AA25,$AC25,$AE25,$AG25,$AI25,$AK25,$AM25,$AO25,$AQ25,$AS25,$AU25,$AW25,$AY25,$BA25,$BC25),7)","v":0},{"$f":"LARGE(($I25,$K25,$M25,$O25,$Q25,$S25,$U25,$W25,$Y25,$AA25,$AC25,$AE25,$AG25,$AI25,$AK25,$AM25,$AO25,$AQ25,$AS25,$AU25,$AW25,$AY25,$BA25,$BC25),8)","v":0},{"$f":"LARGE(($I25,$K25,$M25,$O25,$Q25,$S25,$U25,$W25,$Y25,$AA25,$AC25,$AE25,$AG25,$AI25,$AK25,$AM25,$AO25,$AQ25,$AS25,$AU25,$AW25,$AY25,$BA25,$BC25),9)","v":0},{"$f":"LARGE(($I25,$K25,$M25,$O25,$Q25,$S25,$U25,$W25,$Y25,$AA25,$AC25,$AE25,$AG25,$AI25,$AK25,$AM25,$AO25,$AQ25,$AS25,$AU25,$AW25,$AY25,$BA25,$BC25),10)","v":0}]
[22,2000,"Tilda Vestlund","Avesta AK",130,130,130,99,{"$f":"LOOKUP(H26,Poängberäkning!$B$6:$B$97,Poängberäkning!$C$6:$C$97)","v":0},10,{"$f":"LOOKUP(J26,Poängberäkning!$B$6:$B$97,Poängberäkning!$C$6:$C$97)","v":42},null,{"$f":"LOOKUP(L26,Poängberäkning!$B$6:$B$97,Poängberäkning!$C$6:$C$97)","v":0},null,{"$f":"LOOKUP(N26,Poängberäkning!$B$6:$B$97,Poängberäkning!$C$6:$C$97)","v":0},99,{"$f":"LOOKUP(P26,Poängberäkning!$B$6:$B$97,Poängberäkning!$C$6:$C$97)","v":0},10,{"$f":"LOOKUP(R26,Poängberäkning!$B$6:$B$97,Poängberäkning!$C$6:$C$97)","v":42},8,{"$f":"LOOKUP(T26,Poängberäkning!$B$6:$B$97,Poängberäkning!$C$6:$C$97)","v":46},99,{"$f":"LOOKUP(V26,Poängberäkning!$B$6:$B$97,Poängberäkning!$C$6:$C$97)","v":0},null,{"$f":"LOOKUP(X26,Poängberäkning!$B$6:$B$97,Poängberäkning!$C$6:$C$97)","v":0},null,{"$f":"LOOKUP(Z26,Poängberäkning!$B$6:$B$97,Poängberäkning!$C$6:$C$97)","v":0},null,{"$f":"LOOKUP(AB26,Poängberäkning!$B$6:$B$97,Poängberäkning!$C$6:$C$97)","v":0},null,{"$f":"LOOKUP(AD26,Poängberäkning!$B$6:$B$97,Poängberäkning!$C$6:$C$97)","v":0},null,{"$f":"LOOKUP(AF26,Poängberäkning!$B$6:$B$97,Poängberäkning!$C$6:$C$97)","v":0},null,{"$f":"LOOKUP(AH26,Poängberäkning!$B$6:$B$97,Poängberäkning!$C$6:$C$97)","v":0},null,{"$f":"LOOKUP(AJ26,Poängberäkning!$B$6:$B$97,Poängberäkning!$C$6:$C$97)","v":0},null,{"$f":"LOOKUP(AL26,Poängberäkning!$B$6:$B$97,Poängberäkning!$C$6:$C$97)","v":0},null,{"$f":"LOOKUP(AN26,Poängberäkning!$B$6:$B$97,Poängberäkning!$C$6:$C$97)","v":0},null,{"$f":"LOOKUP(AP26,Poängberäkning!$B$6:$B$97,Poängberäkning!$C$6:$C$97)","v":0},null,{"$f":"LOOKUP(AR26,Poängberäkning!$B$6:$B$97,Poängberäkning!$C$6:$C$97)","v":0},null,{"$f":"LOOKUP(AT26,Poängberäkning!$B$6:$B$97,Poängberäkning!$C$6:$C$97)","v":0},null,null,null,null,null,null,null,null,{"$f":"LARGE(($I26,$K26,$M26,$O26,$Q26,$S26,$U26,$W26,$Y26,$AA26,$AC26,$AE26,$AG26,$AI26,$AK26,$AM26,$AO26,$AQ26,$AS26,$AU26,$AW26,$AY26,$BA26,$BC26),1)","v":46},{"$f":"LARGE(($I26,$K26,$M26,$O26,$Q26,$S26,$U26,$W26,$Y26,$AA26,$AC26,$AE26,$AG26,$AI26,$AK26,$AM26,$AO26,$AQ26,$AS26,$AU26,$AW26,$AY26,$BA26,$BC26),2)","v":42},{"$f":"LARGE(($I26,$K26,$M26,$O26,$Q26,$S26,$U26,$W26,$Y26,$AA26,$AC26,$AE26,$AG26,$AI26,$AK26,$AM26,$AO26,$AQ26,$AS26,$AU26,$AW26,$AY26,$BA26,$BC26),3)","v":42},{"$f":"LARGE(($I26,$K26,$M26,$O26,$Q26,$S26,$U26,$W26,$Y26,$AA26,$AC26,$AE26,$AG26,$AI26,$AK26,$AM26,$AO26,$AQ26,$AS26,$AU26,$AW26,$AY26,$BA26,$BC26),4)","v":0},{"$f":"LARGE(($I26,$K26,$M26,$O26,$Q26,$S26,$U26,$W26,$Y26,$AA26,$AC26,$AE26,$AG26,$AI26,$AK26,$AM26,$AO26,$AQ26,$AS26,$AU26,$AW26,$AY26,$BA26,$BC26),5)","v":0},{"$f":"LARGE(($I26,$K26,$M26,$O26,$Q26,$S26,$U26,$W26,$Y26,$AA26,$AC26,$AE26,$AG26,$AI26,$AK26,$AM26,$AO26,$AQ26,$AS26,$AU26,$AW26,$AY26,$BA26,$BC26),6)","v":0},{"$f":"LARGE(($I26,$K26,$M26,$O26,$Q26,$S26,$U26,$W26,$Y26,$AA26,$AC26,$AE26,$AG26,$AI26,$AK26,$AM26,$AO26,$AQ26,$AS26,$AU26,$AW26,$AY26,$BA26,$BC26),7)","v":0},{"$f":"LARGE(($I26,$K26,$M26,$O26,$Q26,$S26,$U26,$W26,$Y26,$AA26,$AC26,$AE26,$AG26,$AI26,$AK26,$AM26,$AO26,$AQ26,$AS26,$AU26,$AW26,$AY26,$BA26,$BC26),8)","v":0},{"$f":"LARGE(($I26,$K26,$M26,$O26,$Q26,$S26,$U26,$W26,$Y26,$AA26,$AC26,$AE26,$AG26,$AI26,$AK26,$AM26,$AO26,$AQ26,$AS26,$AU26,$AW26,$AY26,$BA26,$BC26),9)","v":0},{"$f":"LARGE(($I26,$K26,$M26,$O26,$Q26,$S26,$U26,$W26,$Y26,$AA26,$AC26,$AE26,$AG26,$AI26,$AK26,$AM26,$AO26,$AQ26,$AS26,$AU26,$AW26,$AY26,$BA26,$BC26),10)","v":0}]
[23,2000,"Ida Håkansson","Valfjällets SLK",78,78,78,9,{"$f":"LOOKUP(H27,Poängberäkning!$B$6:$B$97,Poängberäkning!$C$6:$C$97)","v":44},17,{"$f":"LOOKUP(J27,Poängberäkning!$B$6:$B$97,Poängberäkning!$C$6:$C$97)","v":34},99,{"$f":"LOOKUP(L27,Poängberäkning!$B$6:$B$97,Poängberäkning!$C$6:$C$97)","v":0},99,{"$f":"LOOKUP(N27,Poängberäkning!$B$6:$B$97,Poängberäkning!$C$6:$C$97)","v":0},null,{"$f":"LOOKUP(P27,Poängberäkning!$B$6:$B$97,Poängberäkning!$C$6:$C$97)","v":0},null,{"$f":"LOOKUP(R27,Poängberäkning!$B$6:$B$97,Poängberäkning!$C$6:$C$97)","v":0},null,{"$f":"LOOKUP(T27,Poängberäkning!$B$6:$B$97,Poängberäkning!$C$6:$C$97)","v":0},null,{"$f":"LOOKUP(V27,Poängberäkning!$B$6:$B$97,Poängberäkning!$C$6:$C$97)","v":0},null,{"$f":"LOOKUP(X27,Poängberäkning!$B$6:$B$97,Poängberäkning!$C$6:$C$97)","v":0},null,{"$f":"LOOKUP(Z27,Poängberäkning!$B$6:$B$97,Poängberäkning!$C$6:$C$97)","v":0},null,{"$f":"LOOKUP(AB27,Poängberäkning!$B$6:$B$97,Poängberäkning!$C$6:$C$97)","v":0},null,{"$f":"LOOKUP(AD27,Poängberäkning!$B$6:$B$97,Poängberäkning!$C$6:$C$97)","v":0},null,{"$f":"LOOKUP(AF27,Poängberäkning!$B$6:$B$97,Poängberäkning!$C$6:$C$97)","v":0},null,{"$f":"LOOKUP(AH27,Poängberäkning!$B$6:$B$97,Poängberäkning!$C$6:$C$97)","v":0},null,{"$f":"LOOKUP(AJ27,Poängberäkning!$B$6:$B$97,Poängberäkning!$C$6:$C$97)","v":0},null,{"$f":"LOOKUP(AL27,Poängberäkning!$B$6:$B$97,Poängberäkning!$C$6:$C$97)","v":0},null,{"$f":"LOOKUP(AN27,Poängberäkning!$B$6:$B$97,Poängberäkning!$C$6:$C$97)","v":0},null,{"$f":"LOOKUP(AP27,Poängberäkning!$B$6:$B$97,Poängberäkning!$C$6:$C$97)","v":0},null,{"$f":"LOOKUP(AR27,Poängberäkning!$B$6:$B$97,Poängberäkning!$C$6:$C$97)","v":0},null,{"$f":"LOOKUP(AT27,Poängberäkning!$B$6:$B$97,Poängberäkning!$C$6:$C$97)","v":0},null,null,null,null,null,null,null,null,{"$f":"LARGE(($I27,$K27,$M27,$O27,$Q27,$S27,$U27,$W27,$Y27,$AA27,$AC27,$AE27,$AG27,$AI27,$AK27,$AM27,$AO27,$AQ27,$AS27,$AU27,$AW27,$AY27,$BA27,$BC27),1)","v":44},{"$f":"LARGE(($I27,$K27,$M27,$O27,$Q27,$S27,$U27,$W27,$Y27,$AA27,$AC27,$AE27,$AG27,$AI27,$AK27,$AM27,$AO27,$AQ27,$AS27,$AU27,$AW27,$AY27,$BA27,$BC27),2)","v":34},{"$f":"LARGE(($I27,$K27,$M27,$O27,$Q27,$S27,$U27,$W27,$Y27,$AA27,$AC27,$AE27,$AG27,$AI27,$AK27,$AM27,$AO27,$AQ27,$AS27,$AU27,$AW27,$AY27,$BA27,$BC27),3)","v":0},{"$f":"LARGE(($I27,$K27,$M27,$O27,$Q27,$S27,$U27,$W27,$Y27,$AA27,$AC27,$AE27,$AG27,$AI27,$AK27,$AM27,$AO27,$AQ27,$AS27,$AU27,$AW27,$AY27,$BA27,$BC27),4)","v":0},{"$f":"LARGE(($I27,$K27,$M27,$O27,$Q27,$S27,$U27,$W27,$Y27,$AA27,$AC27,$AE27,$AG27,$AI27,$AK27,$AM27,$AO27,$AQ27,$AS27,$AU27,$AW27,$AY27,$BA27,$BC27),5)","v":0},{"$f":"LARGE(($I27,$K27,$M27,$O27,$Q27,$S27,$U27,$W27,$Y27,$AA27,$AC27,$AE27,$AG27,$AI27,$AK27,$AM27,$AO27,$AQ27,$AS27,$AU27,$AW27,$AY27,$BA27,$BC27),6)","v":0},{"$f":"LARGE(($I27,$K27,$M27,$O27,$Q27,$S27,$U27,$W27,$Y27,$AA27,$AC27,$AE27,$AG27,$AI27,$AK27,$AM27,$AO27,$AQ27,$AS27,$AU27,$AW27,$AY27,$BA27,$BC27),7)","v":0},{"$f":"LARGE(($I27,$K27,$M27,$O27,$Q27,$S27,$U27,$W27,$Y27,$AA27,$AC27,$AE27,$AG27,$AI27,$AK27,$AM27,$AO27,$AQ27,$AS27,$AU27,$AW27,$AY27,$BA27,$BC27),8)","v":0},{"$f":"LARGE(($I27,$K27,$M27,$O27,$Q27,$S27,$U27,$W27,$Y27,$AA27,$AC27,$AE27,$AG27,$AI27,$AK27,$AM27,$AO27,$AQ27,$AS27,$AU27,$AW27,$AY27,$BA27,$BC27),9)","v":0},{"$f":"LARGE(($I27,$K27,$M27,$O27,$Q27,$S27,$U27,$W27,$Y27,$AA27,$AC27,$AE27,$AG27,$AI27,$AK27,$AM27,$AO27,$AQ27,$AS27,$AU27,$AW27,$AY27,$BA27,$BC27),10)","v":0}]
[24,2000,"Emma Skogsmark","Avesta AK",61,61,61,99,{"$f":"LOOKUP(H28,Poängberäkning!$B$6:$B$97,Poängberäkning!$C$6:$C$97)","v":0},22,{"$f":"LOOKUP(J28,Poängberäkning!$B$6:$B$97,Poängberäkning!$C$6:$C$97)","v":29},19,{"$f":"LOOKUP(L28,Poängberäkning!$B$6:$B$97,Poängberäkning!$C$6:$C$97)","v":32},99,{"$f":"LOOKUP(N28,Poängberäkning!$B$6:$B$97,Poängberäkning!$C$6:$C$97)","v":0},99,{"$f":"LOOKUP(P28,Poängberäkning!$B$6:$B$97,Poängberäkning!$C$6:$C$97)","v":0},99,{"$f":"LOOKUP(R28,Poängberäkning!$B$6:$B$97,Poängberäkning!$C$6:$C$97)","v":0},null,{"$f":"LOOKUP(T28,Poängberäkning!$B$6:$B$97,Poängberäkning!$C$6:$C$97)","v":0},null,{"$f":"LOOKUP(V28,Poängberäkning!$B$6:$B$97,Poängberäkning!$C$6:$C$97)","v":0},null,{"$f":"LOOKUP(X28,Poängberäkning!$B$6:$B$97,Poängberäkning!$C$6:$C$97)","v":0},null,{"$f":"LOOKUP(Z28,Poängberäkning!$B$6:$B$97,Poängberäkning!$C$6:$C$97)","v":0},null,{"$f":"LOOKUP(AB28,Poängberäkning!$B$6:$B$97,Poängberäkning!$C$6:$C$97)","v":0},null,{"$f":"LOOKUP(AD28,Poängberäkning!$B$6:$B$97,Poängberäkning!$C$6:$C$97)","v":0},null,{"$f":"LOOKUP(AF28,Poängberäkning!$B$6:$B$97,Poängberäkning!$C$6:$C$97)","v":0},null,{"$f":"LOOKUP(AH28,Poängberäkning!$B$6:$B$97,Poängberäkning!$C$6:$C$97)","v":0},null,{"$f":"LOOKUP(AJ28,Poängberäkning!$B$6:$B$97,Poängberäkning!$C$6:$C$97)","v":0},null,{"$f":"LOOKUP(AL28,Poängberäkning!$B$6:$B$97,Poängberäkning!$C$6:$C$97)","v":0},null,{"$f":"LOOKUP(AN28,Poängberäkning!$B$6:$B$97,Poängberäkning!$C$6:$C$97)","v":0},null,{"$f":"LOOKUP(AP28,Poängberäkning!$B$6:$B$97,Poängberäkning!$C$6:$C$97)","v":0},null,{"$f":"LOOKUP(AR28,Poängberäkning!$B$6:$B$97,Poängberäkning!$C$6:$C$97)","v":0},null,{"$f":"LOOKUP(AT28,Poängberäkning!$B$6:$B$97,Poängberäkning!$C$6:$C$97)","v":0},null,null,null,null,null,null,null,null,{"$f":"LARGE(($I28,$K28,$M28,$O28,$Q28,$S28,$U28,$W28,$Y28,$AA28,$AC28,$AE28,$AG28,$AI28,$AK28,$AM28,$AO28,$AQ28,$AS28,$AU28,$AW28,$AY28,$BA28,$BC28),1)","v":32},{"$f":"LARGE(($I28,$K28,$M28,$O28,$Q28,$S28,$U28,$W28,$Y28,$AA28,$AC28,$AE28,$AG28,$AI28,$AK28,$AM28,$AO28,$AQ28,$AS28,$AU28,$AW28,$AY28,$BA28,$BC28),2)","v":29},{"$f":"LARGE(($I28,$K28,$M28,$O28,$Q28,$S28,$U28,$W28,$Y28,$AA28,$AC28,$AE28,$AG28,$AI28,$AK28,$AM28,$AO28,$AQ28,$AS28,$AU28,$AW28,$AY28,$BA28,$BC28),3)","v":0},{"$f":"LARGE(($I28,$K28,$M28,$O28,$Q28,$S28,$U28,$W28,$Y28,$AA28,$AC28,$AE28,$AG28,$AI28,$AK28,$AM28,$AO28,$AQ28,$AS28,$AU28,$AW28,$AY28,$BA28,$BC28),4)","v":0},{"$f":"LARGE(($I28,$K28,$M28,$O28,$Q28,$S28,$U28,$W28,$Y28,$AA28,$AC28,$AE28,$AG28,$AI28,$AK28,$AM28,$AO28,$AQ28,$AS28,$AU28,$AW28,$AY28,$BA28,$BC28),5)","v":0},{"$f":"LARGE(($I28,$K28,$M28,$O28,$Q28,$S28,$U28,$W28,$Y28,$AA28,$AC28,$AE28,$AG28,$AI28,$AK28,$AM28,$AO28,$AQ28,$AS28,$AU28,$AW28,$AY28,$BA28,$BC28),6)","v":0},{"$f":"LARGE(($I28,$K28,$M28,$O28,$Q28,$S28,$U28,$W28,$Y28,$AA28,$AC28,$AE28,$AG28,$AI28,$AK28,$AM28,$AO28,$AQ28,$AS28,$AU28,$AW28,$AY28,$BA28,$BC28),7)","v":0},{"$f":"LARGE(($I28,$K28,$M28,$O28,$Q28,$S28,$U28,$W28,$Y28,$AA28,$AC28,$AE28,$AG28,$AI28,$AK28,$AM28,$AO28,$AQ28,$AS28,$AU28,$AW28,$AY28,$BA28,$BC28),8)","v":0},{"$f":"LARGE(($I28,$K28,$M28,$O28,$Q28,$S28,$U28,$W28,$Y28,$AA28,$AC28,$AE28,$AG28,$AI28,$AK28,$AM28,$AO28,$AQ28,$AS28,$AU28,$AW28,$AY28,$BA28,$BC28),9)","v":0},{"$f":"LARGE(($I28,$K28,$M28,$O28,$Q28,$S28,$U28,$W28,$Y28,$AA28,$AC28,$AE28,$AG28,$AI28,$AK28,$AM28,$AO28,$AQ28,$AS28,$AU28,$AW28,$AY28,$BA28,$BC28),10)","v":0}]
[25,2000,"Emilia Pantzare","Idre SK",0,0,0,null,{"$f":"LOOKUP(H29,Poängberäkning!$B$6:$B$97,Poängberäkning!$C$6:$C$97)","v":0},null,{"$f":"LOOKUP(J29,Poängberäkning!$B$6:$B$97,Poängberäkning!$C$6:$C$97)","v":0},null,{"$f":"LOOKUP(L29,Poängberäkning!$B$6:$B$97,Poängberäkning!$C$6:$C$97)","v":0},null,{"$f":"LOOKUP(N29,Poängberäkning!$B$6:$B$97,Poängberäkning!$C$6:$C$97)","v":0},99,{"$f":"LOOKUP(P29,Poängberäkning!$B$6:$B$97,Poängberäkning!$C$6:$C$97)","v":0},99,{"$f":"LOOKUP(R29,Poängberäkning!$B$6:$B$97,Poängberäkning!$C$6:$C$97)","v":0},99,{"$f":"LOOKUP(T29,Poängberäkning!$B$6:$B$97,Poängberäkning!$C$6:$C$97)","v":0},null,{"$f":"LOOKUP(V29,Poängberäkning!$B$6:$B$97,Poängberäkning!$C$6:$C$97)","v":0},null,{"$f":"LOOKUP(X29,Poängberäkning!$B$6:$B$97,Poängberäkning!$C$6:$C$97)","v":0},null,{"$f":"LOOKUP(Z29,Poängberäkning!$B$6:$B$97,Poängberäkning!$C$6:$C$97)","v":0},null,{"$f":"LOOKUP(AB29,Poängberäkning!$B$6:$B$97,Poängberäkning!$C$6:$C$97)","v":0},null,{"$f":"LOOKUP(AD29,Poängberäkning!$B$6:$B$97,Poängberäkning!$C$6:$C$97)","v":0},null,{"$f":"LOOKUP(AF29,Poängberäkning!$B$6:$B$97,Poängberäkning!$C$6:$C$97)","v":0},null,{"$f":"LOOKUP(AH29,Poängberäkning!$B$6:$B$97,Poängberäkning!$C$6:$C$97)","v":0},null,{"$f":"LOOKUP(AJ29,Poängberäkning!$B$6:$B$97,Poängberäkning!$C$6:$C$97)","v":0},null,{"$f":"LOOKUP(AL29,Poängberäkning!$B$6:$B$97,Poängberäkning!$C$6:$C$97)","v":0},null,{"$f":"LOOKUP(AN29,Poängberäkning!$B$6:$B$97,Poängberäkning!$C$6:$C$97)","v":0},null,{"$f":"LOOKUP(AP29,Poängberäkning!$B$6:$B$97,Poängberäkning!$C$6:$C$97)","v":0},null,{"$f":"LOOKUP(AR29,Poängberäkning!$B$6:$B$97,Poängberäkning!$C$6:$C$97)","v":0},null,{"$f":"LOOKUP(AT29,Poängberäkning!$B$6:$B$97,Poängberäkning!$C$6:$C$97)","v":0},null,null,null,null,null,null,null,null,{"$f":"LARGE(($I29,$K29,$M29,$O29,$Q29,$S29,$U29,$W29,$Y29,$AA29,$AC29,$AE29,$AG29,$AI29,$AK29,$AM29,$AO29,$AQ29,$AS29,$AU29,$AW29,$AY29,$BA29,$BC29),1)","v":0},{"$f":"LARGE(($I29,$K29,$M29,$O29,$Q29,$S29,$U29,$W29,$Y29,$AA29,$AC29,$AE29,$AG29,$AI29,$AK29,$AM29,$AO29,$AQ29,$AS29,$AU29,$AW29,$AY29,$BA29,$BC29),2)","v":0},{"$f":"LARGE(($I29,$K29,$M29,$O29,$Q29,$S29,$U29,$W29,$Y29,$AA29,$AC29,$AE29,$AG29,$AI29,$AK29,$AM29,$AO29,$AQ29,$AS29,$AU29,$AW29,$AY29,$BA29,$BC29),3)","v":0},{"$f":"LARGE(($I29,$K29,$M29,$O29,$Q29,$S29,$U29,$W29,$Y29,$AA29,$AC29,$AE29,$AG29,$AI29,$AK29,$AM29,$AO29,$AQ29,$AS29,$AU29,$AW29,$AY29,$BA29,$BC29),4)","v":0},{"$f":"LARGE(($I29,$K29,$M29,$O29,$Q29,$S29,$U29,$W29,$Y29,$AA29,$AC29,$AE29,$AG29,$AI29,$AK29,$AM29,$AO29,$AQ29,$AS29,$AU29,$AW29,$AY29,$BA29,$BC29),5)","v":0},{"$f":"LARGE(($I29,$K29,$M29,$O29,$Q29,$S29,$U29,$W29,$Y29,$AA29,$AC29,$AE29,$AG29,$AI29,$AK29,$AM29,$AO29,$AQ29,$AS29,$AU29,$AW29,$AY29,$BA29,$BC29),6)","v":0},{"$f":"LARGE(($I29,$K29,$M29,$O29,$Q29,$S29,$U29,$W29,$Y29,$AA29,$AC29,$AE29,$AG29,$AI29,$AK29,$AM29,$AO29,$AQ29,$AS29,$AU29,$AW29,$AY29,$BA29,$BC29),7)","v":0},{"$f":"LARGE(($I29,$K29,$M29,$O29,$Q29,$S29,$U29,$W29,$Y29,$AA29,$AC29,$AE29,$AG29,$AI29,$AK29,$AM29,$AO29,$AQ29,$AS29,$AU29,$AW29,$AY29,$BA29,$BC29),8)","v":0},{"$f":"LARGE(($I29,$K29,$M29,$O29,$Q29,$S29,$U29,$W29,$Y29,$AA29,$AC29,$AE29,$AG29,$AI29,$AK29,$AM29,$AO29,$AQ29,$AS29,$AU29,$AW29,$AY29,$BA29,$BC29),9)","v":0},{"$f":"LARGE(($I29,$K29,$M29,$O29,$Q29,$S29,$U29,$W29,$Y29,$AA29,$AC29,$AE29,$AG29,$AI29,$AK29,$AM29,$AO29,$AQ29,$AS29,$AU29,$AW29,$AY29,$BA29,$BC29),10)","v":0}]
[26,null,null,null,0,0,0,null,{"$f":"LOOKUP(H30,Poängberäkning!$B$6:$B$97,Poängberäkning!$C$6:$C$97)","v":0},null,{"$f":"LOOKUP(J30,Poängberäkning!$B$6:$B$97,Poängberäkning!$C$6:$C$97)","v":0},null,{"$f":"LOOKUP(L30,Poängberäkning!$B$6:$B$97,Poängberäkning!$C$6:$C$97)","v":0},null,{"$f":"LOOKUP(N30,Poängberäkning!$B$6:$B$97,Poängberäkning!$C$6:$C$97)","v":0},null,{"$f":"LOOKUP(P30,Poängberäkning!$B$6:$B$97,Poängberäkning!$C$6:$C$97)","v":0},null,{"$f":"LOOKUP(R30,Poängberäkning!$B$6:$B$97,Poängberäkning!$C$6:$C$97)","v":0},null,{"$f":"LOOKUP(T30,Poängberäkning!$B$6:$B$97,Poängberäkning!$C$6:$C$97)","v":0},null,{"$f":"LOOKUP(V30,Poängberäkning!$B$6:$B$97,Poängberäkning!$C$6:$C$97)","v":0},null,{"$f":"LOOKUP(X30,Poängberäkning!$B$6:$B$97,Poängberäkning!$C$6:$C$97)","v":0},null,{"$f":"LOOKUP(Z30,Poängberäkning!$B$6:$B$97,Poängberäkning!$C$6:$C$97)","v":0},null,{"$f":"LOOKUP(AB30,Poängberäkning!$B$6:$B$97,Poängberäkning!$C$6:$C$97)","v":0},null,{"$f":"LOOKUP(AD30,Poängberäkning!$B$6:$B$97,Poängberäkning!$C$6:$C$97)","v":0},null,{"$f":"LOOKUP(AF30,Poängberäkning!$B$6:$B$97,Poängberäkning!$C$6:$C$97)","v":0},null,{"$f":"LOOKUP(AH30,Poängberäkning!$B$6:$B$97,Poängberäkning!$C$6:$C$97)","v":0},null,{"$f":"LOOKUP(AJ30,Poängberäkning!$B$6:$B$97,Poängberäkning!$C$6:$C$97)","v":0},null,{"$f":"LOOKUP(AL30,Poängberäkning!$B$6:$B$97,Poängberäkning!$C$6:$C$97)","v":0},null,{"$f":"LOOKUP(AN30,Poängberäkning!$B$6:$B$97,Poängberäkning!$C$6:$C$97)","v":0},null,{"$f":"LOOKUP(AP30,Poängberäkning!$B$6:$B$97,Poängberäkning!$C$6:$C$97)","v":0},null,{"$f":"LOOKUP(AR30,Poängberäkning!$B$6:$B$97,Poängberäkning!$C$6:$C$97)","v":0},null,{"$f":"LOOKUP(AT30,Poängberäkning!$B$6:$B$97,Poängberäkning!$C$6:$C$97)","v":0},null,null,null,null,null,null,null,null,{"$f":"LARGE(($I30,$K30,$M30,$O30,$Q30,$S30,$U30,$W30,$Y30,$AA30,$AC30,$AE30,$AG30,$AI30,$AK30,$AM30,$AO30,$AQ30,$AS30,$AU30,$AW30,$AY30,$BA30,$BC30),1)","v":0},{"$f":"LARGE(($I30,$K30,$M30,$O30,$Q30,$S30,$U30,$W30,$Y30,$AA30,$AC30,$AE30,$AG30,$AI30,$AK30,$AM30,$AO30,$AQ30,$AS30,$AU30,$AW30,$AY30,$BA30,$BC30),2)","v":0},{"$f":"LARGE(($I30,$K30,$M30,$O30,$Q30,$S30,$U30,$W30,$Y30,$AA30,$AC30,$AE30,$AG30,$AI30,$AK30,$AM30,$AO30,$AQ30,$AS30,$AU30,$AW30,$AY30,$BA30,$BC30),3)","v":0},{"$f":"LARGE(($I30,$K30,$M30,$O30,$Q30,$S30,$U30,$W30,$Y30,$AA30,$AC30,$AE30,$AG30,$AI30,$AK30,$AM30,$AO30,$AQ30,$AS30,$AU30,$AW30,$AY30,$BA30,$BC30),4)","v":0},{"$f":"LARGE(($I30,$K30,$M30,$O30,$Q30,$S30,$U30,$W30,$Y30,$AA30,$AC30,$AE30,$AG30,$AI30,$AK30,$AM30,$AO30,$AQ30,$AS30,$AU30,$AW30,$AY30,$BA30,$BC30),5)","v":0},{"$f":"LARGE(($I30,$K30,$M30,$O30,$Q30,$S30,$U30,$W30,$Y30,$AA30,$AC30,$AE30,$AG30,$AI30,$AK30,$AM30,$AO30,$AQ30,$AS30,$AU30,$AW30,$AY30,$BA30,$BC30),6)","v":0},{"$f":"LARGE(($I30,$K30,$M30,$O30,$Q30,$S30,$U30,$W30,$Y30,$AA30,$AC30,$AE30,$AG30,$AI30,$AK30,$AM30,$AO30,$AQ30,$AS30,$AU30,$AW30,$AY30,$BA30,$BC30),7)","v":0},{"$f":"LARGE(($I30,$K30,$M30,$O30,$Q30,$S30,$U30,$W30,$Y30,$AA30,$AC30,$AE30,$AG30,$AI30,$AK30,$AM30,$AO30,$AQ30,$AS30,$AU30,$AW30,$AY30,$BA30,$BC30),8)","v":0},{"$f":"LARGE(($I30,$K30,$M30,$O30,$Q30,$S30,$U30,$W30,$Y30,$AA30,$AC30,$AE30,$AG30,$AI30,$AK30,$AM30,$AO30,$AQ30,$AS30,$AU30,$AW30,$AY30,$BA30,$BC30),9)","v":0},{"$f":"LARGE(($I30,$K30,$M30,$O30,$Q30,$S30,$U30,$W30,$Y30,$AA30,$AC30,$AE30,$AG30,$AI30,$AK30,$AM30,$AO30,$AQ30,$AS30,$AU30,$AW30,$AY30,$BA30,$BC30),10)","v":0}]
[27,null,null,null,0,0,0,null,{"$f":"LOOKUP(H31,Poängberäkning!$B$6:$B$97,Poängberäkning!$C$6:$C$97)","v":0},null,{"$f":"LOOKUP(J31,Poängberäkning!$B$6:$B$97,Poängberäkning!$C$6:$C$97)","v":0},null,{"$f":"LOOKUP(L31,Poängberäkning!$B$6:$B$97,Poängberäkning!$C$6:$C$97)","v":0},null,{"$f":"LOOKUP(N31,Poängberäkning!$B$6:$B$97,Poängberäkning!$C$6:$C$97)","v":0},null,{"$f":"LOOKUP(P31,Poängberäkning!$B$6:$B$97,Poängberäkning!$C$6:$C$97)","v":0},null,{"$f":"LOOKUP(R31,Poängberäkning!$B$6:$B$97,Poängberäkning!$C$6:$C$97)","v":0},null,{"$f":"LOOKUP(T31,Poängberäkning!$B$6:$B$97,Poängberäkning!$C$6:$C$97)","v":0},null,{"$f":"LOOKUP(V31,Poängberäkning!$B$6:$B$97,Poängberäkning!$C$6:$C$97)","v":0},null,{"$f":"LOOKUP(X31,Poängberäkning!$B$6:$B$97,Poängberäkning!$C$6:$C$97)","v":0},null,{"$f":"LOOKUP(Z31,Poängberäkning!$B$6:$B$97,Poängberäkning!$C$6:$C$97)","v":0},null,{"$f":"LOOKUP(AB31,Poängberäkning!$B$6:$B$97,Poängberäkning!$C$6:$C$97)","v":0},null,{"$f":"LOOKUP(AD31,Poängberäkning!$B$6:$B$97,Poängberäkning!$C$6:$C$97)","v":0},null,{"$f":"LOOKUP(AF31,Poängberäkning!$B$6:$B$97,Poängberäkning!$C$6:$C$97)","v":0},null,{"$f":"LOOKUP(AH31,Poängberäkning!$B$6:$B$97,Poängberäkning!$C$6:$C$97)","v":0},null,{"$f":"LOOKUP(AJ31,Poängberäkning!$B$6:$B$97,Poängberäkning!$C$6:$C$97)","v":0},null,{"$f":"LOOKUP(AL31,Poängberäkning!$B$6:$B$97,Poängberäkning!$C$6:$C$97)","v":0},null,{"$f":"LOOKUP(AN31,Poängberäkning!$B$6:$B$97,Poängberäkning!$C$6:$C$97)","v":0},null,{"$f":"LOOKUP(AP31,Poängberäkning!$B$6:$B$97,Poängberäkning!$C$6:$C$97)","v":0},null,{"$f":"LOOKUP(AR31,Poängberäkning!$B$6:$B$97,Poängberäkning!$C$6:$C$97)","v":0},null,{"$f":"LOOKUP(AT31,Poängberäkning!$B$6:$B$97,Poängberäkning!$C$6:$C$97)","v":0},null,null,null,null,null,null,null,null,{"$f":"LARGE(($I31,$K31,$M31,$O31,$Q31,$S31,$U31,$W31,$Y31,$AA31,$AC31,$AE31,$AG31,$AI31,$AK31,$AM31,$AO31,$AQ31,$AS31,$AU31,$AW31,$AY31,$BA31,$BC31),1)","v":0},{"$f":"LARGE(($I31,$K31,$M31,$O31,$Q31,$S31,$U31,$W31,$Y31,$AA31,$AC31,$AE31,$AG31,$AI31,$AK31,$AM31,$AO31,$AQ31,$AS31,$AU31,$AW31,$AY31,$BA31,$BC31),2)","v":0},{"$f":"LARGE(($I31,$K31,$M31,$O31,$Q31,$S31,$U31,$W31,$Y31,$AA31,$AC31,$AE31,$AG31,$AI31,$AK31,$AM31,$AO31,$AQ31,$AS31,$AU31,$AW31,$AY31,$BA31,$BC31),3)","v":0},{"$f":"LARGE(($I31,$K31,$M31,$O31,$Q31,$S31,$U31,$W31,$Y31,$AA31,$AC31,$AE31,$AG31,$AI31,$AK31,$AM31,$AO31,$AQ31,$AS31,$AU31,$AW31,$AY31,$BA31,$BC31),4)","v":0},{"$f":"LARGE(($I31,$K31,$M31,$O31,$Q31,$S31,$U31,$W31,$Y31,$AA31,$AC31,$AE31,$AG31,$AI31,$AK31,$AM31,$AO31,$AQ31,$AS31,$AU31,$AW31,$AY31,$BA31,$BC31),5)","v":0},{"$f":"LARGE(($I31,$K31,$M31,$O31,$Q31,$S31,$U31,$W31,$Y31,$AA31,$AC31,$AE31,$AG31,$AI31,$AK31,$AM31,$AO31,$AQ31,$AS31,$AU31,$AW31,$AY31,$BA31,$BC31),6)","v":0},{"$f":"LARGE(($I31,$K31,$M31,$O31,$Q31,$S31,$U31,$W31,$Y31,$AA31,$AC31,$AE31,$AG31,$AI31,$AK31,$AM31,$AO31,$AQ31,$AS31,$AU31,$AW31,$AY31,$BA31,$BC31),7)","v":0},{"$f":"LARGE(($I31,$K31,$M31,$O31,$Q31,$S31,$U31,$W31,$Y31,$AA31,$AC31,$AE31,$AG31,$AI31,$AK31,$AM31,$AO31,$AQ31,$AS31,$AU31,$AW31,$AY31,$BA31,$BC31),8)","v":0},{"$f":"LARGE(($I31,$K31,$M31,$O31,$Q31,$S31,$U31,$W31,$Y31,$AA31,$AC31,$AE31,$AG31,$AI31,$AK31,$AM31,$AO31,$AQ31,$AS31,$AU31,$AW31,$AY31,$BA31,$BC31),9)","v":0},{"$f":"LARGE(($I31,$K31,$M31,$O31,$Q31,$S31,$U31,$W31,$Y31,$AA31,$AC31,$AE31,$AG31,$AI31,$AK31,$AM31,$AO31,$AQ31,$AS31,$AU31,$AW31,$AY31,$BA31,$BC31),10)","v":0}]
[28,null,null,null,0,0,0,null,{"$f":"LOOKUP(H32,Poängberäkning!$B$6:$B$97,Poängberäkning!$C$6:$C$97)","v":0},null,{"$f":"LOOKUP(J32,Poängberäkning!$B$6:$B$97,Poängberäkning!$C$6:$C$97)","v":0},null,{"$f":"LOOKUP(L32,Poängberäkning!$B$6:$B$97,Poängberäkning!$C$6:$C$97)","v":0},null,{"$f":"LOOKUP(N32,Poängberäkning!$B$6:$B$97,Poängberäkning!$C$6:$C$97)","v":0},null,{"$f":"LOOKUP(P32,Poängberäkning!$B$6:$B$97,Poängberäkning!$C$6:$C$97)","v":0},null,{"$f":"LOOKUP(R32,Poängberäkning!$B$6:$B$97,Poängberäkning!$C$6:$C$97)","v":0},null,{"$f":"LOOKUP(T32,Poängberäkning!$B$6:$B$97,Poängberäkning!$C$6:$C$97)","v":0},null,{"$f":"LOOKUP(V32,Poängberäkning!$B$6:$B$97,Poängberäkning!$C$6:$C$97)","v":0},null,{"$f":"LOOKUP(X32,Poängberäkning!$B$6:$B$97,Poängberäkning!$C$6:$C$97)","v":0},null,{"$f":"LOOKUP(Z32,Poängberäkning!$B$6:$B$97,Poängberäkning!$C$6:$C$97)","v":0},null,{"$f":"LOOKUP(AB32,Poängberäkning!$B$6:$B$97,Poängberäkning!$C$6:$C$97)","v":0},null,{"$f":"LOOKUP(AD32,Poängberäkning!$B$6:$B$97,Poängberäkning!$C$6:$C$97)","v":0},null,{"$f":"LOOKUP(AF32,Poängberäkning!$B$6:$B$97,Poängberäkning!$C$6:$C$97)","v":0},null,{"$f":"LOOKUP(AH32,Poängberäkning!$B$6:$B$97,Poängberäkning!$C$6:$C$97)","v":0},null,{"$f":"LOOKUP(AJ32,Poängberäkning!$B$6:$B$97,Poängberäkning!$C$6:$C$97)","v":0},null,{"$f":"LOOKUP(AL32,Poängberäkning!$B$6:$B$97,Poängberäkning!$C$6:$C$97)","v":0},null,{"$f":"LOOKUP(AN32,Poängberäkning!$B$6:$B$97,Poängberäkning!$C$6:$C$97)","v":0},null,{"$f":"LOOKUP(AP32,Poängberäkning!$B$6:$B$97,Poängberäkning!$C$6:$C$97)","v":0},null,{"$f":"LOOKUP(AR32,Poängberäkning!$B$6:$B$97,Poängberäkning!$C$6:$C$97)","v":0},null,{"$f":"LOOKUP(AT32,Poängberäkning!$B$6:$B$97,Poängberäkning!$C$6:$C$97)","v":0},null,null,null,null,null,null,null,null,{"$f":"LARGE(($I32,$K32,$M32,$O32,$Q32,$S32,$U32,$W32,$Y32,$AA32,$AC32,$AE32,$AG32,$AI32,$AK32,$AM32,$AO32,$AQ32,$AS32,$AU32,$AW32,$AY32,$BA32,$BC32),1)","v":0},{"$f":"LARGE(($I32,$K32,$M32,$O32,$Q32,$S32,$U32,$W32,$Y32,$AA32,$AC32,$AE32,$AG32,$AI32,$AK32,$AM32,$AO32,$AQ32,$AS32,$AU32,$AW32,$AY32,$BA32,$BC32),2)","v":0},{"$f":"LARGE(($I32,$K32,$M32,$O32,$Q32,$S32,$U32,$W32,$Y32,$AA32,$AC32,$AE32,$AG32,$AI32,$AK32,$AM32,$AO32,$AQ32,$AS32,$AU32,$AW32,$AY32,$BA32,$BC32),3)","v":0},{"$f":"LARGE(($I32,$K32,$M32,$O32,$Q32,$S32,$U32,$W32,$Y32,$AA32,$AC32,$AE32,$AG32,$AI32,$AK32,$AM32,$AO32,$AQ32,$AS32,$AU32,$AW32,$AY32,$BA32,$BC32),4)","v":0},{"$f":"LARGE(($I32,$K32,$M32,$O32,$Q32,$S32,$U32,$W32,$Y32,$AA32,$AC32,$AE32,$AG32,$AI32,$AK32,$AM32,$AO32,$AQ32,$AS32,$AU32,$AW32,$AY32,$BA32,$BC32),5)","v":0},{"$f":"LARGE(($I32,$K32,$M32,$O32,$Q32,$S32,$U32,$W32,$Y32,$AA32,$AC32,$AE32,$AG32,$AI32,$AK32,$AM32,$AO32,$AQ32,$AS32,$AU32,$AW32,$AY32,$BA32,$BC32),6)","v":0},{"$f":"LARGE(($I32,$K32,$M32,$O32,$Q32,$S32,$U32,$W32,$Y32,$AA32,$AC32,$AE32,$AG32,$AI32,$AK32,$AM32,$AO32,$AQ32,$AS32,$AU32,$AW32,$AY32,$BA32,$BC32),7)","v":0},{"$f":"LARGE(($I32,$K32,$M32,$O32,$Q32,$S32,$U32,$W32,$Y32,$AA32,$AC32,$AE32,$AG32,$AI32,$AK32,$AM32,$AO32,$AQ32,$AS32,$AU32,$AW32,$AY32,$BA32,$BC32),8)","v":0},{"$f":"LARGE(($I32,$K32,$M32,$O32,$Q32,$S32,$U32,$W32,$Y32,$AA32,$AC32,$AE32,$AG32,$AI32,$AK32,$AM32,$AO32,$AQ32,$AS32,$AU32,$AW32,$AY32,$BA32,$BC32),9)","v":0},{"$f":"LARGE(($I32,$K32,$M32,$O32,$Q32,$S32,$U32,$W32,$Y32,$AA32,$AC32,$AE32,$AG32,$AI32,$AK32,$AM32,$AO32,$AQ32,$AS32,$AU32,$AW32,$AY32,$BA32,$BC32),10)","v":0}]
[29,null,null,null,0,0,0,null,{"$f":"LOOKUP(H33,Poängberäkning!$B$6:$B$97,Poängberäkning!$C$6:$C$97)","v":0},null,{"$f":"LOOKUP(J33,Poängberäkning!$B$6:$B$97,Poängberäkning!$C$6:$C$97)","v":0},null,{"$f":"LOOKUP(L33,Poängberäkning!$B$6:$B$97,Poängberäkning!$C$6:$C$97)","v":0},null,{"$f":"LOOKUP(N33,Poängberäkning!$B$6:$B$97,Poängberäkning!$C$6:$C$97)","v":0},null,{"$f":"LOOKUP(P33,Poängberäkning!$B$6:$B$97,Poängberäkning!$C$6:$C$97)","v":0},null,{"$f":"LOOKUP(R33,Poängberäkning!$B$6:$B$97,Poängberäkning!$C$6:$C$97)","v":0},null,{"$f":"LOOKUP(T33,Poängberäkning!$B$6:$B$97,Poängberäkning!$C$6:$C$97)","v":0},null,{"$f":"LOOKUP(V33,Poängberäkning!$B$6:$B$97,Poängberäkning!$C$6:$C$97)","v":0},null,{"$f":"LOOKUP(X33,Poängberäkning!$B$6:$B$97,Poängberäkning!$C$6:$C$97)","v":0},null,{"$f":"LOOKUP(Z33,Poängberäkning!$B$6:$B$97,Poängberäkning!$C$6:$C$97)","v":0},null,{"$f":"LOOKUP(AB33,Poängberäkning!$B$6:$B$97,Poängberäkning!$C$6:$C$97)","v":0},null,{"$f":"LOOKUP(AD33,Poängberäkning!$B$6:$B$97,Poängberäkning!$C$6:$C$97)","v":0},null,{"$f":"LOOKUP(AF33,Poängberäkning!$B$6:$B$97,Poängberäkning!$C$6:$C$97)","v":0},null,{"$f":"LOOKUP(AH33,Poängberäkning!$B$6:$B$97,Poängberäkning!$C$6:$C$97)","v":0},null,{"$f":"LOOKUP(AJ33,Poängberäkning!$B$6:$B$97,Poängberäkning!$C$6:$C$97)","v":0},null,{"$f":"LOOKUP(AL33,Poängberäkning!$B$6:$B$97,Poängberäkning!$C$6:$C$97)","v":0},null,{"$f":"LOOKUP(AN33,Poängberäkning!$B$6:$B$97,Poängberäkning!$C$6:$C$97)","v":0},null,{"$f":"LOOKUP(AP33,Poängberäkning!$B$6:$B$97,Poängberäkning!$C$6:$C$97)","v":0},null,{"$f":"LOOKUP(AR33,Poängberäkning!$B$6:$B$97,Poängberäkning!$C$6:$C$97)","v":0},null,{"$f":"LOOKUP(AT33,Poängberäkning!$B$6:$B$97,Poängberäkning!$C$6:$C$97)","v":0},null,null,null,null,null,null,null,null,{"$f":"LARGE(($I33,$K33,$M33,$O33,$Q33,$S33,$U33,$W33,$Y33,$AA33,$AC33,$AE33,$AG33,$AI33,$AK33,$AM33,$AO33,$AQ33,$AS33,$AU33,$AW33,$AY33,$BA33,$BC33),1)","v":0},{"$f":"LARGE(($I33,$K33,$M33,$O33,$Q33,$S33,$U33,$W33,$Y33,$AA33,$AC33,$AE33,$AG33,$AI33,$AK33,$AM33,$AO33,$AQ33,$AS33,$AU33,$AW33,$AY33,$BA33,$BC33),2)","v":0},{"$f":"LARGE(($I33,$K33,$M33,$O33,$Q33,$S33,$U33,$W33,$Y33,$AA33,$AC33,$AE33,$AG33,$AI33,$AK33,$AM33,$AO33,$AQ33,$AS33,$AU33,$AW33,$AY33,$BA33,$BC33),3)","v":0},{"$f":"LARGE(($I33,$K33,$M33,$O33,$Q33,$S33,$U33,$W33,$Y33,$AA33,$AC33,$AE33,$AG33,$AI33,$AK33,$AM33,$AO33,$AQ33,$AS33,$AU33,$AW33,$AY33,$BA33,$BC33),4)","v":0},{"$f":"LARGE(($I33,$K33,$M33,$O33,$Q33,$S33,$U33,$W33,$Y33,$AA33,$AC33,$AE33,$AG33,$AI33,$AK33,$AM33,$AO33,$AQ33,$AS33,$AU33,$AW33,$AY33,$BA33,$BC33),5)","v":0},{"$f":"LARGE(($I33,$K33,$M33,$O33,$Q33,$S33,$U33,$W33,$Y33,$AA33,$AC33,$AE33,$AG33,$AI33,$AK33,$AM33,$AO33,$AQ33,$AS33,$AU33,$AW33,$AY33,$BA33,$BC33),6)","v":0},{"$f":"LARGE(($I33,$K33,$M33,$O33,$Q33,$S33,$U33,$W33,$Y33,$AA33,$AC33,$AE33,$AG33,$AI33,$AK33,$AM33,$AO33,$AQ33,$AS33,$AU33,$AW33,$AY33,$BA33,$BC33),7)","v":0},{"$f":"LARGE(($I33,$K33,$M33,$O33,$Q33,$S33,$U33,$W33,$Y33,$AA33,$AC33,$AE33,$AG33,$AI33,$AK33,$AM33,$AO33,$AQ33,$AS33,$AU33,$AW33,$AY33,$BA33,$BC33),8)","v":0},{"$f":"LARGE(($I33,$K33,$M33,$O33,$Q33,$S33,$U33,$W33,$Y33,$AA33,$AC33,$AE33,$AG33,$AI33,$AK33,$AM33,$AO33,$AQ33,$AS33,$AU33,$AW33,$AY33,$BA33,$BC33),9)","v":0},{"$f":"LARGE(($I33,$K33,$M33,$O33,$Q33,$S33,$U33,$W33,$Y33,$AA33,$AC33,$AE33,$AG33,$AI33,$AK33,$AM33,$AO33,$AQ33,$AS33,$AU33,$AW33,$AY33,$BA33,$BC33),10)","v":0}]
[30,null,null,null,0,0,0,null,{"$f":"LOOKUP(H34,Poängberäkning!$B$6:$B$97,Poängberäkning!$C$6:$C$97)","v":0},null,{"$f":"LOOKUP(J34,Poängberäkning!$B$6:$B$97,Poängberäkning!$C$6:$C$97)","v":0},null,{"$f":"LOOKUP(L34,Poängberäkning!$B$6:$B$97,Poängberäkning!$C$6:$C$97)","v":0},null,{"$f":"LOOKUP(N34,Poängberäkning!$B$6:$B$97,Poängberäkning!$C$6:$C$97)","v":0},null,{"$f":"LOOKUP(P34,Poängberäkning!$B$6:$B$97,Poängberäkning!$C$6:$C$97)","v":0},null,{"$f":"LOOKUP(R34,Poängberäkning!$B$6:$B$97,Poängberäkning!$C$6:$C$97)","v":0},null,{"$f":"LOOKUP(T34,Poängberäkning!$B$6:$B$97,Poängberäkning!$C$6:$C$97)","v":0},null,{"$f":"LOOKUP(V34,Poängberäkning!$B$6:$B$97,Poängberäkning!$C$6:$C$97)","v":0},null,{"$f":"LOOKUP(X34,Poängberäkning!$B$6:$B$97,Poängberäkning!$C$6:$C$97)","v":0},null,{"$f":"LOOKUP(Z34,Poängberäkning!$B$6:$B$97,Poängberäkning!$C$6:$C$97)","v":0},null,{"$f":"LOOKUP(AB34,Poängberäkning!$B$6:$B$97,Poängberäkning!$C$6:$C$97)","v":0},null,{"$f":"LOOKUP(AD34,Poängberäkning!$B$6:$B$97,Poängberäkning!$C$6:$C$97)","v":0},null,{"$f":"LOOKUP(AF34,Poängberäkning!$B$6:$B$97,Poängberäkning!$C$6:$C$97)","v":0},null,{"$f":"LOOKUP(AH34,Poängberäkning!$B$6:$B$97,Poängberäkning!$C$6:$C$97)","v":0},null,{"$f":"LOOKUP(AJ34,Poängberäkning!$B$6:$B$97,Poängberäkning!$C$6:$C$97)","v":0},null,{"$f":"LOOKUP(AL34,Poängberäkning!$B$6:$B$97,Poängberäkning!$C$6:$C$97)","v":0},null,{"$f":"LOOKUP(AN34,Poängberäkning!$B$6:$B$97,Poängberäkning!$C$6:$C$97)","v":0},null,{"$f":"LOOKUP(AP34,Poängberäkning!$B$6:$B$97,Poängberäkning!$C$6:$C$97)","v":0},null,{"$f":"LOOKUP(AR34,Poängberäkning!$B$6:$B$97,Poängberäkning!$C$6:$C$97)","v":0},null,{"$f":"LOOKUP(AT34,Poängberäkning!$B$6:$B$97,Poängberäkning!$C$6:$C$97)","v":0},null,null,null,null,null,null,null,null,{"$f":"LARGE(($I34,$K34,$M34,$O34,$Q34,$S34,$U34,$W34,$Y34,$AA34,$AC34,$AE34,$AG34,$AI34,$AK34,$AM34,$AO34,$AQ34,$AS34,$AU34,$AW34,$AY34,$BA34,$BC34),1)","v":0},{"$f":"LARGE(($I34,$K34,$M34,$O34,$Q34,$S34,$U34,$W34,$Y34,$AA34,$AC34,$AE34,$AG34,$AI34,$AK34,$AM34,$AO34,$AQ34,$AS34,$AU34,$AW34,$AY34,$BA34,$BC34),2)","v":0},{"$f":"LARGE(($I34,$K34,$M34,$O34,$Q34,$S34,$U34,$W34,$Y34,$AA34,$AC34,$AE34,$AG34,$AI34,$AK34,$AM34,$AO34,$AQ34,$AS34,$AU34,$AW34,$AY34,$BA34,$BC34),3)","v":0},{"$f":"LARGE(($I34,$K34,$M34,$O34,$Q34,$S34,$U34,$W34,$Y34,$AA34,$AC34,$AE34,$AG34,$AI34,$AK34,$AM34,$AO34,$AQ34,$AS34,$AU34,$AW34,$AY34,$BA34,$BC34),4)","v":0},{"$f":"LARGE(($I34,$K34,$M34,$O34,$Q34,$S34,$U34,$W34,$Y34,$AA34,$AC34,$AE34,$AG34,$AI34,$AK34,$AM34,$AO34,$AQ34,$AS34,$AU34,$AW34,$AY34,$BA34,$BC34),5)","v":0},{"$f":"LARGE(($I34,$K34,$M34,$O34,$Q34,$S34,$U34,$W34,$Y34,$AA34,$AC34,$AE34,$AG34,$AI34,$AK34,$AM34,$AO34,$AQ34,$AS34,$AU34,$AW34,$AY34,$BA34,$BC34),6)","v":0},{"$f":"LARGE(($I34,$K34,$M34,$O34,$Q34,$S34,$U34,$W34,$Y34,$AA34,$AC34,$AE34,$AG34,$AI34,$AK34,$AM34,$AO34,$AQ34,$AS34,$AU34,$AW34,$AY34,$BA34,$BC34),7)","v":0},{"$f":"LARGE(($I34,$K34,$M34,$O34,$Q34,$S34,$U34,$W34,$Y34,$AA34,$AC34,$AE34,$AG34,$AI34,$AK34,$AM34,$AO34,$AQ34,$AS34,$AU34,$AW34,$AY34,$BA34,$BC34),8)","v":0},{"$f":"LARGE(($I34,$K34,$M34,$O34,$Q34,$S34,$U34,$W34,$Y34,$AA34,$AC34,$AE34,$AG34,$AI34,$AK34,$AM34,$AO34,$AQ34,$AS34,$AU34,$AW34,$AY34,$BA34,$BC34),9)","v":0},{"$f":"LARGE(($I34,$K34,$M34,$O34,$Q34,$S34,$U34,$W34,$Y34,$AA34,$AC34,$AE34,$AG34,$AI34,$AK34,$AM34,$AO34,$AQ34,$AS34,$AU34,$AW34,$AY34,$BA34,$BC34),10)","v":0}]
[31,null,null,null,0,0,0,null,{"$f":"LOOKUP(H35,Poängberäkning!$B$6:$B$97,Poängberäkning!$C$6:$C$97)","v":0},null,{"$f":"LOOKUP(J35,Poängberäkning!$B$6:$B$97,Poängberäkning!$C$6:$C$97)","v":0},null,{"$f":"LOOKUP(L35,Poängberäkning!$B$6:$B$97,Poängberäkning!$C$6:$C$97)","v":0},null,{"$f":"LOOKUP(N35,Poängberäkning!$B$6:$B$97,Poängberäkning!$C$6:$C$97)","v":0},null,{"$f":"LOOKUP(P35,Poängberäkning!$B$6:$B$97,Poängberäkning!$C$6:$C$97)","v":0},null,{"$f":"LOOKUP(R35,Poängberäkning!$B$6:$B$97,Poängberäkning!$C$6:$C$97)","v":0},null,{"$f":"LOOKUP(T35,Poängberäkning!$B$6:$B$97,Poängberäkning!$C$6:$C$97)","v":0},null,{"$f":"LOOKUP(V35,Poängberäkning!$B$6:$B$97,Poängberäkning!$C$6:$C$97)","v":0},null,{"$f":"LOOKUP(X35,Poängberäkning!$B$6:$B$97,Poängberäkning!$C$6:$C$97)","v":0},null,{"$f":"LOOKUP(Z35,Poängberäkning!$B$6:$B$97,Poängberäkning!$C$6:$C$97)","v":0},null,{"$f":"LOOKUP(AB35,Poängberäkning!$B$6:$B$97,Poängberäkning!$C$6:$C$97)","v":0},null,{"$f":"LOOKUP(AD35,Poängberäkning!$B$6:$B$97,Poängberäkning!$C$6:$C$97)","v":0},null,{"$f":"LOOKUP(AF35,Poängberäkning!$B$6:$B$97,Poängberäkning!$C$6:$C$97)","v":0},null,{"$f":"LOOKUP(AH35,Poängberäkning!$B$6:$B$97,Poängberäkning!$C$6:$C$97)","v":0},null,{"$f":"LOOKUP(AJ35,Poängberäkning!$B$6:$B$97,Poängberäkning!$C$6:$C$97)","v":0},null,{"$f":"LOOKUP(AL35,Poängberäkning!$B$6:$B$97,Poängberäkning!$C$6:$C$97)","v":0},null,{"$f":"LOOKUP(AN35,Poängberäkning!$B$6:$B$97,Poängberäkning!$C$6:$C$97)","v":0},null,{"$f":"LOOKUP(AP35,Poängberäkning!$B$6:$B$97,Poängberäkning!$C$6:$C$97)","v":0},null,{"$f":"LOOKUP(AR35,Poängberäkning!$B$6:$B$97,Poängberäkning!$C$6:$C$97)","v":0},null,{"$f":"LOOKUP(AT35,Poängberäkning!$B$6:$B$97,Poängberäkning!$C$6:$C$97)","v":0},null,null,null,null,null,null,null,null,{"$f":"LARGE(($I35,$K35,$M35,$O35,$Q35,$S35,$U35,$W35,$Y35,$AA35,$AC35,$AE35,$AG35,$AI35,$AK35,$AM35,$AO35,$AQ35,$AS35,$AU35,$AW35,$AY35,$BA35,$BC35),1)","v":0},{"$f":"LARGE(($I35,$K35,$M35,$O35,$Q35,$S35,$U35,$W35,$Y35,$AA35,$AC35,$AE35,$AG35,$AI35,$AK35,$AM35,$AO35,$AQ35,$AS35,$AU35,$AW35,$AY35,$BA35,$BC35),2)","v":0},{"$f":"LARGE(($I35,$K35,$M35,$O35,$Q35,$S35,$U35,$W35,$Y35,$AA35,$AC35,$AE35,$AG35,$AI35,$AK35,$AM35,$AO35,$AQ35,$AS35,$AU35,$AW35,$AY35,$BA35,$BC35),3)","v":0},{"$f":"LARGE(($I35,$K35,$M35,$O35,$Q35,$S35,$U35,$W35,$Y35,$AA35,$AC35,$AE35,$AG35,$AI35,$AK35,$AM35,$AO35,$AQ35,$AS35,$AU35,$AW35,$AY35,$BA35,$BC35),4)","v":0},{"$f":"LARGE(($I35,$K35,$M35,$O35,$Q35,$S35,$U35,$W35,$Y35,$AA35,$AC35,$AE35,$AG35,$AI35,$AK35,$AM35,$AO35,$AQ35,$AS35,$AU35,$AW35,$AY35,$BA35,$BC35),5)","v":0},{"$f":"LARGE(($I35,$K35,$M35,$O35,$Q35,$S35,$U35,$W35,$Y35,$AA35,$AC35,$AE35,$AG35,$AI35,$AK35,$AM35,$AO35,$AQ35,$AS35,$AU35,$AW35,$AY35,$BA35,$BC35),6)","v":0},{"$f":"LARGE(($I35,$K35,$M35,$O35,$Q35,$S35,$U35,$W35,$Y35,$AA35,$AC35,$AE35,$AG35,$AI35,$AK35,$AM35,$AO35,$AQ35,$AS35,$AU35,$AW35,$AY35,$BA35,$BC35),7)","v":0},{"$f":"LARGE(($I35,$K35,$M35,$O35,$Q35,$S35,$U35,$W35,$Y35,$AA35,$AC35,$AE35,$AG35,$AI35,$AK35,$AM35,$AO35,$AQ35,$AS35,$AU35,$AW35,$AY35,$BA35,$BC35),8)","v":0},{"$f":"LARGE(($I35,$K35,$M35,$O35,$Q35,$S35,$U35,$W35,$Y35,$AA35,$AC35,$AE35,$AG35,$AI35,$AK35,$AM35,$AO35,$AQ35,$AS35,$AU35,$AW35,$AY35,$BA35,$BC35),9)","v":0},{"$f":"LARGE(($I35,$K35,$M35,$O35,$Q35,$S35,$U35,$W35,$Y35,$AA35,$AC35,$AE35,$AG35,$AI35,$AK35,$AM35,$AO35,$AQ35,$AS35,$AU35,$AW35,$AY35,$BA35,$BC35),10)","v":0}]
[32,null,null,null,0,0,0,null,{"$f":"LOOKUP(H36,Poängberäkning!$B$6:$B$97,Poängberäkning!$C$6:$C$97)","v":0},null,{"$f":"LOOKUP(J36,Poängberäkning!$B$6:$B$97,Poängberäkning!$C$6:$C$97)","v":0},null,{"$f":"LOOKUP(L36,Poängberäkning!$B$6:$B$97,Poängberäkning!$C$6:$C$97)","v":0},null,{"$f":"LOOKUP(N36,Poängberäkning!$B$6:$B$97,Poängberäkning!$C$6:$C$97)","v":0},null,{"$f":"LOOKUP(P36,Poängberäkning!$B$6:$B$97,Poängberäkning!$C$6:$C$97)","v":0},null,{"$f":"LOOKUP(R36,Poängberäkning!$B$6:$B$97,Poängberäkning!$C$6:$C$97)","v":0},null,{"$f":"LOOKUP(T36,Poängberäkning!$B$6:$B$97,Poängberäkning!$C$6:$C$97)","v":0},null,{"$f":"LOOKUP(V36,Poängberäkning!$B$6:$B$97,Poängberäkning!$C$6:$C$97)","v":0},null,{"$f":"LOOKUP(X36,Poängberäkning!$B$6:$B$97,Poängberäkning!$C$6:$C$97)","v":0},null,{"$f":"LOOKUP(Z36,Poängberäkning!$B$6:$B$97,Poängberäkning!$C$6:$C$97)","v":0},null,{"$f":"LOOKUP(AB36,Poängberäkning!$B$6:$B$97,Poängberäkning!$C$6:$C$97)","v":0},null,{"$f":"LOOKUP(AD36,Poängberäkning!$B$6:$B$97,Poängberäkning!$C$6:$C$97)","v":0},null,{"$f":"LOOKUP(AF36,Poängberäkning!$B$6:$B$97,Poängberäkning!$C$6:$C$97)","v":0},null,{"$f":"LOOKUP(AH36,Poängberäkning!$B$6:$B$97,Poängberäkning!$C$6:$C$97)","v":0},null,{"$f":"LOOKUP(AJ36,Poängberäkning!$B$6:$B$97,Poängberäkning!$C$6:$C$97)","v":0},null,{"$f":"LOOKUP(AL36,Poängberäkning!$B$6:$B$97,Poängberäkning!$C$6:$C$97)","v":0},null,{"$f":"LOOKUP(AN36,Poängberäkning!$B$6:$B$97,Poängberäkning!$C$6:$C$97)","v":0},null,{"$f":"LOOKUP(AP36,Poängberäkning!$B$6:$B$97,Poängberäkning!$C$6:$C$97)","v":0},null,{"$f":"LOOKUP(AR36,Poängberäkning!$B$6:$B$97,Poängberäkning!$C$6:$C$97)","v":0},null,{"$f":"LOOKUP(AT36,Poängberäkning!$B$6:$B$97,Poängberäkning!$C$6:$C$97)","v":0},null,null,null,null,null,null,null,null,{"$f":"LARGE(($I36,$K36,$M36,$O36,$Q36,$S36,$U36,$W36,$Y36,$AA36,$AC36,$AE36,$AG36,$AI36,$AK36,$AM36,$AO36,$AQ36,$AS36,$AU36,$AW36,$AY36,$BA36,$BC36),1)","v":0},{"$f":"LARGE(($I36,$K36,$M36,$O36,$Q36,$S36,$U36,$W36,$Y36,$AA36,$AC36,$AE36,$AG36,$AI36,$AK36,$AM36,$AO36,$AQ36,$AS36,$AU36,$AW36,$AY36,$BA36,$BC36),2)","v":0},{"$f":"LARGE(($I36,$K36,$M36,$O36,$Q36,$S36,$U36,$W36,$Y36,$AA36,$AC36,$AE36,$AG36,$AI36,$AK36,$AM36,$AO36,$AQ36,$AS36,$AU36,$AW36,$AY36,$BA36,$BC36),3)","v":0},{"$f":"LARGE(($I36,$K36,$M36,$O36,$Q36,$S36,$U36,$W36,$Y36,$AA36,$AC36,$AE36,$AG36,$AI36,$AK36,$AM36,$AO36,$AQ36,$AS36,$AU36,$AW36,$AY36,$BA36,$BC36),4)","v":0},{"$f":"LARGE(($I36,$K36,$M36,$O36,$Q36,$S36,$U36,$W36,$Y36,$AA36,$AC36,$AE36,$AG36,$AI36,$AK36,$AM36,$AO36,$AQ36,$AS36,$AU36,$AW36,$AY36,$BA36,$BC36),5)","v":0},{"$f":"LARGE(($I36,$K36,$M36,$O36,$Q36,$S36,$U36,$W36,$Y36,$AA36,$AC36,$AE36,$AG36,$AI36,$AK36,$AM36,$AO36,$AQ36,$AS36,$AU36,$AW36,$AY36,$BA36,$BC36),6)","v":0},{"$f":"LARGE(($I36,$K36,$M36,$O36,$Q36,$S36,$U36,$W36,$Y36,$AA36,$AC36,$AE36,$AG36,$AI36,$AK36,$AM36,$AO36,$AQ36,$AS36,$AU36,$AW36,$AY36,$BA36,$BC36),7)","v":0},{"$f":"LARGE(($I36,$K36,$M36,$O36,$Q36,$S36,$U36,$W36,$Y36,$AA36,$AC36,$AE36,$AG36,$AI36,$AK36,$AM36,$AO36,$AQ36,$AS36,$AU36,$AW36,$AY36,$BA36,$BC36),8)","v":0},{"$f":"LARGE(($I36,$K36,$M36,$O36,$Q36,$S36,$U36,$W36,$Y36,$AA36,$AC36,$AE36,$AG36,$AI36,$AK36,$AM36,$AO36,$AQ36,$AS36,$AU36,$AW36,$AY36,$BA36,$BC36),9)","v":0},{"$f":"LARGE(($I36,$K36,$M36,$O36,$Q36,$S36,$U36,$W36,$Y36,$AA36,$AC36,$AE36,$AG36,$AI36,$AK36,$AM36,$AO36,$AQ36,$AS36,$AU36,$AW36,$AY36,$BA36,$BC36),10)","v":0}]
[33,null,null,null,{"$f":"SUM(BD37:BM37)","v":0},{"$f":"SUM(BD37:BK37)","v":0},{"$f":"I37+K37+M37+O37+Q37+S37+U37+W37+Y37+AA37+AC37+AE37+AG37+AI37+AK37+AM37+AO37+AQ37+AS37+AU37+AW37+AY37+BA37+BC37","v":0},null,{"$f":"LOOKUP(H37,Poängberäkning!$B$6:$B$97,Poängberäkning!$C$6:$C$97)","v":0},null,{"$f":"LOOKUP(J37,Poängberäkning!$B$6:$B$97,Poängberäkning!$C$6:$C$97)","v":0},null,{"$f":"LOOKUP(L37,Poängberäkning!$B$6:$B$97,Poängberäkning!$C$6:$C$97)","v":0},null,{"$f":"LOOKUP(N37,Poängberäkning!$B$6:$B$97,Poängberäkning!$C$6:$C$97)","v":0},null,{"$f":"LOOKUP(P37,Poängberäkning!$B$6:$B$97,Poängberäkning!$C$6:$C$97)","v":0},null,{"$f":"LOOKUP(R37,Poängberäkning!$B$6:$B$97,Poängberäkning!$C$6:$C$97)","v":0},null,{"$f":"LOOKUP(T37,Poängberäkning!$B$6:$B$97,Poängberäkning!$C$6:$C$97)","v":0},null,{"$f":"LOOKUP(V37,Poängberäkning!$B$6:$B$97,Poängberäkning!$C$6:$C$97)","v":0},null,{"$f":"LOOKUP(X37,Poängberäkning!$B$6:$B$97,Poängberäkning!$C$6:$C$97)","v":0},null,{"$f":"LOOKUP(Z37,Poängberäkning!$B$6:$B$97,Poängberäkning!$C$6:$C$97)","v":0},null,{"$f":"LOOKUP(AB37,Poängberäkning!$B$6:$B$97,Poängberäkning!$C$6:$C$97)","v":0},null,{"$f":"LOOKUP(AD37,Poängberäkning!$B$6:$B$97,Poängberäkning!$C$6:$C$97)","v":0},null,{"$f":"LOOKUP(AF37,Poängberäkning!$B$6:$B$97,Poängberäkning!$C$6:$C$97)","v":0},null,{"$f":"LOOKUP(AH37,Poängberäkning!$B$6:$B$97,Poängberäkning!$C$6:$C$97)","v":0},null,{"$f":"LOOKUP(AJ37,Poängberäkning!$B$6:$B$97,Poängberäkning!$C$6:$C$97)","v":0},null,{"$f":"LOOKUP(AL37,Poängberäkning!$B$6:$B$97,Poängberäkning!$C$6:$C$97)","v":0},null,{"$f":"LOOKUP(AN37,Poängberäkning!$B$6:$B$97,Poängberäkning!$C$6:$C$97)","v":0},null,{"$f":"LOOKUP(AP37,Poängberäkning!$B$6:$B$97,Poängberäkning!$C$6:$C$97)","v":0},null,{"$f":"LOOKUP(AR37,Poängberäkning!$B$6:$B$97,Poängberäkning!$C$6:$C$97)","v":0},null,{"$f":"LOOKUP(AT37,Poängberäkning!$B$6:$B$97,Poängberäkning!$C$6:$C$97)","v":0},null,null,null,null,null,null,null,null,{"$f":"LARGE(($I37,$K37,$M37,$O37,$Q37,$S37,$U37,$W37,$Y37,$AA37,$AC37,$AE37,$AG37,$AI37,$AK37,$AM37,$AO37,$AQ37,$AS37,$AU37,$AW37,$AY37,$BA37,$BC37),1)","v":0},{"$f":"LARGE(($I37,$K37,$M37,$O37,$Q37,$S37,$U37,$W37,$Y37,$AA37,$AC37,$AE37,$AG37,$AI37,$AK37,$AM37,$AO37,$AQ37,$AS37,$AU37,$AW37,$AY37,$BA37,$BC37),2)","v":0},{"$f":"LARGE(($I37,$K37,$M37,$O37,$Q37,$S37,$U37,$W37,$Y37,$AA37,$AC37,$AE37,$AG37,$AI37,$AK37,$AM37,$AO37,$AQ37,$AS37,$AU37,$AW37,$AY37,$BA37,$BC37),3)","v":0},{"$f":"LARGE(($I37,$K37,$M37,$O37,$Q37,$S37,$U37,$W37,$Y37,$AA37,$AC37,$AE37,$AG37,$AI37,$AK37,$AM37,$AO37,$AQ37,$AS37,$AU37,$AW37,$AY37,$BA37,$BC37),4)","v":0},{"$f":"LARGE(($I37,$K37,$M37,$O37,$Q37,$S37,$U37,$W37,$Y37,$AA37,$AC37,$AE37,$AG37,$AI37,$AK37,$AM37,$AO37,$AQ37,$AS37,$AU37,$AW37,$AY37,$BA37,$BC37),5)","v":0},{"$f":"LARGE(($I37,$K37,$M37,$O37,$Q37,$S37,$U37,$W37,$Y37,$AA37,$AC37,$AE37,$AG37,$AI37,$AK37,$AM37,$AO37,$AQ37,$AS37,$AU37,$AW37,$AY37,$BA37,$BC37),6)","v":0},{"$f":"LARGE(($I37,$K37,$M37,$O37,$Q37,$S37,$U37,$W37,$Y37,$AA37,$AC37,$AE37,$AG37,$AI37,$AK37,$AM37,$AO37,$AQ37,$AS37,$AU37,$AW37,$AY37,$BA37,$BC37),7)","v":0},{"$f":"LARGE(($I37,$K37,$M37,$O37,$Q37,$S37,$U37,$W37,$Y37,$AA37,$AC37,$AE37,$AG37,$AI37,$AK37,$AM37,$AO37,$AQ37,$AS37,$AU37,$AW37,$AY37,$BA37,$BC37),8)","v":0},{"$f":"LARGE(($I37,$K37,$M37,$O37,$Q37,$S37,$U37,$W37,$Y37,$AA37,$AC37,$AE37,$AG37,$AI37,$AK37,$AM37,$AO37,$AQ37,$AS37,$AU37,$AW37,$AY37,$BA37,$BC37),9)","v":0},{"$f":"LARGE(($I37,$K37,$M37,$O37,$Q37,$S37,$U37,$W37,$Y37,$AA37,$AC37,$AE37,$AG37,$AI37,$AK37,$AM37,$AO37,$AQ37,$AS37,$AU37,$AW37,$AY37,$BA37,$BC37),10)","v":0}]
[34,null,null,null,0,0,0,null,{"$f":"LOOKUP(H38,Poängberäkning!$B$6:$B$97,Poängberäkning!$C$6:$C$97)","v":0},null,{"$f":"LOOKUP(J38,Poängberäkning!$B$6:$B$97,Poängberäkning!$C$6:$C$97)","v":0},null,{"$f":"LOOKUP(L38,Poängberäkning!$B$6:$B$97,Poängberäkning!$C$6:$C$97)","v":0},null,{"$f":"LOOKUP(N38,Poängberäkning!$B$6:$B$97,Poängberäkning!$C$6:$C$97)","v":0},null,{"$f":"LOOKUP(P38,Poängberäkning!$B$6:$B$97,Poängberäkning!$C$6:$C$97)","v":0},null,{"$f":"LOOKUP(R38,Poängberäkning!$B$6:$B$97,Poängberäkning!$C$6:$C$97)","v":0},null,{"$f":"LOOKUP(T38,Poängberäkning!$B$6:$B$97,Poängberäkning!$C$6:$C$97)","v":0},null,{"$f":"LOOKUP(V38,Poängberäkning!$B$6:$B$97,Poängberäkning!$C$6:$C$97)","v":0},null,{"$f":"LOOKUP(X38,Poängberäkning!$B$6:$B$97,Poängberäkning!$C$6:$C$97)","v":0},null,{"$f":"LOOKUP(Z38,Poängberäkning!$B$6:$B$97,Poängberäkning!$C$6:$C$97)","v":0},null,{"$f":"LOOKUP(AB38,Poängberäkning!$B$6:$B$97,Poängberäkning!$C$6:$C$97)","v":0},null,{"$f":"LOOKUP(AD38,Poängberäkning!$B$6:$B$97,Poängberäkning!$C$6:$C$97)","v":0},null,{"$f":"LOOKUP(AF38,Poängberäkning!$B$6:$B$97,Poängberäkning!$C$6:$C$97)","v":0},null,{"$f":"LOOKUP(AH38,Poängberäkning!$B$6:$B$97,Poängberäkning!$C$6:$C$97)","v":0},null,{"$f":"LOOKUP(AJ38,Poängberäkning!$B$6:$B$97,Poängberäkning!$C$6:$C$97)","v":0},null,{"$f":"LOOKUP(AL38,Poängberäkning!$B$6:$B$97,Poängberäkning!$C$6:$C$97)","v":0},null,{"$f":"LOOKUP(AN38,Poängberäkning!$B$6:$B$97,Poängberäkning!$C$6:$C$97)","v":0},null,{"$f":"LOOKUP(AP38,Poängberäkning!$B$6:$B$97,Poängberäkning!$C$6:$C$97)","v":0},null,{"$f":"LOOKUP(AR38,Poängberäkning!$B$6:$B$97,Poängberäkning!$C$6:$C$97)","v":0},null,{"$f":"LOOKUP(AT38,Poängberäkning!$B$6:$B$97,Poängberäkning!$C$6:$C$97)","v":0},null,null,null,null,null,null,null,null,{"$f":"LARGE(($I38,$K38,$M38,$O38,$Q38,$S38,$U38,$W38,$Y38,$AA38,$AC38,$AE38,$AG38,$AI38,$AK38,$AM38,$AO38,$AQ38,$AS38,$AU38,$AW38,$AY38,$BA38,$BC38),1)","v":0},{"$f":"LARGE(($I38,$K38,$M38,$O38,$Q38,$S38,$U38,$W38,$Y38,$AA38,$AC38,$AE38,$AG38,$AI38,$AK38,$AM38,$AO38,$AQ38,$AS38,$AU38,$AW38,$AY38,$BA38,$BC38),2)","v":0},{"$f":"LARGE(($I38,$K38,$M38,$O38,$Q38,$S38,$U38,$W38,$Y38,$AA38,$AC38,$AE38,$AG38,$AI38,$AK38,$AM38,$AO38,$AQ38,$AS38,$AU38,$AW38,$AY38,$BA38,$BC38),3)","v":0},{"$f":"LARGE(($I38,$K38,$M38,$O38,$Q38,$S38,$U38,$W38,$Y38,$AA38,$AC38,$AE38,$AG38,$AI38,$AK38,$AM38,$AO38,$AQ38,$AS38,$AU38,$AW38,$AY38,$BA38,$BC38),4)","v":0},{"$f":"LARGE(($I38,$K38,$M38,$O38,$Q38,$S38,$U38,$W38,$Y38,$AA38,$AC38,$AE38,$AG38,$AI38,$AK38,$AM38,$AO38,$AQ38,$AS38,$AU38,$AW38,$AY38,$BA38,$BC38),5)","v":0},{"$f":"LARGE(($I38,$K38,$M38,$O38,$Q38,$S38,$U38,$W38,$Y38,$AA38,$AC38,$AE38,$AG38,$AI38,$AK38,$AM38,$AO38,$AQ38,$AS38,$AU38,$AW38,$AY38,$BA38,$BC38),6)","v":0},{"$f":"LARGE(($I38,$K38,$M38,$O38,$Q38,$S38,$U38,$W38,$Y38,$AA38,$AC38,$AE38,$AG38,$AI38,$AK38,$AM38,$AO38,$AQ38,$AS38,$AU38,$AW38,$AY38,$BA38,$BC38),7)","v":0},{"$f":"LARGE(($I38,$K38,$M38,$O38,$Q38,$S38,$U38,$W38,$Y38,$AA38,$AC38,$AE38,$AG38,$AI38,$AK38,$AM38,$AO38,$AQ38,$AS38,$AU38,$AW38,$AY38,$BA38,$BC38),8)","v":0},{"$f":"LARGE(($I38,$K38,$M38,$O38,$Q38,$S38,$U38,$W38,$Y38,$AA38,$AC38,$AE38,$AG38,$AI38,$AK38,$AM38,$AO38,$AQ38,$AS38,$AU38,$AW38,$AY38,$BA38,$BC38),9)","v":0},{"$f":"LARGE(($I38,$K38,$M38,$O38,$Q38,$S38,$U38,$W38,$Y38,$AA38,$AC38,$AE38,$AG38,$AI38,$AK38,$AM38,$AO38,$AQ38,$AS38,$AU38,$AW38,$AY38,$BA38,$BC38),10)","v":0}]
[35,null,null,null,0,0,0,null,{"$f":"LOOKUP(H39,Poängberäkning!$B$6:$B$97,Poängberäkning!$C$6:$C$97)","v":0},null,{"$f":"LOOKUP(J39,Poängberäkning!$B$6:$B$97,Poängberäkning!$C$6:$C$97)","v":0},null,{"$f":"LOOKUP(L39,Poängberäkning!$B$6:$B$97,Poängberäkning!$C$6:$C$97)","v":0},null,{"$f":"LOOKUP(N39,Poängberäkning!$B$6:$B$97,Poängberäkning!$C$6:$C$97)","v":0},null,{"$f":"LOOKUP(P39,Poängberäkning!$B$6:$B$97,Poängberäkning!$C$6:$C$97)","v":0},null,{"$f":"LOOKUP(R39,Poängberäkning!$B$6:$B$97,Poängberäkning!$C$6:$C$97)","v":0},null,{"$f":"LOOKUP(T39,Poängberäkning!$B$6:$B$97,Poängberäkning!$C$6:$C$97)","v":0},null,{"$f":"LOOKUP(V39,Poängberäkning!$B$6:$B$97,Poängberäkning!$C$6:$C$97)","v":0},null,{"$f":"LOOKUP(X39,Poängberäkning!$B$6:$B$97,Poängberäkning!$C$6:$C$97)","v":0},null,{"$f":"LOOKUP(Z39,Poängberäkning!$B$6:$B$97,Poängberäkning!$C$6:$C$97)","v":0},null,{"$f":"LOOKUP(AB39,Poängberäkning!$B$6:$B$97,Poängberäkning!$C$6:$C$97)","v":0},null,{"$f":"LOOKUP(AD39,Poängberäkning!$B$6:$B$97,Poängberäkning!$C$6:$C$97)","v":0},null,{"$f":"LOOKUP(AF39,Poängberäkning!$B$6:$B$97,Poängberäkning!$C$6:$C$97)","v":0},null,{"$f":"LOOKUP(AH39,Poängberäkning!$B$6:$B$97,Poängberäkning!$C$6:$C$97)","v":0},null,{"$f":"LOOKUP(AJ39,Poängberäkning!$B$6:$B$97,Poängberäkning!$C$6:$C$97)","v":0},null,{"$f":"LOOKUP(AL39,Poängberäkning!$B$6:$B$97,Poängberäkning!$C$6:$C$97)","v":0},null,{"$f":"LOOKUP(AN39,Poängberäkning!$B$6:$B$97,Poängberäkning!$C$6:$C$97)","v":0},null,{"$f":"LOOKUP(AP39,Poängberäkning!$B$6:$B$97,Poängberäkning!$C$6:$C$97)","v":0},null,{"$f":"LOOKUP(AR39,Poängberäkning!$B$6:$B$97,Poängberäkning!$C$6:$C$97)","v":0},null,{"$f":"LOOKUP(AT39,Poängberäkning!$B$6:$B$97,Poängberäkning!$C$6:$C$97)","v":0},null,null,null,null,null,null,null,null,{"$f":"LARGE(($I39,$K39,$M39,$O39,$Q39,$S39,$U39,$W39,$Y39,$AA39,$AC39,$AE39,$AG39,$AI39,$AK39,$AM39,$AO39,$AQ39,$AS39,$AU39,$AW39,$AY39,$BA39,$BC39),1)","v":0},{"$f":"LARGE(($I39,$K39,$M39,$O39,$Q39,$S39,$U39,$W39,$Y39,$AA39,$AC39,$AE39,$AG39,$AI39,$AK39,$AM39,$AO39,$AQ39,$AS39,$AU39,$AW39,$AY39,$BA39,$BC39),2)","v":0},{"$f":"LARGE(($I39,$K39,$M39,$O39,$Q39,$S39,$U39,$W39,$Y39,$AA39,$AC39,$AE39,$AG39,$AI39,$AK39,$AM39,$AO39,$AQ39,$AS39,$AU39,$AW39,$AY39,$BA39,$BC39),3)","v":0},{"$f":"LARGE(($I39,$K39,$M39,$O39,$Q39,$S39,$U39,$W39,$Y39,$AA39,$AC39,$AE39,$AG39,$AI39,$AK39,$AM39,$AO39,$AQ39,$AS39,$AU39,$AW39,$AY39,$BA39,$BC39),4)","v":0},{"$f":"LARGE(($I39,$K39,$M39,$O39,$Q39,$S39,$U39,$W39,$Y39,$AA39,$AC39,$AE39,$AG39,$AI39,$AK39,$AM39,$AO39,$AQ39,$AS39,$AU39,$AW39,$AY39,$BA39,$BC39),5)","v":0},{"$f":"LARGE(($I39,$K39,$M39,$O39,$Q39,$S39,$U39,$W39,$Y39,$AA39,$AC39,$AE39,$AG39,$AI39,$AK39,$AM39,$AO39,$AQ39,$AS39,$AU39,$AW39,$AY39,$BA39,$BC39),6)","v":0},{"$f":"LARGE(($I39,$K39,$M39,$O39,$Q39,$S39,$U39,$W39,$Y39,$AA39,$AC39,$AE39,$AG39,$AI39,$AK39,$AM39,$AO39,$AQ39,$AS39,$AU39,$AW39,$AY39,$BA39,$BC39),7)","v":0},{"$f":"LARGE(($I39,$K39,$M39,$O39,$Q39,$S39,$U39,$W39,$Y39,$AA39,$AC39,$AE39,$AG39,$AI39,$AK39,$AM39,$AO39,$AQ39,$AS39,$AU39,$AW39,$AY39,$BA39,$BC39),8)","v":0},{"$f":"LARGE(($I39,$K39,$M39,$O39,$Q39,$S39,$U39,$W39,$Y39,$AA39,$AC39,$AE39,$AG39,$AI39,$AK39,$AM39,$AO39,$AQ39,$AS39,$AU39,$AW39,$AY39,$BA39,$BC39),9)","v":0},{"$f":"LARGE(($I39,$K39,$M39,$O39,$Q39,$S39,$U39,$W39,$Y39,$AA39,$AC39,$AE39,$AG39,$AI39,$AK39,$AM39,$AO39,$AQ39,$AS39,$AU39,$AW39,$AY39,$BA39,$BC39),10)","v":0}]
[36,null,null,null,0,0,0,null,{"$f":"LOOKUP(H40,Poängberäkning!$B$6:$B$97,Poängberäkning!$C$6:$C$97)","v":0},null,{"$f":"LOOKUP(J40,Poängberäkning!$B$6:$B$97,Poängberäkning!$C$6:$C$97)","v":0},null,{"$f":"LOOKUP(L40,Poängberäkning!$B$6:$B$97,Poängberäkning!$C$6:$C$97)","v":0},null,{"$f":"LOOKUP(N40,Poängberäkning!$B$6:$B$97,Poängberäkning!$C$6:$C$97)","v":0},null,{"$f":"LOOKUP(P40,Poängberäkning!$B$6:$B$97,Poängberäkning!$C$6:$C$97)","v":0},null,{"$f":"LOOKUP(R40,Poängberäkning!$B$6:$B$97,Poängberäkning!$C$6:$C$97)","v":0},null,{"$f":"LOOKUP(T40,Poängberäkning!$B$6:$B$97,Poängberäkning!$C$6:$C$97)","v":0},null,{"$f":"LOOKUP(V40,Poängberäkning!$B$6:$B$97,Poängberäkning!$C$6:$C$97)","v":0},null,{"$f":"LOOKUP(X40,Poängberäkning!$B$6:$B$97,Poängberäkning!$C$6:$C$97)","v":0},null,{"$f":"LOOKUP(Z40,Poängberäkning!$B$6:$B$97,Poängberäkning!$C$6:$C$97)","v":0},null,{"$f":"LOOKUP(AB40,Poängberäkning!$B$6:$B$97,Poängberäkning!$C$6:$C$97)","v":0},null,{"$f":"LOOKUP(AD40,Poängberäkning!$B$6:$B$97,Poängberäkning!$C$6:$C$97)","v":0},null,{"$f":"LOOKUP(AF40,Poängberäkning!$B$6:$B$97,Poängberäkning!$C$6:$C$97)","v":0},null,{"$f":"LOOKUP(AH40,Poängberäkning!$B$6:$B$97,Poängberäkning!$C$6:$C$97)","v":0},null,{"$f":"LOOKUP(AJ40,Poängberäkning!$B$6:$B$97,Poängberäkning!$C$6:$C$97)","v":0},null,{"$f":"LOOKUP(AL40,Poängberäkning!$B$6:$B$97,Poängberäkning!$C$6:$C$97)","v":0},null,{"$f":"LOOKUP(AN40,Poängberäkning!$B$6:$B$97,Poängberäkning!$C$6:$C$97)","v":0},null,{"$f":"LOOKUP(AP40,Poängberäkning!$B$6:$B$97,Poängberäkning!$C$6:$C$97)","v":0},null,{"$f":"LOOKUP(AR40,Poängberäkning!$B$6:$B$97,Poängberäkning!$C$6:$C$97)","v":0},null,{"$f":"LOOKUP(AT40,Poängberäkning!$B$6:$B$97,Poängberäkning!$C$6:$C$97)","v":0},null,null,null,null,null,null,null,null,{"$f":"LARGE(($I40,$K40,$M40,$O40,$Q40,$S40,$U40,$W40,$Y40,$AA40,$AC40,$AE40,$AG40,$AI40,$AK40,$AM40,$AO40,$AQ40,$AS40,$AU40,$AW40,$AY40,$BA40,$BC40),1)","v":0},{"$f":"LARGE(($I40,$K40,$M40,$O40,$Q40,$S40,$U40,$W40,$Y40,$AA40,$AC40,$AE40,$AG40,$AI40,$AK40,$AM40,$AO40,$AQ40,$AS40,$AU40,$AW40,$AY40,$BA40,$BC40),2)","v":0},{"$f":"LARGE(($I40,$K40,$M40,$O40,$Q40,$S40,$U40,$W40,$Y40,$AA40,$AC40,$AE40,$AG40,$AI40,$AK40,$AM40,$AO40,$AQ40,$AS40,$AU40,$AW40,$AY40,$BA40,$BC40),3)","v":0},{"$f":"LARGE(($I40,$K40,$M40,$O40,$Q40,$S40,$U40,$W40,$Y40,$AA40,$AC40,$AE40,$AG40,$AI40,$AK40,$AM40,$AO40,$AQ40,$AS40,$AU40,$AW40,$AY40,$BA40,$BC40),4)","v":0},{"$f":"LARGE(($I40,$K40,$M40,$O40,$Q40,$S40,$U40,$W40,$Y40,$AA40,$AC40,$AE40,$AG40,$AI40,$AK40,$AM40,$AO40,$AQ40,$AS40,$AU40,$AW40,$AY40,$BA40,$BC40),5)","v":0},{"$f":"LARGE(($I40,$K40,$M40,$O40,$Q40,$S40,$U40,$W40,$Y40,$AA40,$AC40,$AE40,$AG40,$AI40,$AK40,$AM40,$AO40,$AQ40,$AS40,$AU40,$AW40,$AY40,$BA40,$BC40),6)","v":0},{"$f":"LARGE(($I40,$K40,$M40,$O40,$Q40,$S40,$U40,$W40,$Y40,$AA40,$AC40,$AE40,$AG40,$AI40,$AK40,$AM40,$AO40,$AQ40,$AS40,$AU40,$AW40,$AY40,$BA40,$BC40),7)","v":0},{"$f":"LARGE(($I40,$K40,$M40,$O40,$Q40,$S40,$U40,$W40,$Y40,$AA40,$AC40,$AE40,$AG40,$AI40,$AK40,$AM40,$AO40,$AQ40,$AS40,$AU40,$AW40,$AY40,$BA40,$BC40),8)","v":0},{"$f":"LARGE(($I40,$K40,$M40,$O40,$Q40,$S40,$U40,$W40,$Y40,$AA40,$AC40,$AE40,$AG40,$AI40,$AK40,$AM40,$AO40,$AQ40,$AS40,$AU40,$AW40,$AY40,$BA40,$BC40),9)","v":0},{"$f":"LARGE(($I40,$K40,$M40,$O40,$Q40,$S40,$U40,$W40,$Y40,$AA40,$AC40,$AE40,$AG40,$AI40,$AK40,$AM40,$AO40,$AQ40,$AS40,$AU40,$AW40,$AY40,$BA40,$BC40),10)","v":0}]
[37,null,null,null,0,0,0,null,{"$f":"LOOKUP(H41,Poängberäkning!$B$6:$B$97,Poängberäkning!$C$6:$C$97)","v":0},null,{"$f":"LOOKUP(J41,Poängberäkning!$B$6:$B$97,Poängberäkning!$C$6:$C$97)","v":0},null,{"$f":"LOOKUP(L41,Poängberäkning!$B$6:$B$97,Poängberäkning!$C$6:$C$97)","v":0},null,{"$f":"LOOKUP(N41,Poängberäkning!$B$6:$B$97,Poängberäkning!$C$6:$C$97)","v":0},null,{"$f":"LOOKUP(P41,Poängberäkning!$B$6:$B$97,Poängberäkning!$C$6:$C$97)","v":0},null,{"$f":"LOOKUP(R41,Poängberäkning!$B$6:$B$97,Poängberäkning!$C$6:$C$97)","v":0},null,{"$f":"LOOKUP(T41,Poängberäkning!$B$6:$B$97,Poängberäkning!$C$6:$C$97)","v":0},null,{"$f":"LOOKUP(V41,Poängberäkning!$B$6:$B$97,Poängberäkning!$C$6:$C$97)","v":0},null,{"$f":"LOOKUP(X41,Poängberäkning!$B$6:$B$97,Poängberäkning!$C$6:$C$97)","v":0},null,{"$f":"LOOKUP(Z41,Poängberäkning!$B$6:$B$97,Poängberäkning!$C$6:$C$97)","v":0},null,{"$f":"LOOKUP(AB41,Poängberäkning!$B$6:$B$97,Poängberäkning!$C$6:$C$97)","v":0},null,{"$f":"LOOKUP(AD41,Poängberäkning!$B$6:$B$97,Poängberäkning!$C$6:$C$97)","v":0},null,{"$f":"LOOKUP(AF41,Poängberäkning!$B$6:$B$97,Poängberäkning!$C$6:$C$97)","v":0},null,{"$f":"LOOKUP(AH41,Poängberäkning!$B$6:$B$97,Poängberäkning!$C$6:$C$97)","v":0},null,{"$f":"LOOKUP(AJ41,Poängberäkning!$B$6:$B$97,Poängberäkning!$C$6:$C$97)","v":0},null,{"$f":"LOOKUP(AL41,Poängberäkning!$B$6:$B$97,Poängberäkning!$C$6:$C$97)","v":0},null,{"$f":"LOOKUP(AN41,Poängberäkning!$B$6:$B$97,Poängberäkning!$C$6:$C$97)","v":0},null,{"$f":"LOOKUP(AP41,Poängberäkning!$B$6:$B$97,Poängberäkning!$C$6:$C$97)","v":0},null,{"$f":"LOOKUP(AR41,Poängberäkning!$B$6:$B$97,Poängberäkning!$C$6:$C$97)","v":0},null,{"$f":"LOOKUP(AT41,Poängberäkning!$B$6:$B$97,Poängberäkning!$C$6:$C$97)","v":0},null,null,null,null,null,null,null,null,{"$f":"LARGE(($I41,$K41,$M41,$O41,$Q41,$S41,$U41,$W41,$Y41,$AA41,$AC41,$AE41,$AG41,$AI41,$AK41,$AM41,$AO41,$AQ41,$AS41,$AU41,$AW41,$AY41,$BA41,$BC41),1)","v":0},{"$f":"LARGE(($I41,$K41,$M41,$O41,$Q41,$S41,$U41,$W41,$Y41,$AA41,$AC41,$AE41,$AG41,$AI41,$AK41,$AM41,$AO41,$AQ41,$AS41,$AU41,$AW41,$AY41,$BA41,$BC41),2)","v":0},{"$f":"LARGE(($I41,$K41,$M41,$O41,$Q41,$S41,$U41,$W41,$Y41,$AA41,$AC41,$AE41,$AG41,$AI41,$AK41,$AM41,$AO41,$AQ41,$AS41,$AU41,$AW41,$AY41,$BA41,$BC41),3)","v":0},{"$f":"LARGE(($I41,$K41,$M41,$O41,$Q41,$S41,$U41,$W41,$Y41,$AA41,$AC41,$AE41,$AG41,$AI41,$AK41,$AM41,$AO41,$AQ41,$AS41,$AU41,$AW41,$AY41,$BA41,$BC41),4)","v":0},{"$f":"LARGE(($I41,$K41,$M41,$O41,$Q41,$S41,$U41,$W41,$Y41,$AA41,$AC41,$AE41,$AG41,$AI41,$AK41,$AM41,$AO41,$AQ41,$AS41,$AU41,$AW41,$AY41,$BA41,$BC41),5)","v":0},{"$f":"LARGE(($I41,$K41,$M41,$O41,$Q41,$S41,$U41,$W41,$Y41,$AA41,$AC41,$AE41,$AG41,$AI41,$AK41,$AM41,$AO41,$AQ41,$AS41,$AU41,$AW41,$AY41,$BA41,$BC41),6)","v":0},{"$f":"LARGE(($I41,$K41,$M41,$O41,$Q41,$S41,$U41,$W41,$Y41,$AA41,$AC41,$AE41,$AG41,$AI41,$AK41,$AM41,$AO41,$AQ41,$AS41,$AU41,$AW41,$AY41,$BA41,$BC41),7)","v":0},{"$f":"LARGE(($I41,$K41,$M41,$O41,$Q41,$S41,$U41,$W41,$Y41,$AA41,$AC41,$AE41,$AG41,$AI41,$AK41,$AM41,$AO41,$AQ41,$AS41,$AU41,$AW41,$AY41,$BA41,$BC41),8)","v":0},{"$f":"LARGE(($I41,$K41,$M41,$O41,$Q41,$S41,$U41,$W41,$Y41,$AA41,$AC41,$AE41,$AG41,$AI41,$AK41,$AM41,$AO41,$AQ41,$AS41,$AU41,$AW41,$AY41,$BA41,$BC41),9)","v":0},{"$f":"LARGE(($I41,$K41,$M41,$O41,$Q41,$S41,$U41,$W41,$Y41,$AA41,$AC41,$AE41,$AG41,$AI41,$AK41,$AM41,$AO41,$AQ41,$AS41,$AU41,$AW41,$AY41,$BA41,$BC41),10)","v":0}]
[38,null,null,null,0,0,0,null,{"$f":"LOOKUP(H42,Poängberäkning!$B$6:$B$97,Poängberäkning!$C$6:$C$97)","v":0},null,{"$f":"LOOKUP(J42,Poängberäkning!$B$6:$B$97,Poängberäkning!$C$6:$C$97)","v":0},null,{"$f":"LOOKUP(L42,Poängberäkning!$B$6:$B$97,Poängberäkning!$C$6:$C$97)","v":0},null,{"$f":"LOOKUP(N42,Poängberäkning!$B$6:$B$97,Poängberäkning!$C$6:$C$97)","v":0},null,{"$f":"LOOKUP(P42,Poängberäkning!$B$6:$B$97,Poängberäkning!$C$6:$C$97)","v":0},null,{"$f":"LOOKUP(R42,Poängberäkning!$B$6:$B$97,Poängberäkning!$C$6:$C$97)","v":0},null,{"$f":"LOOKUP(T42,Poängberäkning!$B$6:$B$97,Poängberäkning!$C$6:$C$97)","v":0},null,{"$f":"LOOKUP(V42,Poängberäkning!$B$6:$B$97,Poängberäkning!$C$6:$C$97)","v":0},null,{"$f":"LOOKUP(X42,Poängberäkning!$B$6:$B$97,Poängberäkning!$C$6:$C$97)","v":0},null,{"$f":"LOOKUP(Z42,Poängberäkning!$B$6:$B$97,Poängberäkning!$C$6:$C$97)","v":0},null,{"$f":"LOOKUP(AB42,Poängberäkning!$B$6:$B$97,Poängberäkning!$C$6:$C$97)","v":0},null,{"$f":"LOOKUP(AD42,Poängberäkning!$B$6:$B$97,Poängberäkning!$C$6:$C$97)","v":0},null,{"$f":"LOOKUP(AF42,Poängberäkning!$B$6:$B$97,Poängberäkning!$C$6:$C$97)","v":0},null,{"$f":"LOOKUP(AH42,Poängberäkning!$B$6:$B$97,Poängberäkning!$C$6:$C$97)","v":0},null,{"$f":"LOOKUP(AJ42,Poängberäkning!$B$6:$B$97,Poängberäkning!$C$6:$C$97)","v":0},null,{"$f":"LOOKUP(AL42,Poängberäkning!$B$6:$B$97,Poängberäkning!$C$6:$C$97)","v":0},null,{"$f":"LOOKUP(AN42,Poängberäkning!$B$6:$B$97,Poängberäkning!$C$6:$C$97)","v":0},null,{"$f":"LOOKUP(AP42,Poängberäkning!$B$6:$B$97,Poängberäkning!$C$6:$C$97)","v":0},null,{"$f":"LOOKUP(AR42,Poängberäkning!$B$6:$B$97,Poängberäkning!$C$6:$C$97)","v":0},null,{"$f":"LOOKUP(AT42,Poängberäkning!$B$6:$B$97,Poängberäkning!$C$6:$C$97)","v":0},null,null,null,null,null,null,null,null,{"$f":"LARGE(($I42,$K42,$M42,$O42,$Q42,$S42,$U42,$W42,$Y42,$AA42,$AC42,$AE42,$AG42,$AI42,$AK42,$AM42,$AO42,$AQ42,$AS42,$AU42,$AW42,$AY42,$BA42,$BC42),1)","v":0},{"$f":"LARGE(($I42,$K42,$M42,$O42,$Q42,$S42,$U42,$W42,$Y42,$AA42,$AC42,$AE42,$AG42,$AI42,$AK42,$AM42,$AO42,$AQ42,$AS42,$AU42,$AW42,$AY42,$BA42,$BC42),2)","v":0},{"$f":"LARGE(($I42,$K42,$M42,$O42,$Q42,$S42,$U42,$W42,$Y42,$AA42,$AC42,$AE42,$AG42,$AI42,$AK42,$AM42,$AO42,$AQ42,$AS42,$AU42,$AW42,$AY42,$BA42,$BC42),3)","v":0},{"$f":"LARGE(($I42,$K42,$M42,$O42,$Q42,$S42,$U42,$W42,$Y42,$AA42,$AC42,$AE42,$AG42,$AI42,$AK42,$AM42,$AO42,$AQ42,$AS42,$AU42,$AW42,$AY42,$BA42,$BC42),4)","v":0},{"$f":"LARGE(($I42,$K42,$M42,$O42,$Q42,$S42,$U42,$W42,$Y42,$AA42,$AC42,$AE42,$AG42,$AI42,$AK42,$AM42,$AO42,$AQ42,$AS42,$AU42,$AW42,$AY42,$BA42,$BC42),5)","v":0},{"$f":"LARGE(($I42,$K42,$M42,$O42,$Q42,$S42,$U42,$W42,$Y42,$AA42,$AC42,$AE42,$AG42,$AI42,$AK42,$AM42,$AO42,$AQ42,$AS42,$AU42,$AW42,$AY42,$BA42,$BC42),6)","v":0},{"$f":"LARGE(($I42,$K42,$M42,$O42,$Q42,$S42,$U42,$W42,$Y42,$AA42,$AC42,$AE42,$AG42,$AI42,$AK42,$AM42,$AO42,$AQ42,$AS42,$AU42,$AW42,$AY42,$BA42,$BC42),7)","v":0},{"$f":"LARGE(($I42,$K42,$M42,$O42,$Q42,$S42,$U42,$W42,$Y42,$AA42,$AC42,$AE42,$AG42,$AI42,$AK42,$AM42,$AO42,$AQ42,$AS42,$AU42,$AW42,$AY42,$BA42,$BC42),8)","v":0},{"$f":"LARGE(($I42,$K42,$M42,$O42,$Q42,$S42,$U42,$W42,$Y42,$AA42,$AC42,$AE42,$AG42,$AI42,$AK42,$AM42,$AO42,$AQ42,$AS42,$AU42,$AW42,$AY42,$BA42,$BC42),9)","v":0},{"$f":"LARGE(($I42,$K42,$M42,$O42,$Q42,$S42,$U42,$W42,$Y42,$AA42,$AC42,$AE42,$AG42,$AI42,$AK42,$AM42,$AO42,$AQ42,$AS42,$AU42,$AW42,$AY42,$BA42,$BC42),10)","v":0}]
[39,null,null,null,0,0,0,null,{"$f":"LOOKUP(H43,Poängberäkning!$B$6:$B$97,Poängberäkning!$C$6:$C$97)","v":0},null,{"$f":"LOOKUP(J43,Poängberäkning!$B$6:$B$97,Poängberäkning!$C$6:$C$97)","v":0},null,{"$f":"LOOKUP(L43,Poängberäkning!$B$6:$B$97,Poängberäkning!$C$6:$C$97)","v":0},null,{"$f":"LOOKUP(N43,Poängberäkning!$B$6:$B$97,Poängberäkning!$C$6:$C$97)","v":0},null,{"$f":"LOOKUP(P43,Poängberäkning!$B$6:$B$97,Poängberäkning!$C$6:$C$97)","v":0},null,{"$f":"LOOKUP(R43,Poängberäkning!$B$6:$B$97,Poängberäkning!$C$6:$C$97)","v":0},null,{"$f":"LOOKUP(T43,Poängberäkning!$B$6:$B$97,Poängberäkning!$C$6:$C$97)","v":0},null,{"$f":"LOOKUP(V43,Poängberäkning!$B$6:$B$97,Poängberäkning!$C$6:$C$97)","v":0},null,{"$f":"LOOKUP(X43,Poängberäkning!$B$6:$B$97,Poängberäkning!$C$6:$C$97)","v":0},null,{"$f":"LOOKUP(Z43,Poängberäkning!$B$6:$B$97,Poängberäkning!$C$6:$C$97)","v":0},null,{"$f":"LOOKUP(AB43,Poängberäkning!$B$6:$B$97,Poängberäkning!$C$6:$C$97)","v":0},null,{"$f":"LOOKUP(AD43,Poängberäkning!$B$6:$B$97,Poängberäkning!$C$6:$C$97)","v":0},null,{"$f":"LOOKUP(AF43,Poängberäkning!$B$6:$B$97,Poängberäkning!$C$6:$C$97)","v":0},null,{"$f":"LOOKUP(AH43,Poängberäkning!$B$6:$B$97,Poängberäkning!$C$6:$C$97)","v":0},null,{"$f":"LOOKUP(AJ43,Poängberäkning!$B$6:$B$97,Poängberäkning!$C$6:$C$97)","v":0},null,{"$f":"LOOKUP(AL43,Poängberäkning!$B$6:$B$97,Poängberäkning!$C$6:$C$97)","v":0},null,{"$f":"LOOKUP(AN43,Poängberäkning!$B$6:$B$97,Poängberäkning!$C$6:$C$97)","v":0},null,{"$f":"LOOKUP(AP43,Poängberäkning!$B$6:$B$97,Poängberäkning!$C$6:$C$97)","v":0},null,{"$f":"LOOKUP(AR43,Poängberäkning!$B$6:$B$97,Poängberäkning!$C$6:$C$97)","v":0},null,{"$f":"LOOKUP(AT43,Poängberäkning!$B$6:$B$97,Poängberäkning!$C$6:$C$97)","v":0},null,null,null,null,null,null,null,null,{"$f":"LARGE(($I43,$K43,$M43,$O43,$Q43,$S43,$U43,$W43,$Y43,$AA43,$AC43,$AE43,$AG43,$AI43,$AK43,$AM43,$AO43,$AQ43,$AS43,$AU43,$AW43,$AY43,$BA43,$BC43),1)","v":0},{"$f":"LARGE(($I43,$K43,$M43,$O43,$Q43,$S43,$U43,$W43,$Y43,$AA43,$AC43,$AE43,$AG43,$AI43,$AK43,$AM43,$AO43,$AQ43,$AS43,$AU43,$AW43,$AY43,$BA43,$BC43),2)","v":0},{"$f":"LARGE(($I43,$K43,$M43,$O43,$Q43,$S43,$U43,$W43,$Y43,$AA43,$AC43,$AE43,$AG43,$AI43,$AK43,$AM43,$AO43,$AQ43,$AS43,$AU43,$AW43,$AY43,$BA43,$BC43),3)","v":0},{"$f":"LARGE(($I43,$K43,$M43,$O43,$Q43,$S43,$U43,$W43,$Y43,$AA43,$AC43,$AE43,$AG43,$AI43,$AK43,$AM43,$AO43,$AQ43,$AS43,$AU43,$AW43,$AY43,$BA43,$BC43),4)","v":0},{"$f":"LARGE(($I43,$K43,$M43,$O43,$Q43,$S43,$U43,$W43,$Y43,$AA43,$AC43,$AE43,$AG43,$AI43,$AK43,$AM43,$AO43,$AQ43,$AS43,$AU43,$AW43,$AY43,$BA43,$BC43),5)","v":0},{"$f":"LARGE(($I43,$K43,$M43,$O43,$Q43,$S43,$U43,$W43,$Y43,$AA43,$AC43,$AE43,$AG43,$AI43,$AK43,$AM43,$AO43,$AQ43,$AS43,$AU43,$AW43,$AY43,$BA43,$BC43),6)","v":0},{"$f":"LARGE(($I43,$K43,$M43,$O43,$Q43,$S43,$U43,$W43,$Y43,$AA43,$AC43,$AE43,$AG43,$AI43,$AK43,$AM43,$AO43,$AQ43,$AS43,$AU43,$AW43,$AY43,$BA43,$BC43),7)","v":0},{"$f":"LARGE(($I43,$K43,$M43,$O43,$Q43,$S43,$U43,$W43,$Y43,$AA43,$AC43,$AE43,$AG43,$AI43,$AK43,$AM43,$AO43,$AQ43,$AS43,$AU43,$AW43,$AY43,$BA43,$BC43),8)","v":0},{"$f":"LARGE(($I43,$K43,$M43,$O43,$Q43,$S43,$U43,$W43,$Y43,$AA43,$AC43,$AE43,$AG43,$AI43,$AK43,$AM43,$AO43,$AQ43,$AS43,$AU43,$AW43,$AY43,$BA43,$BC43),9)","v":0},{"$f":"LARGE(($I43,$K43,$M43,$O43,$Q43,$S43,$U43,$W43,$Y43,$AA43,$AC43,$AE43,$AG43,$AI43,$AK43,$AM43,$AO43,$AQ43,$AS43,$AU43,$AW43,$AY43,$BA43,$BC43),10)","v":0}]
[40,null,null,null,0,0,0,null,{"$f":"LOOKUP(H44,Poängberäkning!$B$6:$B$97,Poängberäkning!$C$6:$C$97)","v":0},null,{"$f":"LOOKUP(J44,Poängberäkning!$B$6:$B$97,Poängberäkning!$C$6:$C$97)","v":0},null,{"$f":"LOOKUP(L44,Poängberäkning!$B$6:$B$97,Poängberäkning!$C$6:$C$97)","v":0},null,{"$f":"LOOKUP(N44,Poängberäkning!$B$6:$B$97,Poängberäkning!$C$6:$C$97)","v":0},null,{"$f":"LOOKUP(P44,Poängberäkning!$B$6:$B$97,Poängberäkning!$C$6:$C$97)","v":0},null,{"$f":"LOOKUP(R44,Poängberäkning!$B$6:$B$97,Poängberäkning!$C$6:$C$97)","v":0},null,{"$f":"LOOKUP(T44,Poängberäkning!$B$6:$B$97,Poängberäkning!$C$6:$C$97)","v":0},null,{"$f":"LOOKUP(V44,Poängberäkning!$B$6:$B$97,Poängberäkning!$C$6:$C$97)","v":0},null,{"$f":"LOOKUP(X44,Poängberäkning!$B$6:$B$97,Poängberäkning!$C$6:$C$97)","v":0},null,{"$f":"LOOKUP(Z44,Poängberäkning!$B$6:$B$97,Poängberäkning!$C$6:$C$97)","v":0},null,{"$f":"LOOKUP(AB44,Poängberäkning!$B$6:$B$97,Poängberäkning!$C$6:$C$97)","v":0},null,{"$f":"LOOKUP(AD44,Poängberäkning!$B$6:$B$97,Poängberäkning!$C$6:$C$97)","v":0},null,{"$f":"LOOKUP(AF44,Poängberäkning!$B$6:$B$97,Poängberäkning!$C$6:$C$97)","v":0},null,{"$f":"LOOKUP(AH44,Poängberäkning!$B$6:$B$97,Poängberäkning!$C$6:$C$97)","v":0},null,{"$f":"LOOKUP(AJ44,Poängberäkning!$B$6:$B$97,Poängberäkning!$C$6:$C$97)","v":0},null,{"$f":"LOOKUP(AL44,Poängberäkning!$B$6:$B$97,Poängberäkning!$C$6:$C$97)","v":0},null,{"$f":"LOOKUP(AN44,Poängberäkning!$B$6:$B$97,Poängberäkning!$C$6:$C$97)","v":0},null,{"$f":"LOOKUP(AP44,Poängberäkning!$B$6:$B$97,Poängberäkning!$C$6:$C$97)","v":0},null,{"$f":"LOOKUP(AR44,Poängberäkning!$B$6:$B$97,Poängberäkning!$C$6:$C$97)","v":0},null,{"$f":"LOOKUP(AT44,Poängberäkning!$B$6:$B$97,Poängberäkning!$C$6:$C$97)","v":0},null,null,null,null,null,null,null,null,{"$f":"LARGE(($I44,$K44,$M44,$O44,$Q44,$S44,$U44,$W44,$Y44,$AA44,$AC44,$AE44,$AG44,$AI44,$AK44,$AM44,$AO44,$AQ44,$AS44,$AU44,$AW44,$AY44,$BA44,$BC44),1)","v":0},{"$f":"LARGE(($I44,$K44,$M44,$O44,$Q44,$S44,$U44,$W44,$Y44,$AA44,$AC44,$AE44,$AG44,$AI44,$AK44,$AM44,$AO44,$AQ44,$AS44,$AU44,$AW44,$AY44,$BA44,$BC44),2)","v":0},{"$f":"LARGE(($I44,$K44,$M44,$O44,$Q44,$S44,$U44,$W44,$Y44,$AA44,$AC44,$AE44,$AG44,$AI44,$AK44,$AM44,$AO44,$AQ44,$AS44,$AU44,$AW44,$AY44,$BA44,$BC44),3)","v":0},{"$f":"LARGE(($I44,$K44,$M44,$O44,$Q44,$S44,$U44,$W44,$Y44,$AA44,$AC44,$AE44,$AG44,$AI44,$AK44,$AM44,$AO44,$AQ44,$AS44,$AU44,$AW44,$AY44,$BA44,$BC44),4)","v":0},{"$f":"LARGE(($I44,$K44,$M44,$O44,$Q44,$S44,$U44,$W44,$Y44,$AA44,$AC44,$AE44,$AG44,$AI44,$AK44,$AM44,$AO44,$AQ44,$AS44,$AU44,$AW44,$AY44,$BA44,$BC44),5)","v":0},{"$f":"LARGE(($I44,$K44,$M44,$O44,$Q44,$S44,$U44,$W44,$Y44,$AA44,$AC44,$AE44,$AG44,$AI44,$AK44,$AM44,$AO44,$AQ44,$AS44,$AU44,$AW44,$AY44,$BA44,$BC44),6)","v":0},{"$f":"LARGE(($I44,$K44,$M44,$O44,$Q44,$S44,$U44,$W44,$Y44,$AA44,$AC44,$AE44,$AG44,$AI44,$AK44,$AM44,$AO44,$AQ44,$AS44,$AU44,$AW44,$AY44,$BA44,$BC44),7)","v":0},{"$f":"LARGE(($I44,$K44,$M44,$O44,$Q44,$S44,$U44,$W44,$Y44,$AA44,$AC44,$AE44,$AG44,$AI44,$AK44,$AM44,$AO44,$AQ44,$AS44,$AU44,$AW44,$AY44,$BA44,$BC44),8)","v":0},{"$f":"LARGE(($I44,$K44,$M44,$O44,$Q44,$S44,$U44,$W44,$Y44,$AA44,$AC44,$AE44,$AG44,$AI44,$AK44,$AM44,$AO44,$AQ44,$AS44,$AU44,$AW44,$AY44,$BA44,$BC44),9)","v":0},{"$f":"LARGE(($I44,$K44,$M44,$O44,$Q44,$S44,$U44,$W44,$Y44,$AA44,$AC44,$AE44,$AG44,$AI44,$AK44,$AM44,$AO44,$AQ44,$AS44,$AU44,$AW44,$AY44,$BA44,$BC44),10)","v":0}]
[41,null,null,null,0,0,0,null,{"$f":"LOOKUP(H45,Poängberäkning!$B$6:$B$97,Poängberäkning!$C$6:$C$97)","v":0},null,{"$f":"LOOKUP(J45,Poängberäkning!$B$6:$B$97,Poängberäkning!$C$6:$C$97)","v":0},null,{"$f":"LOOKUP(L45,Poängberäkning!$B$6:$B$97,Poängberäkning!$C$6:$C$97)","v":0},null,{"$f":"LOOKUP(N45,Poängberäkning!$B$6:$B$97,Poängberäkning!$C$6:$C$97)","v":0},null,{"$f":"LOOKUP(P45,Poängberäkning!$B$6:$B$97,Poängberäkning!$C$6:$C$97)","v":0},null,{"$f":"LOOKUP(R45,Poängberäkning!$B$6:$B$97,Poängberäkning!$C$6:$C$97)","v":0},null,{"$f":"LOOKUP(T45,Poängberäkning!$B$6:$B$97,Poängberäkning!$C$6:$C$97)","v":0},null,{"$f":"LOOKUP(V45,Poängberäkning!$B$6:$B$97,Poängberäkning!$C$6:$C$97)","v":0},null,{"$f":"LOOKUP(X45,Poängberäkning!$B$6:$B$97,Poängberäkning!$C$6:$C$97)","v":0},null,{"$f":"LOOKUP(Z45,Poängberäkning!$B$6:$B$97,Poängberäkning!$C$6:$C$97)","v":0},null,{"$f":"LOOKUP(AB45,Poängberäkning!$B$6:$B$97,Poängberäkning!$C$6:$C$97)","v":0},null,{"$f":"LOOKUP(AD45,Poängberäkning!$B$6:$B$97,Poängberäkning!$C$6:$C$97)","v":0},null,{"$f":"LOOKUP(AF45,Poängberäkning!$B$6:$B$97,Poängberäkning!$C$6:$C$97)","v":0},null,{"$f":"LOOKUP(AH45,Poängberäkning!$B$6:$B$97,Poängberäkning!$C$6:$C$97)","v":0},null,{"$f":"LOOKUP(AJ45,Poängberäkning!$B$6:$B$97,Poängberäkning!$C$6:$C$97)","v":0},null,{"$f":"LOOKUP(AL45,Poängberäkning!$B$6:$B$97,Poängberäkning!$C$6:$C$97)","v":0},null,{"$f":"LOOKUP(AN45,Poängberäkning!$B$6:$B$97,Poängberäkning!$C$6:$C$97)","v":0},null,{"$f":"LOOKUP(AP45,Poängberäkning!$B$6:$B$97,Poängberäkning!$C$6:$C$97)","v":0},null,{"$f":"LOOKUP(AR45,Poängberäkning!$B$6:$B$97,Poängberäkning!$C$6:$C$97)","v":0},null,{"$f":"LOOKUP(AT45,Poängberäkning!$B$6:$B$97,Poängberäkning!$C$6:$C$97)","v":0},null,null,null,null,null,null,null,null,{"$f":"LARGE(($I45,$K45,$M45,$O45,$Q45,$S45,$U45,$W45,$Y45,$AA45,$AC45,$AE45,$AG45,$AI45,$AK45,$AM45,$AO45,$AQ45,$AS45,$AU45,$AW45,$AY45,$BA45,$BC45),1)","v":0},{"$f":"LARGE(($I45,$K45,$M45,$O45,$Q45,$S45,$U45,$W45,$Y45,$AA45,$AC45,$AE45,$AG45,$AI45,$AK45,$AM45,$AO45,$AQ45,$AS45,$AU45,$AW45,$AY45,$BA45,$BC45),2)","v":0},{"$f":"LARGE(($I45,$K45,$M45,$O45,$Q45,$S45,$U45,$W45,$Y45,$AA45,$AC45,$AE45,$AG45,$AI45,$AK45,$AM45,$AO45,$AQ45,$AS45,$AU45,$AW45,$AY45,$BA45,$BC45),3)","v":0},{"$f":"LARGE(($I45,$K45,$M45,$O45,$Q45,$S45,$U45,$W45,$Y45,$AA45,$AC45,$AE45,$AG45,$AI45,$AK45,$AM45,$AO45,$AQ45,$AS45,$AU45,$AW45,$AY45,$BA45,$BC45),4)","v":0},{"$f":"LARGE(($I45,$K45,$M45,$O45,$Q45,$S45,$U45,$W45,$Y45,$AA45,$AC45,$AE45,$AG45,$AI45,$AK45,$AM45,$AO45,$AQ45,$AS45,$AU45,$AW45,$AY45,$BA45,$BC45),5)","v":0},{"$f":"LARGE(($I45,$K45,$M45,$O45,$Q45,$S45,$U45,$W45,$Y45,$AA45,$AC45,$AE45,$AG45,$AI45,$AK45,$AM45,$AO45,$AQ45,$AS45,$AU45,$AW45,$AY45,$BA45,$BC45),6)","v":0},{"$f":"LARGE(($I45,$K45,$M45,$O45,$Q45,$S45,$U45,$W45,$Y45,$AA45,$AC45,$AE45,$AG45,$AI45,$AK45,$AM45,$AO45,$AQ45,$AS45,$AU45,$AW45,$AY45,$BA45,$BC45),7)","v":0},{"$f":"LARGE(($I45,$K45,$M45,$O45,$Q45,$S45,$U45,$W45,$Y45,$AA45,$AC45,$AE45,$AG45,$AI45,$AK45,$AM45,$AO45,$AQ45,$AS45,$AU45,$AW45,$AY45,$BA45,$BC45),8)","v":0},{"$f":"LARGE(($I45,$K45,$M45,$O45,$Q45,$S45,$U45,$W45,$Y45,$AA45,$AC45,$AE45,$AG45,$AI45,$AK45,$AM45,$AO45,$AQ45,$AS45,$AU45,$AW45,$AY45,$BA45,$BC45),9)","v":0},{"$f":"LARGE(($I45,$K45,$M45,$O45,$Q45,$S45,$U45,$W45,$Y45,$AA45,$AC45,$AE45,$AG45,$AI45,$AK45,$AM45,$AO45,$AQ45,$AS45,$AU45,$AW45,$AY45,$BA45,$BC45),10)","v":0}]
[42,null,null,null,0,0,0,null,{"$f":"LOOKUP(H46,Poängberäkning!$B$6:$B$97,Poängberäkning!$C$6:$C$97)","v":0},null,{"$f":"LOOKUP(J46,Poängberäkning!$B$6:$B$97,Poängberäkning!$C$6:$C$97)","v":0},null,{"$f":"LOOKUP(L46,Poängberäkning!$B$6:$B$97,Poängberäkning!$C$6:$C$97)","v":0},null,{"$f":"LOOKUP(N46,Poängberäkning!$B$6:$B$97,Poängberäkning!$C$6:$C$97)","v":0},null,{"$f":"LOOKUP(P46,Poängberäkning!$B$6:$B$97,Poängberäkning!$C$6:$C$97)","v":0},null,{"$f":"LOOKUP(R46,Poängberäkning!$B$6:$B$97,Poängberäkning!$C$6:$C$97)","v":0},null,{"$f":"LOOKUP(T46,Poängberäkning!$B$6:$B$97,Poängberäkning!$C$6:$C$97)","v":0},null,{"$f":"LOOKUP(V46,Poängberäkning!$B$6:$B$97,Poängberäkning!$C$6:$C$97)","v":0},null,{"$f":"LOOKUP(X46,Poängberäkning!$B$6:$B$97,Poängberäkning!$C$6:$C$97)","v":0},null,{"$f":"LOOKUP(Z46,Poängberäkning!$B$6:$B$97,Poängberäkning!$C$6:$C$97)","v":0},null,{"$f":"LOOKUP(AB46,Poängberäkning!$B$6:$B$97,Poängberäkning!$C$6:$C$97)","v":0},null,{"$f":"LOOKUP(AD46,Poängberäkning!$B$6:$B$97,Poängberäkning!$C$6:$C$97)","v":0},null,{"$f":"LOOKUP(AF46,Poängberäkning!$B$6:$B$97,Poängberäkning!$C$6:$C$97)","v":0},null,{"$f":"LOOKUP(AH46,Poängberäkning!$B$6:$B$97,Poängberäkning!$C$6:$C$97)","v":0},null,{"$f":"LOOKUP(AJ46,Poängberäkning!$B$6:$B$97,Poängberäkning!$C$6:$C$97)","v":0},null,{"$f":"LOOKUP(AL46,Poängberäkning!$B$6:$B$97,Poängberäkning!$C$6:$C$97)","v":0},null,{"$f":"LOOKUP(AN46,Poängberäkning!$B$6:$B$97,Poängberäkning!$C$6:$C$97)","v":0},null,{"$f":"LOOKUP(AP46,Poängberäkning!$B$6:$B$97,Poängberäkning!$C$6:$C$97)","v":0},null,{"$f":"LOOKUP(AR46,Poängberäkning!$B$6:$B$97,Poängberäkning!$C$6:$C$97)","v":0},null,{"$f":"LOOKUP(AT46,Poängberäkning!$B$6:$B$97,Poängberäkning!$C$6:$C$97)","v":0},null,null,null,null,null,null,null,null,{"$f":"LARGE(($I46,$K46,$M46,$O46,$Q46,$S46,$U46,$W46,$Y46,$AA46,$AC46,$AE46,$AG46,$AI46,$AK46,$AM46,$AO46,$AQ46,$AS46,$AU46,$AW46,$AY46,$BA46,$BC46),1)","v":0},{"$f":"LARGE(($I46,$K46,$M46,$O46,$Q46,$S46,$U46,$W46,$Y46,$AA46,$AC46,$AE46,$AG46,$AI46,$AK46,$AM46,$AO46,$AQ46,$AS46,$AU46,$AW46,$AY46,$BA46,$BC46),2)","v":0},{"$f":"LARGE(($I46,$K46,$M46,$O46,$Q46,$S46,$U46,$W46,$Y46,$AA46,$AC46,$AE46,$AG46,$AI46,$AK46,$AM46,$AO46,$AQ46,$AS46,$AU46,$AW46,$AY46,$BA46,$BC46),3)","v":0},{"$f":"LARGE(($I46,$K46,$M46,$O46,$Q46,$S46,$U46,$W46,$Y46,$AA46,$AC46,$AE46,$AG46,$AI46,$AK46,$AM46,$AO46,$AQ46,$AS46,$AU46,$AW46,$AY46,$BA46,$BC46),4)","v":0},{"$f":"LARGE(($I46,$K46,$M46,$O46,$Q46,$S46,$U46,$W46,$Y46,$AA46,$AC46,$AE46,$AG46,$AI46,$AK46,$AM46,$AO46,$AQ46,$AS46,$AU46,$AW46,$AY46,$BA46,$BC46),5)","v":0},{"$f":"LARGE(($I46,$K46,$M46,$O46,$Q46,$S46,$U46,$W46,$Y46,$AA46,$AC46,$AE46,$AG46,$AI46,$AK46,$AM46,$AO46,$AQ46,$AS46,$AU46,$AW46,$AY46,$BA46,$BC46),6)","v":0},{"$f":"LARGE(($I46,$K46,$M46,$O46,$Q46,$S46,$U46,$W46,$Y46,$AA46,$AC46,$AE46,$AG46,$AI46,$AK46,$AM46,$AO46,$AQ46,$AS46,$AU46,$AW46,$AY46,$BA46,$BC46),7)","v":0},{"$f":"LARGE(($I46,$K46,$M46,$O46,$Q46,$S46,$U46,$W46,$Y46,$AA46,$AC46,$AE46,$AG46,$AI46,$AK46,$AM46,$AO46,$AQ46,$AS46,$AU46,$AW46,$AY46,$BA46,$BC46),8)","v":0},{"$f":"LARGE(($I46,$K46,$M46,$O46,$Q46,$S46,$U46,$W46,$Y46,$AA46,$AC46,$AE46,$AG46,$AI46,$AK46,$AM46,$AO46,$AQ46,$AS46,$AU46,$AW46,$AY46,$BA46,$BC46),9)","v":0},{"$f":"LARGE(($I46,$K46,$M46,$O46,$Q46,$S46,$U46,$W46,$Y46,$AA46,$AC46,$AE46,$AG46,$AI46,$AK46,$AM46,$AO46,$AQ46,$AS46,$AU46,$AW46,$AY46,$BA46,$BC46),10)","v":0}]
[43,null,null,null,0,0,0,null,{"$f":"LOOKUP(H47,Poängberäkning!$B$6:$B$97,Poängberäkning!$C$6:$C$97)","v":0},null,{"$f":"LOOKUP(J47,Poängberäkning!$B$6:$B$97,Poängberäkning!$C$6:$C$97)","v":0},null,{"$f":"LOOKUP(L47,Poängberäkning!$B$6:$B$97,Poängberäkning!$C$6:$C$97)","v":0},null,{"$f":"LOOKUP(N47,Poängberäkning!$B$6:$B$97,Poängberäkning!$C$6:$C$97)","v":0},null,{"$f":"LOOKUP(P47,Poängberäkning!$B$6:$B$97,Poängberäkning!$C$6:$C$97)","v":0},null,{"$f":"LOOKUP(R47,Poängberäkning!$B$6:$B$97,Poängberäkning!$C$6:$C$97)","v":0},null,{"$f":"LOOKUP(T47,Poängberäkning!$B$6:$B$97,Poängberäkning!$C$6:$C$97)","v":0},null,{"$f":"LOOKUP(V47,Poängberäkning!$B$6:$B$97,Poängberäkning!$C$6:$C$97)","v":0},null,{"$f":"LOOKUP(X47,Poängberäkning!$B$6:$B$97,Poängberäkning!$C$6:$C$97)","v":0},null,{"$f":"LOOKUP(Z47,Poängberäkning!$B$6:$B$97,Poängberäkning!$C$6:$C$97)","v":0},null,{"$f":"LOOKUP(AB47,Poängberäkning!$B$6:$B$97,Poängberäkning!$C$6:$C$97)","v":0},null,{"$f":"LOOKUP(AD47,Poängberäkning!$B$6:$B$97,Poängberäkning!$C$6:$C$97)","v":0},null,{"$f":"LOOKUP(AF47,Poängberäkning!$B$6:$B$97,Poängberäkning!$C$6:$C$97)","v":0},null,{"$f":"LOOKUP(AH47,Poängberäkning!$B$6:$B$97,Poängberäkning!$C$6:$C$97)","v":0},null,{"$f":"LOOKUP(AJ47,Poängberäkning!$B$6:$B$97,Poängberäkning!$C$6:$C$97)","v":0},null,{"$f":"LOOKUP(AL47,Poängberäkning!$B$6:$B$97,Poängberäkning!$C$6:$C$97)","v":0},null,{"$f":"LOOKUP(AN47,Poängberäkning!$B$6:$B$97,Poängberäkning!$C$6:$C$97)","v":0},null,{"$f":"LOOKUP(AP47,Poängberäkning!$B$6:$B$97,Poängberäkning!$C$6:$C$97)","v":0},null,{"$f":"LOOKUP(AR47,Poängberäkning!$B$6:$B$97,Poängberäkning!$C$6:$C$97)","v":0},null,{"$f":"LOOKUP(AT47,Poängberäkning!$B$6:$B$97,Poängberäkning!$C$6:$C$97)","v":0},null,null,null,null,null,null,null,null,{"$f":"LARGE(($I47,$K47,$M47,$O47,$Q47,$S47,$U47,$W47,$Y47,$AA47,$AC47,$AE47,$AG47,$AI47,$AK47,$AM47,$AO47,$AQ47,$AS47,$AU47,$AW47,$AY47,$BA47,$BC47),1)","v":0},{"$f":"LARGE(($I47,$K47,$M47,$O47,$Q47,$S47,$U47,$W47,$Y47,$AA47,$AC47,$AE47,$AG47,$AI47,$AK47,$AM47,$AO47,$AQ47,$AS47,$AU47,$AW47,$AY47,$BA47,$BC47),2)","v":0},{"$f":"LARGE(($I47,$K47,$M47,$O47,$Q47,$S47,$U47,$W47,$Y47,$AA47,$AC47,$AE47,$AG47,$AI47,$AK47,$AM47,$AO47,$AQ47,$AS47,$AU47,$AW47,$AY47,$BA47,$BC47),3)","v":0},{"$f":"LARGE(($I47,$K47,$M47,$O47,$Q47,$S47,$U47,$W47,$Y47,$AA47,$AC47,$AE47,$AG47,$AI47,$AK47,$AM47,$AO47,$AQ47,$AS47,$AU47,$AW47,$AY47,$BA47,$BC47),4)","v":0},{"$f":"LARGE(($I47,$K47,$M47,$O47,$Q47,$S47,$U47,$W47,$Y47,$AA47,$AC47,$AE47,$AG47,$AI47,$AK47,$AM47,$AO47,$AQ47,$AS47,$AU47,$AW47,$AY47,$BA47,$BC47),5)","v":0},{"$f":"LARGE(($I47,$K47,$M47,$O47,$Q47,$S47,$U47,$W47,$Y47,$AA47,$AC47,$AE47,$AG47,$AI47,$AK47,$AM47,$AO47,$AQ47,$AS47,$AU47,$AW47,$AY47,$BA47,$BC47),6)","v":0},{"$f":"LARGE(($I47,$K47,$M47,$O47,$Q47,$S47,$U47,$W47,$Y47,$AA47,$AC47,$AE47,$AG47,$AI47,$AK47,$AM47,$AO47,$AQ47,$AS47,$AU47,$AW47,$AY47,$BA47,$BC47),7)","v":0},{"$f":"LARGE(($I47,$K47,$M47,$O47,$Q47,$S47,$U47,$W47,$Y47,$AA47,$AC47,$AE47,$AG47,$AI47,$AK47,$AM47,$AO47,$AQ47,$AS47,$AU47,$AW47,$AY47,$BA47,$BC47),8)","v":0},{"$f":"LARGE(($I47,$K47,$M47,$O47,$Q47,$S47,$U47,$W47,$Y47,$AA47,$AC47,$AE47,$AG47,$AI47,$AK47,$AM47,$AO47,$AQ47,$AS47,$AU47,$AW47,$AY47,$BA47,$BC47),9)","v":0},{"$f":"LARGE(($I47,$K47,$M47,$O47,$Q47,$S47,$U47,$W47,$Y47,$AA47,$AC47,$AE47,$AG47,$AI47,$AK47,$AM47,$AO47,$AQ47,$AS47,$AU47,$AW47,$AY47,$BA47,$BC47),10)","v":0}]
[44,null,null,null,0,0,0,null,{"$f":"LOOKUP(H48,Poängberäkning!$B$6:$B$97,Poängberäkning!$C$6:$C$97)","v":0},null,{"$f":"LOOKUP(J48,Poängberäkning!$B$6:$B$97,Poängberäkning!$C$6:$C$97)","v":0},null,{"$f":"LOOKUP(L48,Poängberäkning!$B$6:$B$97,Poängberäkning!$C$6:$C$97)","v":0},null,{"$f":"LOOKUP(N48,Poängberäkning!$B$6:$B$97,Poängberäkning!$C$6:$C$97)","v":0},null,{"$f":"LOOKUP(P48,Poängberäkning!$B$6:$B$97,Poängberäkning!$C$6:$C$97)","v":0},null,{"$f":"LOOKUP(R48,Poängberäkning!$B$6:$B$97,Poängberäkning!$C$6:$C$97)","v":0},null,{"$f":"LOOKUP(T48,Poängberäkning!$B$6:$B$97,Poängberäkning!$C$6:$C$97)","v":0},null,{"$f":"LOOKUP(V48,Poängberäkning!$B$6:$B$97,Poängberäkning!$C$6:$C$97)","v":0},null,{"$f":"LOOKUP(X48,Poängberäkning!$B$6:$B$97,Poängberäkning!$C$6:$C$97)","v":0},null,{"$f":"LOOKUP(Z48,Poängberäkning!$B$6:$B$97,Poängberäkning!$C$6:$C$97)","v":0},null,{"$f":"LOOKUP(AB48,Poängberäkning!$B$6:$B$97,Poängberäkning!$C$6:$C$97)","v":0},null,{"$f":"LOOKUP(AD48,Poängberäkning!$B$6:$B$97,Poängberäkning!$C$6:$C$97)","v":0},null,{"$f":"LOOKUP(AF48,Poängberäkning!$B$6:$B$97,Poängberäkning!$C$6:$C$97)","v":0},null,{"$f":"LOOKUP(AH48,Poängberäkning!$B$6:$B$97,Poängberäkning!$C$6:$C$97)","v":0},null,{"$f":"LOOKUP(AJ48,Poängberäkning!$B$6:$B$97,Poängberäkning!$C$6:$C$97)","v":0},null,{"$f":"LOOKUP(AL48,Poängberäkning!$B$6:$B$97,Poängberäkning!$C$6:$C$97)","v":0},null,{"$f":"LOOKUP(AN48,Poängberäkning!$B$6:$B$97,Poängberäkning!$C$6:$C$97)","v":0},null,{"$f":"LOOKUP(AP48,Poängberäkning!$B$6:$B$97,Poängberäkning!$C$6:$C$97)","v":0},null,{"$f":"LOOKUP(AR48,Poängberäkning!$B$6:$B$97,Poängberäkning!$C$6:$C$97)","v":0},null,{"$f":"LOOKUP(AT48,Poängberäkning!$B$6:$B$97,Poängberäkning!$C$6:$C$97)","v":0},null,null,null,null,null,null,null,null,{"$f":"LARGE(($I48,$K48,$M48,$O48,$Q48,$S48,$U48,$W48,$Y48,$AA48,$AC48,$AE48,$AG48,$AI48,$AK48,$AM48,$AO48,$AQ48,$AS48,$AU48,$AW48,$AY48,$BA48,$BC48),1)","v":0},{"$f":"LARGE(($I48,$K48,$M48,$O48,$Q48,$S48,$U48,$W48,$Y48,$AA48,$AC48,$AE48,$AG48,$AI48,$AK48,$AM48,$AO48,$AQ48,$AS48,$AU48,$AW48,$AY48,$BA48,$BC48),2)","v":0},{"$f":"LARGE(($I48,$K48,$M48,$O48,$Q48,$S48,$U48,$W48,$Y48,$AA48,$AC48,$AE48,$AG48,$AI48,$AK48,$AM48,$AO48,$AQ48,$AS48,$AU48,$AW48,$AY48,$BA48,$BC48),3)","v":0},{"$f":"LARGE(($I48,$K48,$M48,$O48,$Q48,$S48,$U48,$W48,$Y48,$AA48,$AC48,$AE48,$AG48,$AI48,$AK48,$AM48,$AO48,$AQ48,$AS48,$AU48,$AW48,$AY48,$BA48,$BC48),4)","v":0},{"$f":"LARGE(($I48,$K48,$M48,$O48,$Q48,$S48,$U48,$W48,$Y48,$AA48,$AC48,$AE48,$AG48,$AI48,$AK48,$AM48,$AO48,$AQ48,$AS48,$AU48,$AW48,$AY48,$BA48,$BC48),5)","v":0},{"$f":"LARGE(($I48,$K48,$M48,$O48,$Q48,$S48,$U48,$W48,$Y48,$AA48,$AC48,$AE48,$AG48,$AI48,$AK48,$AM48,$AO48,$AQ48,$AS48,$AU48,$AW48,$AY48,$BA48,$BC48),6)","v":0},{"$f":"LARGE(($I48,$K48,$M48,$O48,$Q48,$S48,$U48,$W48,$Y48,$AA48,$AC48,$AE48,$AG48,$AI48,$AK48,$AM48,$AO48,$AQ48,$AS48,$AU48,$AW48,$AY48,$BA48,$BC48),7)","v":0},{"$f":"LARGE(($I48,$K48,$M48,$O48,$Q48,$S48,$U48,$W48,$Y48,$AA48,$AC48,$AE48,$AG48,$AI48,$AK48,$AM48,$AO48,$AQ48,$AS48,$AU48,$AW48,$AY48,$BA48,$BC48),8)","v":0},{"$f":"LARGE(($I48,$K48,$M48,$O48,$Q48,$S48,$U48,$W48,$Y48,$AA48,$AC48,$AE48,$AG48,$AI48,$AK48,$AM48,$AO48,$AQ48,$AS48,$AU48,$AW48,$AY48,$BA48,$BC48),9)","v":0},{"$f":"LARGE(($I48,$K48,$M48,$O48,$Q48,$S48,$U48,$W48,$Y48,$AA48,$AC48,$AE48,$AG48,$AI48,$AK48,$AM48,$AO48,$AQ48,$AS48,$AU48,$AW48,$AY48,$BA48,$BC48),10)","v":0}]
[45,null,null,null,0,0,0,null,{"$f":"LOOKUP(H49,Poängberäkning!$B$6:$B$97,Poängberäkning!$C$6:$C$97)","v":0},null,{"$f":"LOOKUP(J49,Poängberäkning!$B$6:$B$97,Poängberäkning!$C$6:$C$97)","v":0},null,{"$f":"LOOKUP(L49,Poängberäkning!$B$6:$B$97,Poängberäkning!$C$6:$C$97)","v":0},null,{"$f":"LOOKUP(N49,Poängberäkning!$B$6:$B$97,Poängberäkning!$C$6:$C$97)","v":0},null,{"$f":"LOOKUP(P49,Poängberäkning!$B$6:$B$97,Poängberäkning!$C$6:$C$97)","v":0},null,{"$f":"LOOKUP(R49,Poängberäkning!$B$6:$B$97,Poängberäkning!$C$6:$C$97)","v":0},null,{"$f":"LOOKUP(T49,Poängberäkning!$B$6:$B$97,Poängberäkning!$C$6:$C$97)","v":0},null,{"$f":"LOOKUP(V49,Poängberäkning!$B$6:$B$97,Poängberäkning!$C$6:$C$97)","v":0},null,{"$f":"LOOKUP(X49,Poängberäkning!$B$6:$B$97,Poängberäkning!$C$6:$C$97)","v":0},null,{"$f":"LOOKUP(Z49,Poängberäkning!$B$6:$B$97,Poängberäkning!$C$6:$C$97)","v":0},null,{"$f":"LOOKUP(AB49,Poängberäkning!$B$6:$B$97,Poängberäkning!$C$6:$C$97)","v":0},null,{"$f":"LOOKUP(AD49,Poängberäkning!$B$6:$B$97,Poängberäkning!$C$6:$C$97)","v":0},null,{"$f":"LOOKUP(AF49,Poängberäkning!$B$6:$B$97,Poängberäkning!$C$6:$C$97)","v":0},null,{"$f":"LOOKUP(AH49,Poängberäkning!$B$6:$B$97,Poängberäkning!$C$6:$C$97)","v":0},null,{"$f":"LOOKUP(AJ49,Poängberäkning!$B$6:$B$97,Poängberäkning!$C$6:$C$97)","v":0},null,{"$f":"LOOKUP(AL49,Poängberäkning!$B$6:$B$97,Poängberäkning!$C$6:$C$97)","v":0},null,{"$f":"LOOKUP(AN49,Poängberäkning!$B$6:$B$97,Poängberäkning!$C$6:$C$97)","v":0},null,{"$f":"LOOKUP(AP49,Poängberäkning!$B$6:$B$97,Poängberäkning!$C$6:$C$97)","v":0},null,{"$f":"LOOKUP(AR49,Poängberäkning!$B$6:$B$97,Poängberäkning!$C$6:$C$97)","v":0},null,{"$f":"LOOKUP(AT49,Poängberäkning!$B$6:$B$97,Poängberäkning!$C$6:$C$97)","v":0},null,null,null,null,null,null,null,null,{"$f":"LARGE(($I49,$K49,$M49,$O49,$Q49,$S49,$U49,$W49,$Y49,$AA49,$AC49,$AE49,$AG49,$AI49,$AK49,$AM49,$AO49,$AQ49,$AS49,$AU49,$AW49,$AY49,$BA49,$BC49),1)","v":0},{"$f":"LARGE(($I49,$K49,$M49,$O49,$Q49,$S49,$U49,$W49,$Y49,$AA49,$AC49,$AE49,$AG49,$AI49,$AK49,$AM49,$AO49,$AQ49,$AS49,$AU49,$AW49,$AY49,$BA49,$BC49),2)","v":0},{"$f":"LARGE(($I49,$K49,$M49,$O49,$Q49,$S49,$U49,$W49,$Y49,$AA49,$AC49,$AE49,$AG49,$AI49,$AK49,$AM49,$AO49,$AQ49,$AS49,$AU49,$AW49,$AY49,$BA49,$BC49),3)","v":0},{"$f":"LARGE(($I49,$K49,$M49,$O49,$Q49,$S49,$U49,$W49,$Y49,$AA49,$AC49,$AE49,$AG49,$AI49,$AK49,$AM49,$AO49,$AQ49,$AS49,$AU49,$AW49,$AY49,$BA49,$BC49),4)","v":0},{"$f":"LARGE(($I49,$K49,$M49,$O49,$Q49,$S49,$U49,$W49,$Y49,$AA49,$AC49,$AE49,$AG49,$AI49,$AK49,$AM49,$AO49,$AQ49,$AS49,$AU49,$AW49,$AY49,$BA49,$BC49),5)","v":0},{"$f":"LARGE(($I49,$K49,$M49,$O49,$Q49,$S49,$U49,$W49,$Y49,$AA49,$AC49,$AE49,$AG49,$AI49,$AK49,$AM49,$AO49,$AQ49,$AS49,$AU49,$AW49,$AY49,$BA49,$BC49),6)","v":0},{"$f":"LARGE(($I49,$K49,$M49,$O49,$Q49,$S49,$U49,$W49,$Y49,$AA49,$AC49,$AE49,$AG49,$AI49,$AK49,$AM49,$AO49,$AQ49,$AS49,$AU49,$AW49,$AY49,$BA49,$BC49),7)","v":0},{"$f":"LARGE(($I49,$K49,$M49,$O49,$Q49,$S49,$U49,$W49,$Y49,$AA49,$AC49,$AE49,$AG49,$AI49,$AK49,$AM49,$AO49,$AQ49,$AS49,$AU49,$AW49,$AY49,$BA49,$BC49),8)","v":0},{"$f":"LARGE(($I49,$K49,$M49,$O49,$Q49,$S49,$U49,$W49,$Y49,$AA49,$AC49,$AE49,$AG49,$AI49,$AK49,$AM49,$AO49,$AQ49,$AS49,$AU49,$AW49,$AY49,$BA49,$BC49),9)","v":0},{"$f":"LARGE(($I49,$K49,$M49,$O49,$Q49,$S49,$U49,$W49,$Y49,$AA49,$AC49,$AE49,$AG49,$AI49,$AK49,$AM49,$AO49,$AQ49,$AS49,$AU49,$AW49,$AY49,$BA49,$BC49),10)","v":0}]
[46,null,null,null,0,0,0,null,{"$f":"LOOKUP(H50,Poängberäkning!$B$6:$B$97,Poängberäkning!$C$6:$C$97)","v":0},null,{"$f":"LOOKUP(J50,Poängberäkning!$B$6:$B$97,Poängberäkning!$C$6:$C$97)","v":0},null,{"$f":"LOOKUP(L50,Poängberäkning!$B$6:$B$97,Poängberäkning!$C$6:$C$97)","v":0},null,{"$f":"LOOKUP(N50,Poängberäkning!$B$6:$B$97,Poängberäkning!$C$6:$C$97)","v":0},null,{"$f":"LOOKUP(P50,Poängberäkning!$B$6:$B$97,Poängberäkning!$C$6:$C$97)","v":0},null,{"$f":"LOOKUP(R50,Poängberäkning!$B$6:$B$97,Poängberäkning!$C$6:$C$97)","v":0},null,{"$f":"LOOKUP(T50,Poängberäkning!$B$6:$B$97,Poängberäkning!$C$6:$C$97)","v":0},null,{"$f":"LOOKUP(V50,Poängberäkning!$B$6:$B$97,Poängberäkning!$C$6:$C$97)","v":0},null,{"$f":"LOOKUP(X50,Poängberäkning!$B$6:$B$97,Poängberäkning!$C$6:$C$97)","v":0},null,{"$f":"LOOKUP(Z50,Poängberäkning!$B$6:$B$97,Poängberäkning!$C$6:$C$97)","v":0},null,{"$f":"LOOKUP(AB50,Poängberäkning!$B$6:$B$97,Poängberäkning!$C$6:$C$97)","v":0},null,{"$f":"LOOKUP(AD50,Poängberäkning!$B$6:$B$97,Poängberäkning!$C$6:$C$97)","v":0},null,{"$f":"LOOKUP(AF50,Poängberäkning!$B$6:$B$97,Poängberäkning!$C$6:$C$97)","v":0},null,{"$f":"LOOKUP(AH50,Poängberäkning!$B$6:$B$97,Poängberäkning!$C$6:$C$97)","v":0},null,{"$f":"LOOKUP(AJ50,Poängberäkning!$B$6:$B$97,Poängberäkning!$C$6:$C$97)","v":0},null,{"$f":"LOOKUP(AL50,Poängberäkning!$B$6:$B$97,Poängberäkning!$C$6:$C$97)","v":0},null,{"$f":"LOOKUP(AN50,Poängberäkning!$B$6:$B$97,Poängberäkning!$C$6:$C$97)","v":0},null,{"$f":"LOOKUP(AP50,Poängberäkning!$B$6:$B$97,Poängberäkning!$C$6:$C$97)","v":0},null,{"$f":"LOOKUP(AR50,Poängberäkning!$B$6:$B$97,Poängberäkning!$C$6:$C$97)","v":0},null,{"$f":"LOOKUP(AT50,Poängberäkning!$B$6:$B$97,Poängberäkning!$C$6:$C$97)","v":0},null,null,null,null,null,null,null,null,{"$f":"LARGE(($I50,$K50,$M50,$O50,$Q50,$S50,$U50,$W50,$Y50,$AA50,$AC50,$AE50,$AG50,$AI50,$AK50,$AM50,$AO50,$AQ50,$AS50,$AU50,$AW50,$AY50,$BA50,$BC50),1)","v":0},{"$f":"LARGE(($I50,$K50,$M50,$O50,$Q50,$S50,$U50,$W50,$Y50,$AA50,$AC50,$AE50,$AG50,$AI50,$AK50,$AM50,$AO50,$AQ50,$AS50,$AU50,$AW50,$AY50,$BA50,$BC50),2)","v":0},{"$f":"LARGE(($I50,$K50,$M50,$O50,$Q50,$S50,$U50,$W50,$Y50,$AA50,$AC50,$AE50,$AG50,$AI50,$AK50,$AM50,$AO50,$AQ50,$AS50,$AU50,$AW50,$AY50,$BA50,$BC50),3)","v":0},{"$f":"LARGE(($I50,$K50,$M50,$O50,$Q50,$S50,$U50,$W50,$Y50,$AA50,$AC50,$AE50,$AG50,$AI50,$AK50,$AM50,$AO50,$AQ50,$AS50,$AU50,$AW50,$AY50,$BA50,$BC50),4)","v":0},{"$f":"LARGE(($I50,$K50,$M50,$O50,$Q50,$S50,$U50,$W50,$Y50,$AA50,$AC50,$AE50,$AG50,$AI50,$AK50,$AM50,$AO50,$AQ50,$AS50,$AU50,$AW50,$AY50,$BA50,$BC50),5)","v":0},{"$f":"LARGE(($I50,$K50,$M50,$O50,$Q50,$S50,$U50,$W50,$Y50,$AA50,$AC50,$AE50,$AG50,$AI50,$AK50,$AM50,$AO50,$AQ50,$AS50,$AU50,$AW50,$AY50,$BA50,$BC50),6)","v":0},{"$f":"LARGE(($I50,$K50,$M50,$O50,$Q50,$S50,$U50,$W50,$Y50,$AA50,$AC50,$AE50,$AG50,$AI50,$AK50,$AM50,$AO50,$AQ50,$AS50,$AU50,$AW50,$AY50,$BA50,$BC50),7)","v":0},{"$f":"LARGE(($I50,$K50,$M50,$O50,$Q50,$S50,$U50,$W50,$Y50,$AA50,$AC50,$AE50,$AG50,$AI50,$AK50,$AM50,$AO50,$AQ50,$AS50,$AU50,$AW50,$AY50,$BA50,$BC50),8)","v":0},{"$f":"LARGE(($I50,$K50,$M50,$O50,$Q50,$S50,$U50,$W50,$Y50,$AA50,$AC50,$AE50,$AG50,$AI50,$AK50,$AM50,$AO50,$AQ50,$AS50,$AU50,$AW50,$AY50,$BA50,$BC50),9)","v":0},{"$f":"LARGE(($I50,$K50,$M50,$O50,$Q50,$S50,$U50,$W50,$Y50,$AA50,$AC50,$AE50,$AG50,$AI50,$AK50,$AM50,$AO50,$AQ50,$AS50,$AU50,$AW50,$AY50,$BA50,$BC50),10)","v":0}]
[47,null,null,null,0,0,0,null,{"$f":"LOOKUP(H51,Poängberäkning!$B$6:$B$97,Poängberäkning!$C$6:$C$97)","v":0},null,{"$f":"LOOKUP(J51,Poängberäkning!$B$6:$B$97,Poängberäkning!$C$6:$C$97)","v":0},null,{"$f":"LOOKUP(L51,Poängberäkning!$B$6:$B$97,Poängberäkning!$C$6:$C$97)","v":0},null,{"$f":"LOOKUP(N51,Poängberäkning!$B$6:$B$97,Poängberäkning!$C$6:$C$97)","v":0},null,{"$f":"LOOKUP(P51,Poängberäkning!$B$6:$B$97,Poängberäkning!$C$6:$C$97)","v":0},null,{"$f":"LOOKUP(R51,Poängberäkning!$B$6:$B$97,Poängberäkning!$C$6:$C$97)","v":0},null,{"$f":"LOOKUP(T51,Poängberäkning!$B$6:$B$97,Poängberäkning!$C$6:$C$97)","v":0},null,{"$f":"LOOKUP(V51,Poängberäkning!$B$6:$B$97,Poängberäkning!$C$6:$C$97)","v":0},null,{"$f":"LOOKUP(X51,Poängberäkning!$B$6:$B$97,Poängberäkning!$C$6:$C$97)","v":0},null,{"$f":"LOOKUP(Z51,Poängberäkning!$B$6:$B$97,Poängberäkning!$C$6:$C$97)","v":0},null,{"$f":"LOOKUP(AB51,Poängberäkning!$B$6:$B$97,Poängberäkning!$C$6:$C$97)","v":0},null,{"$f":"LOOKUP(AD51,Poängberäkning!$B$6:$B$97,Poängberäkning!$C$6:$C$97)","v":0},null,{"$f":"LOOKUP(AF51,Poängberäkning!$B$6:$B$97,Poängberäkning!$C$6:$C$97)","v":0},null,{"$f":"LOOKUP(AH51,Poängberäkning!$B$6:$B$97,Poängberäkning!$C$6:$C$97)","v":0},null,{"$f":"LOOKUP(AJ51,Poängberäkning!$B$6:$B$97,Poängberäkning!$C$6:$C$97)","v":0},null,{"$f":"LOOKUP(AL51,Poängberäkning!$B$6:$B$97,Poängberäkning!$C$6:$C$97)","v":0},null,{"$f":"LOOKUP(AN51,Poängberäkning!$B$6:$B$97,Poängberäkning!$C$6:$C$97)","v":0},null,{"$f":"LOOKUP(AP51,Poängberäkning!$B$6:$B$97,Poängberäkning!$C$6:$C$97)","v":0},null,{"$f":"LOOKUP(AR51,Poängberäkning!$B$6:$B$97,Poängberäkning!$C$6:$C$97)","v":0},null,{"$f":"LOOKUP(AT51,Poängberäkning!$B$6:$B$97,Poängberäkning!$C$6:$C$97)","v":0},null,null,null,null,null,null,null,null,{"$f":"LARGE(($I51,$K51,$M51,$O51,$Q51,$S51,$U51,$W51,$Y51,$AA51,$AC51,$AE51,$AG51,$AI51,$AK51,$AM51,$AO51,$AQ51,$AS51,$AU51,$AW51,$AY51,$BA51,$BC51),1)","v":0},{"$f":"LARGE(($I51,$K51,$M51,$O51,$Q51,$S51,$U51,$W51,$Y51,$AA51,$AC51,$AE51,$AG51,$AI51,$AK51,$AM51,$AO51,$AQ51,$AS51,$AU51,$AW51,$AY51,$BA51,$BC51),2)","v":0},{"$f":"LARGE(($I51,$K51,$M51,$O51,$Q51,$S51,$U51,$W51,$Y51,$AA51,$AC51,$AE51,$AG51,$AI51,$AK51,$AM51,$AO51,$AQ51,$AS51,$AU51,$AW51,$AY51,$BA51,$BC51),3)","v":0},{"$f":"LARGE(($I51,$K51,$M51,$O51,$Q51,$S51,$U51,$W51,$Y51,$AA51,$AC51,$AE51,$AG51,$AI51,$AK51,$AM51,$AO51,$AQ51,$AS51,$AU51,$AW51,$AY51,$BA51,$BC51),4)","v":0},{"$f":"LARGE(($I51,$K51,$M51,$O51,$Q51,$S51,$U51,$W51,$Y51,$AA51,$AC51,$AE51,$AG51,$AI51,$AK51,$AM51,$AO51,$AQ51,$AS51,$AU51,$AW51,$AY51,$BA51,$BC51),5)","v":0},{"$f":"LARGE(($I51,$K51,$M51,$O51,$Q51,$S51,$U51,$W51,$Y51,$AA51,$AC51,$AE51,$AG51,$AI51,$AK51,$AM51,$AO51,$AQ51,$AS51,$AU51,$AW51,$AY51,$BA51,$BC51),6)","v":0},{"$f":"LARGE(($I51,$K51,$M51,$O51,$Q51,$S51,$U51,$W51,$Y51,$AA51,$AC51,$AE51,$AG51,$AI51,$AK51,$AM51,$AO51,$AQ51,$AS51,$AU51,$AW51,$AY51,$BA51,$BC51),7)","v":0},{"$f":"LARGE(($I51,$K51,$M51,$O51,$Q51,$S51,$U51,$W51,$Y51,$AA51,$AC51,$AE51,$AG51,$AI51,$AK51,$AM51,$AO51,$AQ51,$AS51,$AU51,$AW51,$AY51,$BA51,$BC51),8)","v":0},{"$f":"LARGE(($I51,$K51,$M51,$O51,$Q51,$S51,$U51,$W51,$Y51,$AA51,$AC51,$AE51,$AG51,$AI51,$AK51,$AM51,$AO51,$AQ51,$AS51,$AU51,$AW51,$AY51,$BA51,$BC51),9)","v":0},{"$f":"LARGE(($I51,$K51,$M51,$O51,$Q51,$S51,$U51,$W51,$Y51,$AA51,$AC51,$AE51,$AG51,$AI51,$AK51,$AM51,$AO51,$AQ51,$AS51,$AU51,$AW51,$AY51,$BA51,$BC51),10)","v":0}]
[48,null,null,null,0,0,0,null,{"$f":"LOOKUP(H52,Poängberäkning!$B$6:$B$97,Poängberäkning!$C$6:$C$97)","v":0},null,{"$f":"LOOKUP(J52,Poängberäkning!$B$6:$B$97,Poängberäkning!$C$6:$C$97)","v":0},null,{"$f":"LOOKUP(L52,Poängberäkning!$B$6:$B$97,Poängberäkning!$C$6:$C$97)","v":0},null,{"$f":"LOOKUP(N52,Poängberäkning!$B$6:$B$97,Poängberäkning!$C$6:$C$97)","v":0},null,{"$f":"LOOKUP(P52,Poängberäkning!$B$6:$B$97,Poängberäkning!$C$6:$C$97)","v":0},null,{"$f":"LOOKUP(R52,Poängberäkning!$B$6:$B$97,Poängberäkning!$C$6:$C$97)","v":0},null,{"$f":"LOOKUP(T52,Poängberäkning!$B$6:$B$97,Poängberäkning!$C$6:$C$97)","v":0},null,{"$f":"LOOKUP(V52,Poängberäkning!$B$6:$B$97,Poängberäkning!$C$6:$C$97)","v":0},null,{"$f":"LOOKUP(X52,Poängberäkning!$B$6:$B$97,Poängberäkning!$C$6:$C$97)","v":0},null,{"$f":"LOOKUP(Z52,Poängberäkning!$B$6:$B$97,Poängberäkning!$C$6:$C$97)","v":0},null,{"$f":"LOOKUP(AB52,Poängberäkning!$B$6:$B$97,Poängberäkning!$C$6:$C$97)","v":0},null,{"$f":"LOOKUP(AD52,Poängberäkning!$B$6:$B$97,Poängberäkning!$C$6:$C$97)","v":0},null,{"$f":"LOOKUP(AF52,Poängberäkning!$B$6:$B$97,Poängberäkning!$C$6:$C$97)","v":0},null,{"$f":"LOOKUP(AH52,Poängberäkning!$B$6:$B$97,Poängberäkning!$C$6:$C$97)","v":0},null,{"$f":"LOOKUP(AJ52,Poängberäkning!$B$6:$B$97,Poängberäkning!$C$6:$C$97)","v":0},null,{"$f":"LOOKUP(AL52,Poängberäkning!$B$6:$B$97,Poängberäkning!$C$6:$C$97)","v":0},null,{"$f":"LOOKUP(AN52,Poängberäkning!$B$6:$B$97,Poängberäkning!$C$6:$C$97)","v":0},null,{"$f":"LOOKUP(AP52,Poängberäkning!$B$6:$B$97,Poängberäkning!$C$6:$C$97)","v":0},null,{"$f":"LOOKUP(AR52,Poängberäkning!$B$6:$B$97,Poängberäkning!$C$6:$C$97)","v":0},null,{"$f":"LOOKUP(AT52,Poängberäkning!$B$6:$B$97,Poängberäkning!$C$6:$C$97)","v":0},null,null,null,null,null,null,null,null,{"$f":"LARGE(($I52,$K52,$M52,$O52,$Q52,$S52,$U52,$W52,$Y52,$AA52,$AC52,$AE52,$AG52,$AI52,$AK52,$AM52,$AO52,$AQ52,$AS52,$AU52,$AW52,$AY52,$BA52,$BC52),1)","v":0},{"$f":"LARGE(($I52,$K52,$M52,$O52,$Q52,$S52,$U52,$W52,$Y52,$AA52,$AC52,$AE52,$AG52,$AI52,$AK52,$AM52,$AO52,$AQ52,$AS52,$AU52,$AW52,$AY52,$BA52,$BC52),2)","v":0},{"$f":"LARGE(($I52,$K52,$M52,$O52,$Q52,$S52,$U52,$W52,$Y52,$AA52,$AC52,$AE52,$AG52,$AI52,$AK52,$AM52,$AO52,$AQ52,$AS52,$AU52,$AW52,$AY52,$BA52,$BC52),3)","v":0},{"$f":"LARGE(($I52,$K52,$M52,$O52,$Q52,$S52,$U52,$W52,$Y52,$AA52,$AC52,$AE52,$AG52,$AI52,$AK52,$AM52,$AO52,$AQ52,$AS52,$AU52,$AW52,$AY52,$BA52,$BC52),4)","v":0},{"$f":"LARGE(($I52,$K52,$M52,$O52,$Q52,$S52,$U52,$W52,$Y52,$AA52,$AC52,$AE52,$AG52,$AI52,$AK52,$AM52,$AO52,$AQ52,$AS52,$AU52,$AW52,$AY52,$BA52,$BC52),5)","v":0},{"$f":"LARGE(($I52,$K52,$M52,$O52,$Q52,$S52,$U52,$W52,$Y52,$AA52,$AC52,$AE52,$AG52,$AI52,$AK52,$AM52,$AO52,$AQ52,$AS52,$AU52,$AW52,$AY52,$BA52,$BC52),6)","v":0},{"$f":"LARGE(($I52,$K52,$M52,$O52,$Q52,$S52,$U52,$W52,$Y52,$AA52,$AC52,$AE52,$AG52,$AI52,$AK52,$AM52,$AO52,$AQ52,$AS52,$AU52,$AW52,$AY52,$BA52,$BC52),7)","v":0},{"$f":"LARGE(($I52,$K52,$M52,$O52,$Q52,$S52,$U52,$W52,$Y52,$AA52,$AC52,$AE52,$AG52,$AI52,$AK52,$AM52,$AO52,$AQ52,$AS52,$AU52,$AW52,$AY52,$BA52,$BC52),8)","v":0},{"$f":"LARGE(($I52,$K52,$M52,$O52,$Q52,$S52,$U52,$W52,$Y52,$AA52,$AC52,$AE52,$AG52,$AI52,$AK52,$AM52,$AO52,$AQ52,$AS52,$AU52,$AW52,$AY52,$BA52,$BC52),9)","v":0},{"$f":"LARGE(($I52,$K52,$M52,$O52,$Q52,$S52,$U52,$W52,$Y52,$AA52,$AC52,$AE52,$AG52,$AI52,$AK52,$AM52,$AO52,$AQ52,$AS52,$AU52,$AW52,$AY52,$BA52,$BC52),10)","v":0}]
[49,null,null,null,0,0,0,null,{"$f":"LOOKUP(H53,Poängberäkning!$B$6:$B$97,Poängberäkning!$C$6:$C$97)","v":0},null,{"$f":"LOOKUP(J53,Poängberäkning!$B$6:$B$97,Poängberäkning!$C$6:$C$97)","v":0},null,{"$f":"LOOKUP(L53,Poängberäkning!$B$6:$B$97,Poängberäkning!$C$6:$C$97)","v":0},null,{"$f":"LOOKUP(N53,Poängberäkning!$B$6:$B$97,Poängberäkning!$C$6:$C$97)","v":0},null,{"$f":"LOOKUP(P53,Poängberäkning!$B$6:$B$97,Poängberäkning!$C$6:$C$97)","v":0},null,{"$f":"LOOKUP(R53,Poängberäkning!$B$6:$B$97,Poängberäkning!$C$6:$C$97)","v":0},null,{"$f":"LOOKUP(T53,Poängberäkning!$B$6:$B$97,Poängberäkning!$C$6:$C$97)","v":0},null,{"$f":"LOOKUP(V53,Poängberäkning!$B$6:$B$97,Poängberäkning!$C$6:$C$97)","v":0},null,{"$f":"LOOKUP(X53,Poängberäkning!$B$6:$B$97,Poängberäkning!$C$6:$C$97)","v":0},null,{"$f":"LOOKUP(Z53,Poängberäkning!$B$6:$B$97,Poängberäkning!$C$6:$C$97)","v":0},null,{"$f":"LOOKUP(AB53,Poängberäkning!$B$6:$B$97,Poängberäkning!$C$6:$C$97)","v":0},null,{"$f":"LOOKUP(AD53,Poängberäkning!$B$6:$B$97,Poängberäkning!$C$6:$C$97)","v":0},null,{"$f":"LOOKUP(AF53,Poängberäkning!$B$6:$B$97,Poängberäkning!$C$6:$C$97)","v":0},null,{"$f":"LOOKUP(AH53,Poängberäkning!$B$6:$B$97,Poängberäkning!$C$6:$C$97)","v":0},null,{"$f":"LOOKUP(AJ53,Poängberäkning!$B$6:$B$97,Poängberäkning!$C$6:$C$97)","v":0},null,{"$f":"LOOKUP(AL53,Poängberäkning!$B$6:$B$97,Poängberäkning!$C$6:$C$97)","v":0},null,{"$f":"LOOKUP(AN53,Poängberäkning!$B$6:$B$97,Poängberäkning!$C$6:$C$97)","v":0},null,{"$f":"LOOKUP(AP53,Poängberäkning!$B$6:$B$97,Poängberäkning!$C$6:$C$97)","v":0},null,{"$f":"LOOKUP(AR53,Poängberäkning!$B$6:$B$97,Poängberäkning!$C$6:$C$97)","v":0},null,{"$f":"LOOKUP(AT53,Poängberäkning!$B$6:$B$97,Poängberäkning!$C$6:$C$97)","v":0},null,null,null,null,null,null,null,null,{"$f":"LARGE(($I53,$K53,$M53,$O53,$Q53,$S53,$U53,$W53,$Y53,$AA53,$AC53,$AE53,$AG53,$AI53,$AK53,$AM53,$AO53,$AQ53,$AS53,$AU53,$AW53,$AY53,$BA53,$BC53),1)","v":0},{"$f":"LARGE(($I53,$K53,$M53,$O53,$Q53,$S53,$U53,$W53,$Y53,$AA53,$AC53,$AE53,$AG53,$AI53,$AK53,$AM53,$AO53,$AQ53,$AS53,$AU53,$AW53,$AY53,$BA53,$BC53),2)","v":0},{"$f":"LARGE(($I53,$K53,$M53,$O53,$Q53,$S53,$U53,$W53,$Y53,$AA53,$AC53,$AE53,$AG53,$AI53,$AK53,$AM53,$AO53,$AQ53,$AS53,$AU53,$AW53,$AY53,$BA53,$BC53),3)","v":0},{"$f":"LARGE(($I53,$K53,$M53,$O53,$Q53,$S53,$U53,$W53,$Y53,$AA53,$AC53,$AE53,$AG53,$AI53,$AK53,$AM53,$AO53,$AQ53,$AS53,$AU53,$AW53,$AY53,$BA53,$BC53),4)","v":0},{"$f":"LARGE(($I53,$K53,$M53,$O53,$Q53,$S53,$U53,$W53,$Y53,$AA53,$AC53,$AE53,$AG53,$AI53,$AK53,$AM53,$AO53,$AQ53,$AS53,$AU53,$AW53,$AY53,$BA53,$BC53),5)","v":0},{"$f":"LARGE(($I53,$K53,$M53,$O53,$Q53,$S53,$U53,$W53,$Y53,$AA53,$AC53,$AE53,$AG53,$AI53,$AK53,$AM53,$AO53,$AQ53,$AS53,$AU53,$AW53,$AY53,$BA53,$BC53),6)","v":0},{"$f":"LARGE(($I53,$K53,$M53,$O53,$Q53,$S53,$U53,$W53,$Y53,$AA53,$AC53,$AE53,$AG53,$AI53,$AK53,$AM53,$AO53,$AQ53,$AS53,$AU53,$AW53,$AY53,$BA53,$BC53),7)","v":0},{"$f":"LARGE(($I53,$K53,$M53,$O53,$Q53,$S53,$U53,$W53,$Y53,$AA53,$AC53,$AE53,$AG53,$AI53,$AK53,$AM53,$AO53,$AQ53,$AS53,$AU53,$AW53,$AY53,$BA53,$BC53),8)","v":0},{"$f":"LARGE(($I53,$K53,$M53,$O53,$Q53,$S53,$U53,$W53,$Y53,$AA53,$AC53,$AE53,$AG53,$AI53,$AK53,$AM53,$AO53,$AQ53,$AS53,$AU53,$AW53,$AY53,$BA53,$BC53),9)","v":0},{"$f":"LARGE(($I53,$K53,$M53,$O53,$Q53,$S53,$U53,$W53,$Y53,$AA53,$AC53,$AE53,$AG53,$AI53,$AK53,$AM53,$AO53,$AQ53,$AS53,$AU53,$AW53,$AY53,$BA53,$BC53),10)","v":0}]
[50,null,null,null,0,0,0,null,{"$f":"LOOKUP(H54,Poängberäkning!$B$6:$B$97,Poängberäkning!$C$6:$C$97)","v":0},null,{"$f":"LOOKUP(J54,Poängberäkning!$B$6:$B$97,Poängberäkning!$C$6:$C$97)","v":0},null,{"$f":"LOOKUP(L54,Poängberäkning!$B$6:$B$97,Poängberäkning!$C$6:$C$97)","v":0},null,{"$f":"LOOKUP(N54,Poängberäkning!$B$6:$B$97,Poängberäkning!$C$6:$C$97)","v":0},null,{"$f":"LOOKUP(P54,Poängberäkning!$B$6:$B$97,Poängberäkning!$C$6:$C$97)","v":0},null,{"$f":"LOOKUP(R54,Poängberäkning!$B$6:$B$97,Poängberäkning!$C$6:$C$97)","v":0},null,{"$f":"LOOKUP(T54,Poängberäkning!$B$6:$B$97,Poängberäkning!$C$6:$C$97)","v":0},null,{"$f":"LOOKUP(V54,Poängberäkning!$B$6:$B$97,Poängberäkning!$C$6:$C$97)","v":0},null,{"$f":"LOOKUP(X54,Poängberäkning!$B$6:$B$97,Poängberäkning!$C$6:$C$97)","v":0},null,{"$f":"LOOKUP(Z54,Poängberäkning!$B$6:$B$97,Poängberäkning!$C$6:$C$97)","v":0},null,{"$f":"LOOKUP(AB54,Poängberäkning!$B$6:$B$97,Poängberäkning!$C$6:$C$97)","v":0},null,{"$f":"LOOKUP(AD54,Poängberäkning!$B$6:$B$97,Poängberäkning!$C$6:$C$97)","v":0},null,{"$f":"LOOKUP(AF54,Poängberäkning!$B$6:$B$97,Poängberäkning!$C$6:$C$97)","v":0},null,{"$f":"LOOKUP(AH54,Poängberäkning!$B$6:$B$97,Poängberäkning!$C$6:$C$97)","v":0},null,{"$f":"LOOKUP(AJ54,Poängberäkning!$B$6:$B$97,Poängberäkning!$C$6:$C$97)","v":0},null,{"$f":"LOOKUP(AL54,Poängberäkning!$B$6:$B$97,Poängberäkning!$C$6:$C$97)","v":0},null,{"$f":"LOOKUP(AN54,Poängberäkning!$B$6:$B$97,Poängberäkning!$C$6:$C$97)","v":0},null,{"$f":"LOOKUP(AP54,Poängberäkning!$B$6:$B$97,Poängberäkning!$C$6:$C$97)","v":0},null,{"$f":"LOOKUP(AR54,Poängberäkning!$B$6:$B$97,Poängberäkning!$C$6:$C$97)","v":0},null,{"$f":"LOOKUP(AT54,Poängberäkning!$B$6:$B$97,Poängberäkning!$C$6:$C$97)","v":0},null,null,null,null,null,null,null,null,{"$f":"LARGE(($I54,$K54,$M54,$O54,$Q54,$S54,$U54,$W54,$Y54,$AA54,$AC54,$AE54,$AG54,$AI54,$AK54,$AM54,$AO54,$AQ54,$AS54,$AU54,$AW54,$AY54,$BA54,$BC54),1)","v":0},{"$f":"LARGE(($I54,$K54,$M54,$O54,$Q54,$S54,$U54,$W54,$Y54,$AA54,$AC54,$AE54,$AG54,$AI54,$AK54,$AM54,$AO54,$AQ54,$AS54,$AU54,$AW54,$AY54,$BA54,$BC54),2)","v":0},{"$f":"LARGE(($I54,$K54,$M54,$O54,$Q54,$S54,$U54,$W54,$Y54,$AA54,$AC54,$AE54,$AG54,$AI54,$AK54,$AM54,$AO54,$AQ54,$AS54,$AU54,$AW54,$AY54,$BA54,$BC54),3)","v":0},{"$f":"LARGE(($I54,$K54,$M54,$O54,$Q54,$S54,$U54,$W54,$Y54,$AA54,$AC54,$AE54,$AG54,$AI54,$AK54,$AM54,$AO54,$AQ54,$AS54,$AU54,$AW54,$AY54,$BA54,$BC54),4)","v":0},{"$f":"LARGE(($I54,$K54,$M54,$O54,$Q54,$S54,$U54,$W54,$Y54,$AA54,$AC54,$AE54,$AG54,$AI54,$AK54,$AM54,$AO54,$AQ54,$AS54,$AU54,$AW54,$AY54,$BA54,$BC54),5)","v":0},{"$f":"LARGE(($I54,$K54,$M54,$O54,$Q54,$S54,$U54,$W54,$Y54,$AA54,$AC54,$AE54,$AG54,$AI54,$AK54,$AM54,$AO54,$AQ54,$AS54,$AU54,$AW54,$AY54,$BA54,$BC54),6)","v":0},{"$f":"LARGE(($I54,$K54,$M54,$O54,$Q54,$S54,$U54,$W54,$Y54,$AA54,$AC54,$AE54,$AG54,$AI54,$AK54,$AM54,$AO54,$AQ54,$AS54,$AU54,$AW54,$AY54,$BA54,$BC54),7)","v":0},{"$f":"LARGE(($I54,$K54,$M54,$O54,$Q54,$S54,$U54,$W54,$Y54,$AA54,$AC54,$AE54,$AG54,$AI54,$AK54,$AM54,$AO54,$AQ54,$AS54,$AU54,$AW54,$AY54,$BA54,$BC54),8)","v":0},{"$f":"LARGE(($I54,$K54,$M54,$O54,$Q54,$S54,$U54,$W54,$Y54,$AA54,$AC54,$AE54,$AG54,$AI54,$AK54,$AM54,$AO54,$AQ54,$AS54,$AU54,$AW54,$AY54,$BA54,$BC54),9)","v":0},{"$f":"LARGE(($I54,$K54,$M54,$O54,$Q54,$S54,$U54,$W54,$Y54,$AA54,$AC54,$AE54,$AG54,$AI54,$AK54,$AM54,$AO54,$AQ54,$AS54,$AU54,$AW54,$AY54,$BA54,$BC54),10)","v":0}]
[51,null,null,null,0,0,0,null,{"$f":"LOOKUP(H55,Poängberäkning!$B$6:$B$97,Poängberäkning!$C$6:$C$97)","v":0},null,{"$f":"LOOKUP(J55,Poängberäkning!$B$6:$B$97,Poängberäkning!$C$6:$C$97)","v":0},null,{"$f":"LOOKUP(L55,Poängberäkning!$B$6:$B$97,Poängberäkning!$C$6:$C$97)","v":0},null,{"$f":"LOOKUP(N55,Poängberäkning!$B$6:$B$97,Poängberäkning!$C$6:$C$97)","v":0},null,{"$f":"LOOKUP(P55,Poängberäkning!$B$6:$B$97,Poängberäkning!$C$6:$C$97)","v":0},null,{"$f":"LOOKUP(R55,Poängberäkning!$B$6:$B$97,Poängberäkning!$C$6:$C$97)","v":0},null,{"$f":"LOOKUP(T55,Poängberäkning!$B$6:$B$97,Poängberäkning!$C$6:$C$97)","v":0},null,{"$f":"LOOKUP(V55,Poängberäkning!$B$6:$B$97,Poängberäkning!$C$6:$C$97)","v":0},null,{"$f":"LOOKUP(X55,Poängberäkning!$B$6:$B$97,Poängberäkning!$C$6:$C$97)","v":0},null,{"$f":"LOOKUP(Z55,Poängberäkning!$B$6:$B$97,Poängberäkning!$C$6:$C$97)","v":0},null,{"$f":"LOOKUP(AB55,Poängberäkning!$B$6:$B$97,Poängberäkning!$C$6:$C$97)","v":0},null,{"$f":"LOOKUP(AD55,Poängberäkning!$B$6:$B$97,Poängberäkning!$C$6:$C$97)","v":0},null,{"$f":"LOOKUP(AF55,Poängberäkning!$B$6:$B$97,Poängberäkning!$C$6:$C$97)","v":0},null,{"$f":"LOOKUP(AH55,Poängberäkning!$B$6:$B$97,Poängberäkning!$C$6:$C$97)","v":0},null,{"$f":"LOOKUP(AJ55,Poängberäkning!$B$6:$B$97,Poängberäkning!$C$6:$C$97)","v":0},null,{"$f":"LOOKUP(AL55,Poängberäkning!$B$6:$B$97,Poängberäkning!$C$6:$C$97)","v":0},null,{"$f":"LOOKUP(AN55,Poängberäkning!$B$6:$B$97,Poängberäkning!$C$6:$C$97)","v":0},null,{"$f":"LOOKUP(AP55,Poängberäkning!$B$6:$B$97,Poängberäkning!$C$6:$C$97)","v":0},null,{"$f":"LOOKUP(AR55,Poängberäkning!$B$6:$B$97,Poängberäkning!$C$6:$C$97)","v":0},null,{"$f":"LOOKUP(AT55,Poängberäkning!$B$6:$B$97,Poängberäkning!$C$6:$C$97)","v":0},null,null,null,null,null,null,null,null,{"$f":"LARGE(($I55,$K55,$M55,$O55,$Q55,$S55,$U55,$W55,$Y55,$AA55,$AC55,$AE55,$AG55,$AI55,$AK55,$AM55,$AO55,$AQ55,$AS55,$AU55,$AW55,$AY55,$BA55,$BC55),1)","v":0},{"$f":"LARGE(($I55,$K55,$M55,$O55,$Q55,$S55,$U55,$W55,$Y55,$AA55,$AC55,$AE55,$AG55,$AI55,$AK55,$AM55,$AO55,$AQ55,$AS55,$AU55,$AW55,$AY55,$BA55,$BC55),2)","v":0},{"$f":"LARGE(($I55,$K55,$M55,$O55,$Q55,$S55,$U55,$W55,$Y55,$AA55,$AC55,$AE55,$AG55,$AI55,$AK55,$AM55,$AO55,$AQ55,$AS55,$AU55,$AW55,$AY55,$BA55,$BC55),3)","v":0},{"$f":"LARGE(($I55,$K55,$M55,$O55,$Q55,$S55,$U55,$W55,$Y55,$AA55,$AC55,$AE55,$AG55,$AI55,$AK55,$AM55,$AO55,$AQ55,$AS55,$AU55,$AW55,$AY55,$BA55,$BC55),4)","v":0},{"$f":"LARGE(($I55,$K55,$M55,$O55,$Q55,$S55,$U55,$W55,$Y55,$AA55,$AC55,$AE55,$AG55,$AI55,$AK55,$AM55,$AO55,$AQ55,$AS55,$AU55,$AW55,$AY55,$BA55,$BC55),5)","v":0},{"$f":"LARGE(($I55,$K55,$M55,$O55,$Q55,$S55,$U55,$W55,$Y55,$AA55,$AC55,$AE55,$AG55,$AI55,$AK55,$AM55,$AO55,$AQ55,$AS55,$AU55,$AW55,$AY55,$BA55,$BC55),6)","v":0},{"$f":"LARGE(($I55,$K55,$M55,$O55,$Q55,$S55,$U55,$W55,$Y55,$AA55,$AC55,$AE55,$AG55,$AI55,$AK55,$AM55,$AO55,$AQ55,$AS55,$AU55,$AW55,$AY55,$BA55,$BC55),7)","v":0},{"$f":"LARGE(($I55,$K55,$M55,$O55,$Q55,$S55,$U55,$W55,$Y55,$AA55,$AC55,$AE55,$AG55,$AI55,$AK55,$AM55,$AO55,$AQ55,$AS55,$AU55,$AW55,$AY55,$BA55,$BC55),8)","v":0},{"$f":"LARGE(($I55,$K55,$M55,$O55,$Q55,$S55,$U55,$W55,$Y55,$AA55,$AC55,$AE55,$AG55,$AI55,$AK55,$AM55,$AO55,$AQ55,$AS55,$AU55,$AW55,$AY55,$BA55,$BC55),9)","v":0},{"$f":"LARGE(($I55,$K55,$M55,$O55,$Q55,$S55,$U55,$W55,$Y55,$AA55,$AC55,$AE55,$AG55,$AI55,$AK55,$AM55,$AO55,$AQ55,$AS55,$AU55,$AW55,$AY55,$BA55,$BC55),10)","v":0}]
[52,null,null,null,0,0,0,null,{"$f":"LOOKUP(H56,Poängberäkning!$B$6:$B$97,Poängberäkning!$C$6:$C$97)","v":0},null,{"$f":"LOOKUP(J56,Poängberäkning!$B$6:$B$97,Poängberäkning!$C$6:$C$97)","v":0},null,{"$f":"LOOKUP(L56,Poängberäkning!$B$6:$B$97,Poängberäkning!$C$6:$C$97)","v":0},null,{"$f":"LOOKUP(N56,Poängberäkning!$B$6:$B$97,Poängberäkning!$C$6:$C$97)","v":0},null,{"$f":"LOOKUP(P56,Poängberäkning!$B$6:$B$97,Poängberäkning!$C$6:$C$97)","v":0},null,{"$f":"LOOKUP(R56,Poängberäkning!$B$6:$B$97,Poängberäkning!$C$6:$C$97)","v":0},null,{"$f":"LOOKUP(T56,Poängberäkning!$B$6:$B$97,Poängberäkning!$C$6:$C$97)","v":0},null,{"$f":"LOOKUP(V56,Poängberäkning!$B$6:$B$97,Poängberäkning!$C$6:$C$97)","v":0},null,{"$f":"LOOKUP(X56,Poängberäkning!$B$6:$B$97,Poängberäkning!$C$6:$C$97)","v":0},null,{"$f":"LOOKUP(Z56,Poängberäkning!$B$6:$B$97,Poängberäkning!$C$6:$C$97)","v":0},null,{"$f":"LOOKUP(AB56,Poängberäkning!$B$6:$B$97,Poängberäkning!$C$6:$C$97)","v":0},null,{"$f":"LOOKUP(AD56,Poängberäkning!$B$6:$B$97,Poängberäkning!$C$6:$C$97)","v":0},null,{"$f":"LOOKUP(AF56,Poängberäkning!$B$6:$B$97,Poängberäkning!$C$6:$C$97)","v":0},null,{"$f":"LOOKUP(AH56,Poängberäkning!$B$6:$B$97,Poängberäkning!$C$6:$C$97)","v":0},null,{"$f":"LOOKUP(AJ56,Poängberäkning!$B$6:$B$97,Poängberäkning!$C$6:$C$97)","v":0},null,{"$f":"LOOKUP(AL56,Poängberäkning!$B$6:$B$97,Poängberäkning!$C$6:$C$97)","v":0},null,{"$f":"LOOKUP(AN56,Poängberäkning!$B$6:$B$97,Poängberäkning!$C$6:$C$97)","v":0},null,{"$f":"LOOKUP(AP56,Poängberäkning!$B$6:$B$97,Poängberäkning!$C$6:$C$97)","v":0},null,{"$f":"LOOKUP(AR56,Poängberäkning!$B$6:$B$97,Poängberäkning!$C$6:$C$97)","v":0},null,{"$f":"LOOKUP(AT56,Poängberäkning!$B$6:$B$97,Poängberäkning!$C$6:$C$97)","v":0},null,null,null,null,null,null,null,null,{"$f":"LARGE(($I56,$K56,$M56,$O56,$Q56,$S56,$U56,$W56,$Y56,$AA56,$AC56,$AE56,$AG56,$AI56,$AK56,$AM56,$AO56,$AQ56,$AS56,$AU56,$AW56,$AY56,$BA56,$BC56),1)","v":0},{"$f":"LARGE(($I56,$K56,$M56,$O56,$Q56,$S56,$U56,$W56,$Y56,$AA56,$AC56,$AE56,$AG56,$AI56,$AK56,$AM56,$AO56,$AQ56,$AS56,$AU56,$AW56,$AY56,$BA56,$BC56),2)","v":0},{"$f":"LARGE(($I56,$K56,$M56,$O56,$Q56,$S56,$U56,$W56,$Y56,$AA56,$AC56,$AE56,$AG56,$AI56,$AK56,$AM56,$AO56,$AQ56,$AS56,$AU56,$AW56,$AY56,$BA56,$BC56),3)","v":0},{"$f":"LARGE(($I56,$K56,$M56,$O56,$Q56,$S56,$U56,$W56,$Y56,$AA56,$AC56,$AE56,$AG56,$AI56,$AK56,$AM56,$AO56,$AQ56,$AS56,$AU56,$AW56,$AY56,$BA56,$BC56),4)","v":0},{"$f":"LARGE(($I56,$K56,$M56,$O56,$Q56,$S56,$U56,$W56,$Y56,$AA56,$AC56,$AE56,$AG56,$AI56,$AK56,$AM56,$AO56,$AQ56,$AS56,$AU56,$AW56,$AY56,$BA56,$BC56),5)","v":0},{"$f":"LARGE(($I56,$K56,$M56,$O56,$Q56,$S56,$U56,$W56,$Y56,$AA56,$AC56,$AE56,$AG56,$AI56,$AK56,$AM56,$AO56,$AQ56,$AS56,$AU56,$AW56,$AY56,$BA56,$BC56),6)","v":0},{"$f":"LARGE(($I56,$K56,$M56,$O56,$Q56,$S56,$U56,$W56,$Y56,$AA56,$AC56,$AE56,$AG56,$AI56,$AK56,$AM56,$AO56,$AQ56,$AS56,$AU56,$AW56,$AY56,$BA56,$BC56),7)","v":0},{"$f":"LARGE(($I56,$K56,$M56,$O56,$Q56,$S56,$U56,$W56,$Y56,$AA56,$AC56,$AE56,$AG56,$AI56,$AK56,$AM56,$AO56,$AQ56,$AS56,$AU56,$AW56,$AY56,$BA56,$BC56),8)","v":0},{"$f":"LARGE(($I56,$K56,$M56,$O56,$Q56,$S56,$U56,$W56,$Y56,$AA56,$AC56,$AE56,$AG56,$AI56,$AK56,$AM56,$AO56,$AQ56,$AS56,$AU56,$AW56,$AY56,$BA56,$BC56),9)","v":0},{"$f":"LARGE(($I56,$K56,$M56,$O56,$Q56,$S56,$U56,$W56,$Y56,$AA56,$AC56,$AE56,$AG56,$AI56,$AK56,$AM56,$AO56,$AQ56,$AS56,$AU56,$AW56,$AY56,$BA56,$BC56),10)","v":0}]
[53,null,null,null,0,0,0,null,{"$f":"LOOKUP(H57,Poängberäkning!$B$6:$B$97,Poängberäkning!$C$6:$C$97)","v":0},null,{"$f":"LOOKUP(J57,Poängberäkning!$B$6:$B$97,Poängberäkning!$C$6:$C$97)","v":0},null,{"$f":"LOOKUP(L57,Poängberäkning!$B$6:$B$97,Poängberäkning!$C$6:$C$97)","v":0},null,{"$f":"LOOKUP(N57,Poängberäkning!$B$6:$B$97,Poängberäkning!$C$6:$C$97)","v":0},null,{"$f":"LOOKUP(P57,Poängberäkning!$B$6:$B$97,Poängberäkning!$C$6:$C$97)","v":0},null,{"$f":"LOOKUP(R57,Poängberäkning!$B$6:$B$97,Poängberäkning!$C$6:$C$97)","v":0},null,{"$f":"LOOKUP(T57,Poängberäkning!$B$6:$B$97,Poängberäkning!$C$6:$C$97)","v":0},null,{"$f":"LOOKUP(V57,Poängberäkning!$B$6:$B$97,Poängberäkning!$C$6:$C$97)","v":0},null,{"$f":"LOOKUP(X57,Poängberäkning!$B$6:$B$97,Poängberäkning!$C$6:$C$97)","v":0},null,{"$f":"LOOKUP(Z57,Poängberäkning!$B$6:$B$97,Poängberäkning!$C$6:$C$97)","v":0},null,{"$f":"LOOKUP(AB57,Poängberäkning!$B$6:$B$97,Poängberäkning!$C$6:$C$97)","v":0},null,{"$f":"LOOKUP(AD57,Poängberäkning!$B$6:$B$97,Poängberäkning!$C$6:$C$97)","v":0},null,{"$f":"LOOKUP(AF57,Poängberäkning!$B$6:$B$97,Poängberäkning!$C$6:$C$97)","v":0},null,{"$f":"LOOKUP(AH57,Poängberäkning!$B$6:$B$97,Poängberäkning!$C$6:$C$97)","v":0},null,{"$f":"LOOKUP(AJ57,Poängberäkning!$B$6:$B$97,Poängberäkning!$C$6:$C$97)","v":0},null,{"$f":"LOOKUP(AL57,Poängberäkning!$B$6:$B$97,Poängberäkning!$C$6:$C$97)","v":0},null,{"$f":"LOOKUP(AN57,Poängberäkning!$B$6:$B$97,Poängberäkning!$C$6:$C$97)","v":0},null,{"$f":"LOOKUP(AP57,Poängberäkning!$B$6:$B$97,Poängberäkning!$C$6:$C$97)","v":0},null,{"$f":"LOOKUP(AR57,Poängberäkning!$B$6:$B$97,Poängberäkning!$C$6:$C$97)","v":0},null,{"$f":"LOOKUP(AT57,Poängberäkning!$B$6:$B$97,Poängberäkning!$C$6:$C$97)","v":0},null,null,null,null,null,null,null,null,{"$f":"LARGE(($I57,$K57,$M57,$O57,$Q57,$S57,$U57,$W57,$Y57,$AA57,$AC57,$AE57,$AG57,$AI57,$AK57,$AM57,$AO57,$AQ57,$AS57,$AU57,$AW57,$AY57,$BA57,$BC57),1)","v":0},{"$f":"LARGE(($I57,$K57,$M57,$O57,$Q57,$S57,$U57,$W57,$Y57,$AA57,$AC57,$AE57,$AG57,$AI57,$AK57,$AM57,$AO57,$AQ57,$AS57,$AU57,$AW57,$AY57,$BA57,$BC57),2)","v":0},{"$f":"LARGE(($I57,$K57,$M57,$O57,$Q57,$S57,$U57,$W57,$Y57,$AA57,$AC57,$AE57,$AG57,$AI57,$AK57,$AM57,$AO57,$AQ57,$AS57,$AU57,$AW57,$AY57,$BA57,$BC57),3)","v":0},{"$f":"LARGE(($I57,$K57,$M57,$O57,$Q57,$S57,$U57,$W57,$Y57,$AA57,$AC57,$AE57,$AG57,$AI57,$AK57,$AM57,$AO57,$AQ57,$AS57,$AU57,$AW57,$AY57,$BA57,$BC57),4)","v":0},{"$f":"LARGE(($I57,$K57,$M57,$O57,$Q57,$S57,$U57,$W57,$Y57,$AA57,$AC57,$AE57,$AG57,$AI57,$AK57,$AM57,$AO57,$AQ57,$AS57,$AU57,$AW57,$AY57,$BA57,$BC57),5)","v":0},{"$f":"LARGE(($I57,$K57,$M57,$O57,$Q57,$S57,$U57,$W57,$Y57,$AA57,$AC57,$AE57,$AG57,$AI57,$AK57,$AM57,$AO57,$AQ57,$AS57,$AU57,$AW57,$AY57,$BA57,$BC57),6)","v":0},{"$f":"LARGE(($I57,$K57,$M57,$O57,$Q57,$S57,$U57,$W57,$Y57,$AA57,$AC57,$AE57,$AG57,$AI57,$AK57,$AM57,$AO57,$AQ57,$AS57,$AU57,$AW57,$AY57,$BA57,$BC57),7)","v":0},{"$f":"LARGE(($I57,$K57,$M57,$O57,$Q57,$S57,$U57,$W57,$Y57,$AA57,$AC57,$AE57,$AG57,$AI57,$AK57,$AM57,$AO57,$AQ57,$AS57,$AU57,$AW57,$AY57,$BA57,$BC57),8)","v":0},{"$f":"LARGE(($I57,$K57,$M57,$O57,$Q57,$S57,$U57,$W57,$Y57,$AA57,$AC57,$AE57,$AG57,$AI57,$AK57,$AM57,$AO57,$AQ57,$AS57,$AU57,$AW57,$AY57,$BA57,$BC57),9)","v":0},{"$f":"LARGE(($I57,$K57,$M57,$O57,$Q57,$S57,$U57,$W57,$Y57,$AA57,$AC57,$AE57,$AG57,$AI57,$AK57,$AM57,$AO57,$AQ57,$AS57,$AU57,$AW57,$AY57,$BA57,$BC57),10)","v":0}]
[54,null,null,null,0,0,0,null,{"$f":"LOOKUP(H58,Poängberäkning!$B$6:$B$97,Poängberäkning!$C$6:$C$97)","v":0},null,{"$f":"LOOKUP(J58,Poängberäkning!$B$6:$B$97,Poängberäkning!$C$6:$C$97)","v":0},null,{"$f":"LOOKUP(L58,Poängberäkning!$B$6:$B$97,Poängberäkning!$C$6:$C$97)","v":0},null,{"$f":"LOOKUP(N58,Poängberäkning!$B$6:$B$97,Poängberäkning!$C$6:$C$97)","v":0},null,{"$f":"LOOKUP(P58,Poängberäkning!$B$6:$B$97,Poängberäkning!$C$6:$C$97)","v":0},null,{"$f":"LOOKUP(R58,Poängberäkning!$B$6:$B$97,Poängberäkning!$C$6:$C$97)","v":0},null,{"$f":"LOOKUP(T58,Poängberäkning!$B$6:$B$97,Poängberäkning!$C$6:$C$97)","v":0},null,{"$f":"LOOKUP(V58,Poängberäkning!$B$6:$B$97,Poängberäkning!$C$6:$C$97)","v":0},null,{"$f":"LOOKUP(X58,Poängberäkning!$B$6:$B$97,Poängberäkning!$C$6:$C$97)","v":0},null,{"$f":"LOOKUP(Z58,Poängberäkning!$B$6:$B$97,Poängberäkning!$C$6:$C$97)","v":0},null,{"$f":"LOOKUP(AB58,Poängberäkning!$B$6:$B$97,Poängberäkning!$C$6:$C$97)","v":0},null,{"$f":"LOOKUP(AD58,Poängberäkning!$B$6:$B$97,Poängberäkning!$C$6:$C$97)","v":0},null,{"$f":"LOOKUP(AF58,Poängberäkning!$B$6:$B$97,Poängberäkning!$C$6:$C$97)","v":0},null,{"$f":"LOOKUP(AH58,Poängberäkning!$B$6:$B$97,Poängberäkning!$C$6:$C$97)","v":0},null,{"$f":"LOOKUP(AJ58,Poängberäkning!$B$6:$B$97,Poängberäkning!$C$6:$C$97)","v":0},null,{"$f":"LOOKUP(AL58,Poängberäkning!$B$6:$B$97,Poängberäkning!$C$6:$C$97)","v":0},null,{"$f":"LOOKUP(AN58,Poängberäkning!$B$6:$B$97,Poängberäkning!$C$6:$C$97)","v":0},null,{"$f":"LOOKUP(AP58,Poängberäkning!$B$6:$B$97,Poängberäkning!$C$6:$C$97)","v":0},null,{"$f":"LOOKUP(AR58,Poängberäkning!$B$6:$B$97,Poängberäkning!$C$6:$C$97)","v":0},null,{"$f":"LOOKUP(AT58,Poängberäkning!$B$6:$B$97,Poängberäkning!$C$6:$C$97)","v":0},null,null,null,null,null,null,null,null,{"$f":"LARGE(($I58,$K58,$M58,$O58,$Q58,$S58,$U58,$W58,$Y58,$AA58,$AC58,$AE58,$AG58,$AI58,$AK58,$AM58,$AO58,$AQ58,$AS58,$AU58,$AW58,$AY58,$BA58,$BC58),1)","v":0},{"$f":"LARGE(($I58,$K58,$M58,$O58,$Q58,$S58,$U58,$W58,$Y58,$AA58,$AC58,$AE58,$AG58,$AI58,$AK58,$AM58,$AO58,$AQ58,$AS58,$AU58,$AW58,$AY58,$BA58,$BC58),2)","v":0},{"$f":"LARGE(($I58,$K58,$M58,$O58,$Q58,$S58,$U58,$W58,$Y58,$AA58,$AC58,$AE58,$AG58,$AI58,$AK58,$AM58,$AO58,$AQ58,$AS58,$AU58,$AW58,$AY58,$BA58,$BC58),3)","v":0},{"$f":"LARGE(($I58,$K58,$M58,$O58,$Q58,$S58,$U58,$W58,$Y58,$AA58,$AC58,$AE58,$AG58,$AI58,$AK58,$AM58,$AO58,$AQ58,$AS58,$AU58,$AW58,$AY58,$BA58,$BC58),4)","v":0},{"$f":"LARGE(($I58,$K58,$M58,$O58,$Q58,$S58,$U58,$W58,$Y58,$AA58,$AC58,$AE58,$AG58,$AI58,$AK58,$AM58,$AO58,$AQ58,$AS58,$AU58,$AW58,$AY58,$BA58,$BC58),5)","v":0},{"$f":"LARGE(($I58,$K58,$M58,$O58,$Q58,$S58,$U58,$W58,$Y58,$AA58,$AC58,$AE58,$AG58,$AI58,$AK58,$AM58,$AO58,$AQ58,$AS58,$AU58,$AW58,$AY58,$BA58,$BC58),6)","v":0},{"$f":"LARGE(($I58,$K58,$M58,$O58,$Q58,$S58,$U58,$W58,$Y58,$AA58,$AC58,$AE58,$AG58,$AI58,$AK58,$AM58,$AO58,$AQ58,$AS58,$AU58,$AW58,$AY58,$BA58,$BC58),7)","v":0},{"$f":"LARGE(($I58,$K58,$M58,$O58,$Q58,$S58,$U58,$W58,$Y58,$AA58,$AC58,$AE58,$AG58,$AI58,$AK58,$AM58,$AO58,$AQ58,$AS58,$AU58,$AW58,$AY58,$BA58,$BC58),8)","v":0},{"$f":"LARGE(($I58,$K58,$M58,$O58,$Q58,$S58,$U58,$W58,$Y58,$AA58,$AC58,$AE58,$AG58,$AI58,$AK58,$AM58,$AO58,$AQ58,$AS58,$AU58,$AW58,$AY58,$BA58,$BC58),9)","v":0},{"$f":"LARGE(($I58,$K58,$M58,$O58,$Q58,$S58,$U58,$W58,$Y58,$AA58,$AC58,$AE58,$AG58,$AI58,$AK58,$AM58,$AO58,$AQ58,$AS58,$AU58,$AW58,$AY58,$BA58,$BC58),10)","v":0}]
[55,null,null,null,0,0,0,null,{"$f":"LOOKUP(H59,Poängberäkning!$B$6:$B$97,Poängberäkning!$C$6:$C$97)","v":0},null,{"$f":"LOOKUP(J59,Poängberäkning!$B$6:$B$97,Poängberäkning!$C$6:$C$97)","v":0},null,{"$f":"LOOKUP(L59,Poängberäkning!$B$6:$B$97,Poängberäkning!$C$6:$C$97)","v":0},null,{"$f":"LOOKUP(N59,Poängberäkning!$B$6:$B$97,Poängberäkning!$C$6:$C$97)","v":0},null,{"$f":"LOOKUP(P59,Poängberäkning!$B$6:$B$97,Poängberäkning!$C$6:$C$97)","v":0},null,{"$f":"LOOKUP(R59,Poängberäkning!$B$6:$B$97,Poängberäkning!$C$6:$C$97)","v":0},null,{"$f":"LOOKUP(T59,Poängberäkning!$B$6:$B$97,Poängberäkning!$C$6:$C$97)","v":0},null,{"$f":"LOOKUP(V59,Poängberäkning!$B$6:$B$97,Poängberäkning!$C$6:$C$97)","v":0},null,{"$f":"LOOKUP(X59,Poängberäkning!$B$6:$B$97,Poängberäkning!$C$6:$C$97)","v":0},null,{"$f":"LOOKUP(Z59,Poängberäkning!$B$6:$B$97,Poängberäkning!$C$6:$C$97)","v":0},null,{"$f":"LOOKUP(AB59,Poängberäkning!$B$6:$B$97,Poängberäkning!$C$6:$C$97)","v":0},null,{"$f":"LOOKUP(AD59,Poängberäkning!$B$6:$B$97,Poängberäkning!$C$6:$C$97)","v":0},null,{"$f":"LOOKUP(AF59,Poängberäkning!$B$6:$B$97,Poängberäkning!$C$6:$C$97)","v":0},null,{"$f":"LOOKUP(AH59,Poängberäkning!$B$6:$B$97,Poängberäkning!$C$6:$C$97)","v":0},null,{"$f":"LOOKUP(AJ59,Poängberäkning!$B$6:$B$97,Poängberäkning!$C$6:$C$97)","v":0},null,{"$f":"LOOKUP(AL59,Poängberäkning!$B$6:$B$97,Poängberäkning!$C$6:$C$97)","v":0},null,{"$f":"LOOKUP(AN59,Poängberäkning!$B$6:$B$97,Poängberäkning!$C$6:$C$97)","v":0},null,{"$f":"LOOKUP(AP59,Poängberäkning!$B$6:$B$97,Poängberäkning!$C$6:$C$97)","v":0},null,{"$f":"LOOKUP(AR59,Poängberäkning!$B$6:$B$97,Poängberäkning!$C$6:$C$97)","v":0},null,{"$f":"LOOKUP(AT59,Poängberäkning!$B$6:$B$97,Poängberäkning!$C$6:$C$97)","v":0},null,null,null,null,null,null,null,null,{"$f":"LARGE(($I59,$K59,$M59,$O59,$Q59,$S59,$U59,$W59,$Y59,$AA59,$AC59,$AE59,$AG59,$AI59,$AK59,$AM59,$AO59,$AQ59,$AS59,$AU59,$AW59,$AY59,$BA59,$BC59),1)","v":0},{"$f":"LARGE(($I59,$K59,$M59,$O59,$Q59,$S59,$U59,$W59,$Y59,$AA59,$AC59,$AE59,$AG59,$AI59,$AK59,$AM59,$AO59,$AQ59,$AS59,$AU59,$AW59,$AY59,$BA59,$BC59),2)","v":0},{"$f":"LARGE(($I59,$K59,$M59,$O59,$Q59,$S59,$U59,$W59,$Y59,$AA59,$AC59,$AE59,$AG59,$AI59,$AK59,$AM59,$AO59,$AQ59,$AS59,$AU59,$AW59,$AY59,$BA59,$BC59),3)","v":0},{"$f":"LARGE(($I59,$K59,$M59,$O59,$Q59,$S59,$U59,$W59,$Y59,$AA59,$AC59,$AE59,$AG59,$AI59,$AK59,$AM59,$AO59,$AQ59,$AS59,$AU59,$AW59,$AY59,$BA59,$BC59),4)","v":0},{"$f":"LARGE(($I59,$K59,$M59,$O59,$Q59,$S59,$U59,$W59,$Y59,$AA59,$AC59,$AE59,$AG59,$AI59,$AK59,$AM59,$AO59,$AQ59,$AS59,$AU59,$AW59,$AY59,$BA59,$BC59),5)","v":0},{"$f":"LARGE(($I59,$K59,$M59,$O59,$Q59,$S59,$U59,$W59,$Y59,$AA59,$AC59,$AE59,$AG59,$AI59,$AK59,$AM59,$AO59,$AQ59,$AS59,$AU59,$AW59,$AY59,$BA59,$BC59),6)","v":0},{"$f":"LARGE(($I59,$K59,$M59,$O59,$Q59,$S59,$U59,$W59,$Y59,$AA59,$AC59,$AE59,$AG59,$AI59,$AK59,$AM59,$AO59,$AQ59,$AS59,$AU59,$AW59,$AY59,$BA59,$BC59),7)","v":0},{"$f":"LARGE(($I59,$K59,$M59,$O59,$Q59,$S59,$U59,$W59,$Y59,$AA59,$AC59,$AE59,$AG59,$AI59,$AK59,$AM59,$AO59,$AQ59,$AS59,$AU59,$AW59,$AY59,$BA59,$BC59),8)","v":0},{"$f":"LARGE(($I59,$K59,$M59,$O59,$Q59,$S59,$U59,$W59,$Y59,$AA59,$AC59,$AE59,$AG59,$AI59,$AK59,$AM59,$AO59,$AQ59,$AS59,$AU59,$AW59,$AY59,$BA59,$BC59),9)","v":0},{"$f":"LARGE(($I59,$K59,$M59,$O59,$Q59,$S59,$U59,$W59,$Y59,$AA59,$AC59,$AE59,$AG59,$AI59,$AK59,$AM59,$AO59,$AQ59,$AS59,$AU59,$AW59,$AY59,$BA59,$BC59),10)","v":0}]
[56,null,null,null,0,0,0,null,{"$f":"LOOKUP(H60,Poängberäkning!$B$6:$B$97,Poängberäkning!$C$6:$C$97)","v":0},null,{"$f":"LOOKUP(J60,Poängberäkning!$B$6:$B$97,Poängberäkning!$C$6:$C$97)","v":0},null,{"$f":"LOOKUP(L60,Poängberäkning!$B$6:$B$97,Poängberäkning!$C$6:$C$97)","v":0},null,{"$f":"LOOKUP(N60,Poängberäkning!$B$6:$B$97,Poängberäkning!$C$6:$C$97)","v":0},null,{"$f":"LOOKUP(P60,Poängberäkning!$B$6:$B$97,Poängberäkning!$C$6:$C$97)","v":0},null,{"$f":"LOOKUP(R60,Poängberäkning!$B$6:$B$97,Poängberäkning!$C$6:$C$97)","v":0},null,{"$f":"LOOKUP(T60,Poängberäkning!$B$6:$B$97,Poängberäkning!$C$6:$C$97)","v":0},null,{"$f":"LOOKUP(V60,Poängberäkning!$B$6:$B$97,Poängberäkning!$C$6:$C$97)","v":0},null,{"$f":"LOOKUP(X60,Poängberäkning!$B$6:$B$97,Poängberäkning!$C$6:$C$97)","v":0},null,{"$f":"LOOKUP(Z60,Poängberäkning!$B$6:$B$97,Poängberäkning!$C$6:$C$97)","v":0},null,{"$f":"LOOKUP(AB60,Poängberäkning!$B$6:$B$97,Poängberäkning!$C$6:$C$97)","v":0},null,{"$f":"LOOKUP(AD60,Poängberäkning!$B$6:$B$97,Poängberäkning!$C$6:$C$97)","v":0},null,{"$f":"LOOKUP(AF60,Poängberäkning!$B$6:$B$97,Poängberäkning!$C$6:$C$97)","v":0},null,{"$f":"LOOKUP(AH60,Poängberäkning!$B$6:$B$97,Poängberäkning!$C$6:$C$97)","v":0},null,{"$f":"LOOKUP(AJ60,Poängberäkning!$B$6:$B$97,Poängberäkning!$C$6:$C$97)","v":0},null,{"$f":"LOOKUP(AL60,Poängberäkning!$B$6:$B$97,Poängberäkning!$C$6:$C$97)","v":0},null,{"$f":"LOOKUP(AN60,Poängberäkning!$B$6:$B$97,Poängberäkning!$C$6:$C$97)","v":0},null,{"$f":"LOOKUP(AP60,Poängberäkning!$B$6:$B$97,Poängberäkning!$C$6:$C$97)","v":0},null,{"$f":"LOOKUP(AR60,Poängberäkning!$B$6:$B$97,Poängberäkning!$C$6:$C$97)","v":0},null,{"$f":"LOOKUP(AT60,Poängberäkning!$B$6:$B$97,Poängberäkning!$C$6:$C$97)","v":0},null,null,null,null,null,null,null,null,{"$f":"LARGE(($I60,$K60,$M60,$O60,$Q60,$S60,$U60,$W60,$Y60,$AA60,$AC60,$AE60,$AG60,$AI60,$AK60,$AM60,$AO60,$AQ60,$AS60,$AU60,$AW60,$AY60,$BA60,$BC60),1)","v":0},{"$f":"LARGE(($I60,$K60,$M60,$O60,$Q60,$S60,$U60,$W60,$Y60,$AA60,$AC60,$AE60,$AG60,$AI60,$AK60,$AM60,$AO60,$AQ60,$AS60,$AU60,$AW60,$AY60,$BA60,$BC60),2)","v":0},{"$f":"LARGE(($I60,$K60,$M60,$O60,$Q60,$S60,$U60,$W60,$Y60,$AA60,$AC60,$AE60,$AG60,$AI60,$AK60,$AM60,$AO60,$AQ60,$AS60,$AU60,$AW60,$AY60,$BA60,$BC60),3)","v":0},{"$f":"LARGE(($I60,$K60,$M60,$O60,$Q60,$S60,$U60,$W60,$Y60,$AA60,$AC60,$AE60,$AG60,$AI60,$AK60,$AM60,$AO60,$AQ60,$AS60,$AU60,$AW60,$AY60,$BA60,$BC60),4)","v":0},{"$f":"LARGE(($I60,$K60,$M60,$O60,$Q60,$S60,$U60,$W60,$Y60,$AA60,$AC60,$AE60,$AG60,$AI60,$AK60,$AM60,$AO60,$AQ60,$AS60,$AU60,$AW60,$AY60,$BA60,$BC60),5)","v":0},{"$f":"LARGE(($I60,$K60,$M60,$O60,$Q60,$S60,$U60,$W60,$Y60,$AA60,$AC60,$AE60,$AG60,$AI60,$AK60,$AM60,$AO60,$AQ60,$AS60,$AU60,$AW60,$AY60,$BA60,$BC60),6)","v":0},{"$f":"LARGE(($I60,$K60,$M60,$O60,$Q60,$S60,$U60,$W60,$Y60,$AA60,$AC60,$AE60,$AG60,$AI60,$AK60,$AM60,$AO60,$AQ60,$AS60,$AU60,$AW60,$AY60,$BA60,$BC60),7)","v":0},{"$f":"LARGE(($I60,$K60,$M60,$O60,$Q60,$S60,$U60,$W60,$Y60,$AA60,$AC60,$AE60,$AG60,$AI60,$AK60,$AM60,$AO60,$AQ60,$AS60,$AU60,$AW60,$AY60,$BA60,$BC60),8)","v":0},{"$f":"LARGE(($I60,$K60,$M60,$O60,$Q60,$S60,$U60,$W60,$Y60,$AA60,$AC60,$AE60,$AG60,$AI60,$AK60,$AM60,$AO60,$AQ60,$AS60,$AU60,$AW60,$AY60,$BA60,$BC60),9)","v":0},{"$f":"LARGE(($I60,$K60,$M60,$O60,$Q60,$S60,$U60,$W60,$Y60,$AA60,$AC60,$AE60,$AG60,$AI60,$AK60,$AM60,$AO60,$AQ60,$AS60,$AU60,$AW60,$AY60,$BA60,$BC60),10)","v":0}]
[57,null,null,null,0,0,0,null,{"$f":"LOOKUP(H61,Poängberäkning!$B$6:$B$97,Poängberäkning!$C$6:$C$97)","v":0},null,{"$f":"LOOKUP(J61,Poängberäkning!$B$6:$B$97,Poängberäkning!$C$6:$C$97)","v":0},null,{"$f":"LOOKUP(L61,Poängberäkning!$B$6:$B$97,Poängberäkning!$C$6:$C$97)","v":0},null,{"$f":"LOOKUP(N61,Poängberäkning!$B$6:$B$97,Poängberäkning!$C$6:$C$97)","v":0},null,{"$f":"LOOKUP(P61,Poängberäkning!$B$6:$B$97,Poängberäkning!$C$6:$C$97)","v":0},null,{"$f":"LOOKUP(R61,Poängberäkning!$B$6:$B$97,Poängberäkning!$C$6:$C$97)","v":0},null,{"$f":"LOOKUP(T61,Poängberäkning!$B$6:$B$97,Poängberäkning!$C$6:$C$97)","v":0},null,{"$f":"LOOKUP(V61,Poängberäkning!$B$6:$B$97,Poängberäkning!$C$6:$C$97)","v":0},null,{"$f":"LOOKUP(X61,Poängberäkning!$B$6:$B$97,Poängberäkning!$C$6:$C$97)","v":0},null,{"$f":"LOOKUP(Z61,Poängberäkning!$B$6:$B$97,Poängberäkning!$C$6:$C$97)","v":0},null,{"$f":"LOOKUP(AB61,Poängberäkning!$B$6:$B$97,Poängberäkning!$C$6:$C$97)","v":0},null,{"$f":"LOOKUP(AD61,Poängberäkning!$B$6:$B$97,Poängberäkning!$C$6:$C$97)","v":0},null,{"$f":"LOOKUP(AF61,Poängberäkning!$B$6:$B$97,Poängberäkning!$C$6:$C$97)","v":0},null,{"$f":"LOOKUP(AH61,Poängberäkning!$B$6:$B$97,Poängberäkning!$C$6:$C$97)","v":0},null,{"$f":"LOOKUP(AJ61,Poängberäkning!$B$6:$B$97,Poängberäkning!$C$6:$C$97)","v":0},null,{"$f":"LOOKUP(AL61,Poängberäkning!$B$6:$B$97,Poängberäkning!$C$6:$C$97)","v":0},null,{"$f":"LOOKUP(AN61,Poängberäkning!$B$6:$B$97,Poängberäkning!$C$6:$C$97)","v":0},null,{"$f":"LOOKUP(AP61,Poängberäkning!$B$6:$B$97,Poängberäkning!$C$6:$C$97)","v":0},null,{"$f":"LOOKUP(AR61,Poängberäkning!$B$6:$B$97,Poängberäkning!$C$6:$C$97)","v":0},null,{"$f":"LOOKUP(AT61,Poängberäkning!$B$6:$B$97,Poängberäkning!$C$6:$C$97)","v":0},null,null,null,null,null,null,null,null,{"$f":"LARGE(($I61,$K61,$M61,$O61,$Q61,$S61,$U61,$W61,$Y61,$AA61,$AC61,$AE61,$AG61,$AI61,$AK61,$AM61,$AO61,$AQ61,$AS61,$AU61,$AW61,$AY61,$BA61,$BC61),1)","v":0},{"$f":"LARGE(($I61,$K61,$M61,$O61,$Q61,$S61,$U61,$W61,$Y61,$AA61,$AC61,$AE61,$AG61,$AI61,$AK61,$AM61,$AO61,$AQ61,$AS61,$AU61,$AW61,$AY61,$BA61,$BC61),2)","v":0},{"$f":"LARGE(($I61,$K61,$M61,$O61,$Q61,$S61,$U61,$W61,$Y61,$AA61,$AC61,$AE61,$AG61,$AI61,$AK61,$AM61,$AO61,$AQ61,$AS61,$AU61,$AW61,$AY61,$BA61,$BC61),3)","v":0},{"$f":"LARGE(($I61,$K61,$M61,$O61,$Q61,$S61,$U61,$W61,$Y61,$AA61,$AC61,$AE61,$AG61,$AI61,$AK61,$AM61,$AO61,$AQ61,$AS61,$AU61,$AW61,$AY61,$BA61,$BC61),4)","v":0},{"$f":"LARGE(($I61,$K61,$M61,$O61,$Q61,$S61,$U61,$W61,$Y61,$AA61,$AC61,$AE61,$AG61,$AI61,$AK61,$AM61,$AO61,$AQ61,$AS61,$AU61,$AW61,$AY61,$BA61,$BC61),5)","v":0},{"$f":"LARGE(($I61,$K61,$M61,$O61,$Q61,$S61,$U61,$W61,$Y61,$AA61,$AC61,$AE61,$AG61,$AI61,$AK61,$AM61,$AO61,$AQ61,$AS61,$AU61,$AW61,$AY61,$BA61,$BC61),6)","v":0},{"$f":"LARGE(($I61,$K61,$M61,$O61,$Q61,$S61,$U61,$W61,$Y61,$AA61,$AC61,$AE61,$AG61,$AI61,$AK61,$AM61,$AO61,$AQ61,$AS61,$AU61,$AW61,$AY61,$BA61,$BC61),7)","v":0},{"$f":"LARGE(($I61,$K61,$M61,$O61,$Q61,$S61,$U61,$W61,$Y61,$AA61,$AC61,$AE61,$AG61,$AI61,$AK61,$AM61,$AO61,$AQ61,$AS61,$AU61,$AW61,$AY61,$BA61,$BC61),8)","v":0},{"$f":"LARGE(($I61,$K61,$M61,$O61,$Q61,$S61,$U61,$W61,$Y61,$AA61,$AC61,$AE61,$AG61,$AI61,$AK61,$AM61,$AO61,$AQ61,$AS61,$AU61,$AW61,$AY61,$BA61,$BC61),9)","v":0},{"$f":"LARGE(($I61,$K61,$M61,$O61,$Q61,$S61,$U61,$W61,$Y61,$AA61,$AC61,$AE61,$AG61,$AI61,$AK61,$AM61,$AO61,$AQ61,$AS61,$AU61,$AW61,$AY61,$BA61,$BC61),10)","v":0}]
[58,null,null,null,0,0,0,null,{"$f":"LOOKUP(H62,Poängberäkning!$B$6:$B$97,Poängberäkning!$C$6:$C$97)","v":0},null,{"$f":"LOOKUP(J62,Poängberäkning!$B$6:$B$97,Poängberäkning!$C$6:$C$97)","v":0},null,{"$f":"LOOKUP(L62,Poängberäkning!$B$6:$B$97,Poängberäkning!$C$6:$C$97)","v":0},null,{"$f":"LOOKUP(N62,Poängberäkning!$B$6:$B$97,Poängberäkning!$C$6:$C$97)","v":0},null,{"$f":"LOOKUP(P62,Poängberäkning!$B$6:$B$97,Poängberäkning!$C$6:$C$97)","v":0},null,{"$f":"LOOKUP(R62,Poängberäkning!$B$6:$B$97,Poängberäkning!$C$6:$C$97)","v":0},null,{"$f":"LOOKUP(T62,Poängberäkning!$B$6:$B$97,Poängberäkning!$C$6:$C$97)","v":0},null,{"$f":"LOOKUP(V62,Poängberäkning!$B$6:$B$97,Poängberäkning!$C$6:$C$97)","v":0},null,{"$f":"LOOKUP(X62,Poängberäkning!$B$6:$B$97,Poängberäkning!$C$6:$C$97)","v":0},null,{"$f":"LOOKUP(Z62,Poängberäkning!$B$6:$B$97,Poängberäkning!$C$6:$C$97)","v":0},null,{"$f":"LOOKUP(AB62,Poängberäkning!$B$6:$B$97,Poängberäkning!$C$6:$C$97)","v":0},null,{"$f":"LOOKUP(AD62,Poängberäkning!$B$6:$B$97,Poängberäkning!$C$6:$C$97)","v":0},null,{"$f":"LOOKUP(AF62,Poängberäkning!$B$6:$B$97,Poängberäkning!$C$6:$C$97)","v":0},null,{"$f":"LOOKUP(AH62,Poängberäkning!$B$6:$B$97,Poängberäkning!$C$6:$C$97)","v":0},null,{"$f":"LOOKUP(AJ62,Poängberäkning!$B$6:$B$97,Poängberäkning!$C$6:$C$97)","v":0},null,{"$f":"LOOKUP(AL62,Poängberäkning!$B$6:$B$97,Poängberäkning!$C$6:$C$97)","v":0},null,{"$f":"LOOKUP(AN62,Poängberäkning!$B$6:$B$97,Poängberäkning!$C$6:$C$97)","v":0},null,{"$f":"LOOKUP(AP62,Poängberäkning!$B$6:$B$97,Poängberäkning!$C$6:$C$97)","v":0},null,{"$f":"LOOKUP(AR62,Poängberäkning!$B$6:$B$97,Poängberäkning!$C$6:$C$97)","v":0},null,{"$f":"LOOKUP(AT62,Poängberäkning!$B$6:$B$97,Poängberäkning!$C$6:$C$97)","v":0},null,null,null,null,null,null,null,null,{"$f":"LARGE(($I62,$K62,$M62,$O62,$Q62,$S62,$U62,$W62,$Y62,$AA62,$AC62,$AE62,$AG62,$AI62,$AK62,$AM62,$AO62,$AQ62,$AS62,$AU62,$AW62,$AY62,$BA62,$BC62),1)","v":0},{"$f":"LARGE(($I62,$K62,$M62,$O62,$Q62,$S62,$U62,$W62,$Y62,$AA62,$AC62,$AE62,$AG62,$AI62,$AK62,$AM62,$AO62,$AQ62,$AS62,$AU62,$AW62,$AY62,$BA62,$BC62),2)","v":0},{"$f":"LARGE(($I62,$K62,$M62,$O62,$Q62,$S62,$U62,$W62,$Y62,$AA62,$AC62,$AE62,$AG62,$AI62,$AK62,$AM62,$AO62,$AQ62,$AS62,$AU62,$AW62,$AY62,$BA62,$BC62),3)","v":0},{"$f":"LARGE(($I62,$K62,$M62,$O62,$Q62,$S62,$U62,$W62,$Y62,$AA62,$AC62,$AE62,$AG62,$AI62,$AK62,$AM62,$AO62,$AQ62,$AS62,$AU62,$AW62,$AY62,$BA62,$BC62),4)","v":0},{"$f":"LARGE(($I62,$K62,$M62,$O62,$Q62,$S62,$U62,$W62,$Y62,$AA62,$AC62,$AE62,$AG62,$AI62,$AK62,$AM62,$AO62,$AQ62,$AS62,$AU62,$AW62,$AY62,$BA62,$BC62),5)","v":0},{"$f":"LARGE(($I62,$K62,$M62,$O62,$Q62,$S62,$U62,$W62,$Y62,$AA62,$AC62,$AE62,$AG62,$AI62,$AK62,$AM62,$AO62,$AQ62,$AS62,$AU62,$AW62,$AY62,$BA62,$BC62),6)","v":0},{"$f":"LARGE(($I62,$K62,$M62,$O62,$Q62,$S62,$U62,$W62,$Y62,$AA62,$AC62,$AE62,$AG62,$AI62,$AK62,$AM62,$AO62,$AQ62,$AS62,$AU62,$AW62,$AY62,$BA62,$BC62),7)","v":0},{"$f":"LARGE(($I62,$K62,$M62,$O62,$Q62,$S62,$U62,$W62,$Y62,$AA62,$AC62,$AE62,$AG62,$AI62,$AK62,$AM62,$AO62,$AQ62,$AS62,$AU62,$AW62,$AY62,$BA62,$BC62),8)","v":0},{"$f":"LARGE(($I62,$K62,$M62,$O62,$Q62,$S62,$U62,$W62,$Y62,$AA62,$AC62,$AE62,$AG62,$AI62,$AK62,$AM62,$AO62,$AQ62,$AS62,$AU62,$AW62,$AY62,$BA62,$BC62),9)","v":0},{"$f":"LARGE(($I62,$K62,$M62,$O62,$Q62,$S62,$U62,$W62,$Y62,$AA62,$AC62,$AE62,$AG62,$AI62,$AK62,$AM62,$AO62,$AQ62,$AS62,$AU62,$AW62,$AY62,$BA62,$BC62),10)","v":0}]
[59,null,null,null,0,0,0,null,{"$f":"LOOKUP(H63,Poängberäkning!$B$6:$B$97,Poängberäkning!$C$6:$C$97)","v":0},null,{"$f":"LOOKUP(J63,Poängberäkning!$B$6:$B$97,Poängberäkning!$C$6:$C$97)","v":0},null,{"$f":"LOOKUP(L63,Poängberäkning!$B$6:$B$97,Poängberäkning!$C$6:$C$97)","v":0},null,{"$f":"LOOKUP(N63,Poängberäkning!$B$6:$B$97,Poängberäkning!$C$6:$C$97)","v":0},null,{"$f":"LOOKUP(P63,Poängberäkning!$B$6:$B$97,Poängberäkning!$C$6:$C$97)","v":0},null,{"$f":"LOOKUP(R63,Poängberäkning!$B$6:$B$97,Poängberäkning!$C$6:$C$97)","v":0},null,{"$f":"LOOKUP(T63,Poängberäkning!$B$6:$B$97,Poängberäkning!$C$6:$C$97)","v":0},null,{"$f":"LOOKUP(V63,Poängberäkning!$B$6:$B$97,Poängberäkning!$C$6:$C$97)","v":0},null,{"$f":"LOOKUP(X63,Poängberäkning!$B$6:$B$97,Poängberäkning!$C$6:$C$97)","v":0},null,{"$f":"LOOKUP(Z63,Poängberäkning!$B$6:$B$97,Poängberäkning!$C$6:$C$97)","v":0},null,{"$f":"LOOKUP(AB63,Poängberäkning!$B$6:$B$97,Poängberäkning!$C$6:$C$97)","v":0},null,{"$f":"LOOKUP(AD63,Poängberäkning!$B$6:$B$97,Poängberäkning!$C$6:$C$97)","v":0},null,{"$f":"LOOKUP(AF63,Poängberäkning!$B$6:$B$97,Poängberäkning!$C$6:$C$97)","v":0},null,{"$f":"LOOKUP(AH63,Poängberäkning!$B$6:$B$97,Poängberäkning!$C$6:$C$97)","v":0},null,{"$f":"LOOKUP(AJ63,Poängberäkning!$B$6:$B$97,Poängberäkning!$C$6:$C$97)","v":0},null,{"$f":"LOOKUP(AL63,Poängberäkning!$B$6:$B$97,Poängberäkning!$C$6:$C$97)","v":0},null,{"$f":"LOOKUP(AN63,Poängberäkning!$B$6:$B$97,Poängberäkning!$C$6:$C$97)","v":0},null,{"$f":"LOOKUP(AP63,Poängberäkning!$B$6:$B$97,Poängberäkning!$C$6:$C$97)","v":0},null,{"$f":"LOOKUP(AR63,Poängberäkning!$B$6:$B$97,Poängberäkning!$C$6:$C$97)","v":0},null,{"$f":"LOOKUP(AT63,Poängberäkning!$B$6:$B$97,Poängberäkning!$C$6:$C$97)","v":0},null,null,null,null,null,null,null,null,{"$f":"LARGE(($I63,$K63,$M63,$O63,$Q63,$S63,$U63,$W63,$Y63,$AA63,$AC63,$AE63,$AG63,$AI63,$AK63,$AM63,$AO63,$AQ63,$AS63,$AU63,$AW63,$AY63,$BA63,$BC63),1)","v":0},{"$f":"LARGE(($I63,$K63,$M63,$O63,$Q63,$S63,$U63,$W63,$Y63,$AA63,$AC63,$AE63,$AG63,$AI63,$AK63,$AM63,$AO63,$AQ63,$AS63,$AU63,$AW63,$AY63,$BA63,$BC63),2)","v":0},{"$f":"LARGE(($I63,$K63,$M63,$O63,$Q63,$S63,$U63,$W63,$Y63,$AA63,$AC63,$AE63,$AG63,$AI63,$AK63,$AM63,$AO63,$AQ63,$AS63,$AU63,$AW63,$AY63,$BA63,$BC63),3)","v":0},{"$f":"LARGE(($I63,$K63,$M63,$O63,$Q63,$S63,$U63,$W63,$Y63,$AA63,$AC63,$AE63,$AG63,$AI63,$AK63,$AM63,$AO63,$AQ63,$AS63,$AU63,$AW63,$AY63,$BA63,$BC63),4)","v":0},{"$f":"LARGE(($I63,$K63,$M63,$O63,$Q63,$S63,$U63,$W63,$Y63,$AA63,$AC63,$AE63,$AG63,$AI63,$AK63,$AM63,$AO63,$AQ63,$AS63,$AU63,$AW63,$AY63,$BA63,$BC63),5)","v":0},{"$f":"LARGE(($I63,$K63,$M63,$O63,$Q63,$S63,$U63,$W63,$Y63,$AA63,$AC63,$AE63,$AG63,$AI63,$AK63,$AM63,$AO63,$AQ63,$AS63,$AU63,$AW63,$AY63,$BA63,$BC63),6)","v":0},{"$f":"LARGE(($I63,$K63,$M63,$O63,$Q63,$S63,$U63,$W63,$Y63,$AA63,$AC63,$AE63,$AG63,$AI63,$AK63,$AM63,$AO63,$AQ63,$AS63,$AU63,$AW63,$AY63,$BA63,$BC63),7)","v":0},{"$f":"LARGE(($I63,$K63,$M63,$O63,$Q63,$S63,$U63,$W63,$Y63,$AA63,$AC63,$AE63,$AG63,$AI63,$AK63,$AM63,$AO63,$AQ63,$AS63,$AU63,$AW63,$AY63,$BA63,$BC63),8)","v":0},{"$f":"LARGE(($I63,$K63,$M63,$O63,$Q63,$S63,$U63,$W63,$Y63,$AA63,$AC63,$AE63,$AG63,$AI63,$AK63,$AM63,$AO63,$AQ63,$AS63,$AU63,$AW63,$AY63,$BA63,$BC63),9)","v":0},{"$f":"LARGE(($I63,$K63,$M63,$O63,$Q63,$S63,$U63,$W63,$Y63,$AA63,$AC63,$AE63,$AG63,$AI63,$AK63,$AM63,$AO63,$AQ63,$AS63,$AU63,$AW63,$AY63,$BA63,$BC63),10)","v":0}]
[60,null,null,null,0,0,0,null,{"$f":"LOOKUP(H64,Poängberäkning!$B$6:$B$97,Poängberäkning!$C$6:$C$97)","v":0},null,{"$f":"LOOKUP(J64,Poängberäkning!$B$6:$B$97,Poängberäkning!$C$6:$C$97)","v":0},null,{"$f":"LOOKUP(L64,Poängberäkning!$B$6:$B$97,Poängberäkning!$C$6:$C$97)","v":0},null,{"$f":"LOOKUP(N64,Poängberäkning!$B$6:$B$97,Poängberäkning!$C$6:$C$97)","v":0},null,{"$f":"LOOKUP(P64,Poängberäkning!$B$6:$B$97,Poängberäkning!$C$6:$C$97)","v":0},null,{"$f":"LOOKUP(R64,Poängberäkning!$B$6:$B$97,Poängberäkning!$C$6:$C$97)","v":0},null,{"$f":"LOOKUP(T64,Poängberäkning!$B$6:$B$97,Poängberäkning!$C$6:$C$97)","v":0},null,{"$f":"LOOKUP(V64,Poängberäkning!$B$6:$B$97,Poängberäkning!$C$6:$C$97)","v":0},null,{"$f":"LOOKUP(X64,Poängberäkning!$B$6:$B$97,Poängberäkning!$C$6:$C$97)","v":0},null,{"$f":"LOOKUP(Z64,Poängberäkning!$B$6:$B$97,Poängberäkning!$C$6:$C$97)","v":0},null,{"$f":"LOOKUP(AB64,Poängberäkning!$B$6:$B$97,Poängberäkning!$C$6:$C$97)","v":0},null,{"$f":"LOOKUP(AD64,Poängberäkning!$B$6:$B$97,Poängberäkning!$C$6:$C$97)","v":0},null,{"$f":"LOOKUP(AF64,Poängberäkning!$B$6:$B$97,Poängberäkning!$C$6:$C$97)","v":0},null,{"$f":"LOOKUP(AH64,Poängberäkning!$B$6:$B$97,Poängberäkning!$C$6:$C$97)","v":0},null,{"$f":"LOOKUP(AJ64,Poängberäkning!$B$6:$B$97,Poängberäkning!$C$6:$C$97)","v":0},null,{"$f":"LOOKUP(AL64,Poängberäkning!$B$6:$B$97,Poängberäkning!$C$6:$C$97)","v":0},null,{"$f":"LOOKUP(AN64,Poängberäkning!$B$6:$B$97,Poängberäkning!$C$6:$C$97)","v":0},null,{"$f":"LOOKUP(AP64,Poängberäkning!$B$6:$B$97,Poängberäkning!$C$6:$C$97)","v":0},null,{"$f":"LOOKUP(AR64,Poängberäkning!$B$6:$B$97,Poängberäkning!$C$6:$C$97)","v":0},null,{"$f":"LOOKUP(AT64,Poängberäkning!$B$6:$B$97,Poängberäkning!$C$6:$C$97)","v":0},null,null,null,null,null,null,null,null,{"$f":"LARGE(($I64,$K64,$M64,$O64,$Q64,$S64,$U64,$W64,$Y64,$AA64,$AC64,$AE64,$AG64,$AI64,$AK64,$AM64,$AO64,$AQ64,$AS64,$AU64,$AW64,$AY64,$BA64,$BC64),1)","v":0},{"$f":"LARGE(($I64,$K64,$M64,$O64,$Q64,$S64,$U64,$W64,$Y64,$AA64,$AC64,$AE64,$AG64,$AI64,$AK64,$AM64,$AO64,$AQ64,$AS64,$AU64,$AW64,$AY64,$BA64,$BC64),2)","v":0},{"$f":"LARGE(($I64,$K64,$M64,$O64,$Q64,$S64,$U64,$W64,$Y64,$AA64,$AC64,$AE64,$AG64,$AI64,$AK64,$AM64,$AO64,$AQ64,$AS64,$AU64,$AW64,$AY64,$BA64,$BC64),3)","v":0},{"$f":"LARGE(($I64,$K64,$M64,$O64,$Q64,$S64,$U64,$W64,$Y64,$AA64,$AC64,$AE64,$AG64,$AI64,$AK64,$AM64,$AO64,$AQ64,$AS64,$AU64,$AW64,$AY64,$BA64,$BC64),4)","v":0},{"$f":"LARGE(($I64,$K64,$M64,$O64,$Q64,$S64,$U64,$W64,$Y64,$AA64,$AC64,$AE64,$AG64,$AI64,$AK64,$AM64,$AO64,$AQ64,$AS64,$AU64,$AW64,$AY64,$BA64,$BC64),5)","v":0},{"$f":"LARGE(($I64,$K64,$M64,$O64,$Q64,$S64,$U64,$W64,$Y64,$AA64,$AC64,$AE64,$AG64,$AI64,$AK64,$AM64,$AO64,$AQ64,$AS64,$AU64,$AW64,$AY64,$BA64,$BC64),6)","v":0},{"$f":"LARGE(($I64,$K64,$M64,$O64,$Q64,$S64,$U64,$W64,$Y64,$AA64,$AC64,$AE64,$AG64,$AI64,$AK64,$AM64,$AO64,$AQ64,$AS64,$AU64,$AW64,$AY64,$BA64,$BC64),7)","v":0},{"$f":"LARGE(($I64,$K64,$M64,$O64,$Q64,$S64,$U64,$W64,$Y64,$AA64,$AC64,$AE64,$AG64,$AI64,$AK64,$AM64,$AO64,$AQ64,$AS64,$AU64,$AW64,$AY64,$BA64,$BC64),8)","v":0},{"$f":"LARGE(($I64,$K64,$M64,$O64,$Q64,$S64,$U64,$W64,$Y64,$AA64,$AC64,$AE64,$AG64,$AI64,$AK64,$AM64,$AO64,$AQ64,$AS64,$AU64,$AW64,$AY64,$BA64,$BC64),9)","v":0},{"$f":"LARGE(($I64,$K64,$M64,$O64,$Q64,$S64,$U64,$W64,$Y64,$AA64,$AC64,$AE64,$AG64,$AI64,$AK64,$AM64,$AO64,$AQ64,$AS64,$AU64,$AW64,$AY64,$BA64,$BC64),10)","v":0}]
[]
[]
[]
[]
[]
[]
[]
[]
[]
[]
[]
[]
[]
[]
[]
[]
[]
[]
[]
[]
[]
[]
[]
[]
[]
[]
[]
[]
[]
[]
[]
[]
[]
[]
[]
[]
[]
[]
[]
[]
[]
[]
[]
[]
[]
[]
[]
[]
[]
[]
[]
[]
[]
[]
[]
[]
[]
[]
[]
[]
[]
[]
[]
[]
[]
[]
[]
[]
[]
[]
[]
[]
[]
[]
[]
[]
[]
[]
[]
[]
[]
[]
[]
[]
[]
[]
[]
[]
[]
[]
[]
[]
[]
[]
[]
[]
[]
[]
[]
[]
[]
[]
[]
[]
[]
[]
[]
[]
[]
[]
[]
[]
[]
[]
[]
[]
[]
[]
[]
[]
[]
[]
[]
[]
[]
[]
[]
[]
[]
[]
[]
[]
[]
[]
[]
[]
[]
[]
[]
[]
[]
[]
[]
[]
[]
[]
[]
[]
[]
[]
[]
[]
[]
[]
[]
[]
[]
[]
[]
[]
[]
[]
[]
[]
[]
[]
[]
[]
[]
[]
[]
[]
[]
[]
[]
[]
[]
[]
[]
[]
[]
[]
[]
[]
[]
[]
[]
[]
[]
[]
[]
[]
[]
[]
[]
[]
[]
[]
[]
[]
[]
[]
[]
[]
[]
[]
[]
[]
[]
[]
[]
[]
[]
[]
[]
[]
[]
[]
[]
[]
[]
[]
[]
[]
[]
[]
[]
[]
[]
[]
[]
[]
[]
[]
[]
[]
[]
[]
[]
[]
[]
[]
[]
[]
[]
[]
[]
[]
[]
[]
[]
[]
[]
[]
[]
[]
[]
[]
[]
[]
[]
[]
[]
[]
[]
[]
[]
[]
[]
[]
[]
[]
[]
[]
[]
[]
[]
[]
[]
[]
[]
[]
[]
[]
[]
[]
[]
[]
[]
[]
[]
[]
[]
[]
[]
[]
[]
[]
[]
[]
[]
[]
[]
[]
[]
[]
[]
[]
[]
[]
[]
[]
[]
[]
[]
[]
[]
[]
[]
[]
[]
[]
[]
[]
[]
[]
[]
[]
[]
[]
[]
[]
[]
[]
[]
[]
[]
[]
[]
[]
[]
[]
[]
[]
[]
[]
[]
[]
[]
[]
[]
[]
[]
[]
[]
[]
[]
[]
[]
[]
[]
[]
[]
[]
[]
[]
[]
[]
[]
[]
[]
[]
[]
[]
[]
[]
[]
[]
[]
[]
[]
[]
[]
[]
[]
[]
[]
[]
[]
[]
[]
[]
[]
[]
[]
[]
[]
[]
[]
[]
[]
[]
[]
[]
[]
[]
[]
[]
[]
[]
[]
[]
[]
[]
[]
[]
[]
[]
[]
[]
[]
[]
[]
[]
[]
[]
[]
[]
[]
[]
[]
[]
[]
[]
[]
[]
[]
[]
[]
[]
[]
[]
[]
[]
[]
[]
[]
[]
[]
[]
[]
[]
[]
[]
[]
[]
[]
[]
[]
[]
[]
[]
[]
[]
[]
[]
[]
[]
[]
[]
[]
[]
[]
[]
[]
[]
[]
[]
[]
[]
[]
[]
[]
[]
[]
[]
[]
[]
[]
[]
[]
[]
[]
[]
[]
[]
[]
[]
[]
[]
[]
[]
[]
[]
[]
[]
[]
[]
[]
[]
[]
[]
[]
[]
[]
[]
[]
[]
[]
[]
[]
[]
[]
[]
[]
[]
[]
[]
[]
[]
[]
[]
[]
[]
[]
[]
[]
[]
[]
[]
[]
[]
[]
[]
[]
[]
[]
[]
[]
[]
[]
[]
[]
[]
[]
[]
[]
[]
[]
[]
[]
[]
[]
[]
[]
[]
[]
[]
[]
[]
[]
[]
[]
[]
[]
[]
[]
[]
[]
[]
[]
[]
[]
[]
[]
[]
[]
[]
[]
[]
[]
[]
[]
[]
[]
[]
[]
[]
[]
[]
[]
[]
[]
[]
[]
[]
[]
[]
[]
[]
[]
[]
[]
[]
[]
[]
[]
[]
[]
[]
[]
[]
[]
[]
[]
[]
[]
[]
[]
[]
[]
[]
[]
[]
[]
[]
[]
[]
[]
[]
[]
[]
[]
[]
[]
[]
[]
[]
[]
[]
[]
[]
[]
[]
[]
[]
[]
[]
[]
[]
[]
[]
[]
[]
[]
[]
[]
[]
[]
[]
[]
[]
[]
[]
[]
[]
[]
[]
[]
[]
[]
[]
[]
[]
[]
[]
[]
[]
[]
[]
[]
[]
[]
[]
[]
[]
[]
[]
[]
[]
[]
[]
[]
[]
[]
[]
[]
[]
[]
[]
[]
[]
[]
[]
[]
[]
[]
[]
[]
[]
[]
[]
[]
[]
[]
[]
[]
[]
[]
[]
[]
[]
[]
[]
[]
[]
[]
[]
[]
[]
[]
[]
[]
[]
[]
[]
[]
[]
[]
[]
[]
[]
[]
[]
[]
[]
[]
[]
[]
[]
[]
[]
[]
[]
[]
[]
[]
[]
[]
[]
[]
[]
[]
[]
[]
[]
[]
[]
[]
[]
[]
[]
[]
[]
[]
[]
[]
[]
[]
[]
[]
[]
[]
[]
[]
[]
[]
[]
[]
[]
[]
[]
[]
[]
[]
[]
[]
[]
[]
[]
[]
[]
[]
[]
[]
[]
[]
[]
[]
[]
[]
[]
[]
[]
[]
[]
[]
[]
[]
[]
[]
[]
[]
[]
[]
[]
[]
[]
[]
[]
[]
[]
[]
[]
[]
[]
[]
[]
[]
[]
[]
[]
[]
[]
[]
[]
[]
[]
[]
[]
[]
[]
[]
[]
[]
[]
[]
[]
[]
[]
[]
[]
[]
[]
[]
[]
[]
[]
[]
[]
[]
[]
[]
[]
[]
[]
[]
[]
[]
[]
[]
[]
[]
[]
[]
[]
[]
[]
[]
[]
[]
[]
[]
[]
[]
[]
[]
[]
[]
[]
[]
[]
[]
[]
[]
[]
[]
[]
[]
[]
[]
[]
[]
[]
[]
[]
[]
[]
[]
[]
[]
[]
[]
[]
[]
[]
[]
[]
[]
[]
[]
[]
[]
[]
[]
[]
[]
[]
[]
[]
[]
[]
[]
[]
[]
[]
[]
[]
[]
[]
[]
[]
[]
[]
[]
[]
[]
[]
[]
[]
[]
[]
[]
[]
[]
[]
[]
[]
[]
[]
[]
[]
[]
[]
[]
[]
[]
[]
[]
[]
[]
[]
[]
[]
[]
[]
[]
[]
[]
[]
[]
[]
[]
[]
[]
[]
[]
[]
[]
[]
[]
[]
[]
[]
[]
[]
[]
[]
[]
[]
[]
[]
[]
[]
[]
[]
[]
[]
[]
[]
[]
[]
[]
[]
[]
[]
[]
[]
[]
[]
[]
[]
[]
[]
[]
[]
[]
[]
[]
[]
[]
[]
[]
[]
[]
[]
[]
[]
[]
[]
[]
[]
[]
[]
[]
[]
[]
[]
[]
[]
[]
[]
[]
[]
[]
[]
[]
[]
[]
[]
[]
[]
[]
[]
[]
[]
[]
[]
[]
[]
[]
[]
[]
[]
[]
[]
[]
[]
[]
[]
[]
[]
[]
[]
[]
[]
[]
[]
[]
[]
[]
[]
[]
[]
[]
[]
[]
[]
[]
[]
[]
[]
[]
[]
[]
[]
[]
[]
[]
[]
[]
[]
[]
[]
[]
[]
[]
[]
[]
[]
[]
[]
[]
[]
[]
[]
[]
[]
[]
[]
[]
[]
[]
[]
[]
[]
[]
[]
[]
[]
[]
[]
[]
[]
[]
[]
[]
[]
[]
[]
[]
[]
[]
[]
[]
[]
[]
[]
[]
[]
[]
[]
[]
[]
[]
[]
[]
[]
[]
[]
[]
[]
[]
[]
[]
[]
[]
[]
[]
[]
[]
[]
[]
[]
[]
[]
[]
[]
[]
[]
[]
[]
[]
[]
[]
[]
[]
[]
[]
[]
[]
[]
[]
[]
[]
[]
[]
[]
[]
[]
[]
[]
[]
[]
[]
[]
[]
[]
[]
[]
[]
[]
[]
[]
[]
[]
[]
[]
[]
[]
[]
[]
[]
[]
[]
[]
[]
[]
[]
[]
[]
[]
[]
[]
[]
[]
[]
[]
[]
[]
[]
[]
[]
[]
[]
[]
[]
[]
[]
[]
[]
[]
[]
[]
[]
[]
[]
[]
[]
[]
[]
[]
[]
[]
[]
[]
[]
[]
[]
[]
[]
[]
[]
[]
[]
[]
[]
[]
[]
[]
[]
[]
[]
[]
[]
[]
[]
[]
[]
[]
[]
[]
[]
[]
[]
[]
[]
[]
[]
[]
[]
[]
[]
[]
[]
[]
[]
[]
[]
[]
[]
[]
[]
[]
[]
[]
[]
[]
[]
[]
[]
[]
[]
[]
[]
[]
[]
[]
[]
[]
[]
[]
[]
[]
[]
[]
[]
[]
[]
[]
[]
[]
[]
[]
[]
[]
[]
[]
[]
[]
[]
[]
[]
[]
[]
[]
[]
[]
[]
[]
[]
[]
[]
[]
[]
[]
[]
[]
[]
[]
[]
[]
[]
[]
[]
[]
[]
[]
[]
[]
[]
[]
[]
[]
[]
[]
[]
[]
[]
[]
[]
[]
[]
[]
[]
[]
[]
[]
[]
[]
[]
[]
[]
[]
[]
[]
[]
[]
[]
[]
[]
[]
[]
[]
[]
[]
[]
[]
[]
[]
[]
[]
[]
[]
[]
[]
[]
[]
[]
[]
[]
[]
[]
[]
[]
[]
[]
[]
[]
[]
[]
[]
[]
[]
[]
[]
[]
[]
[]
[]
[]
[]
[]
[]
[]
[]
[]
[]
[]
[]
[]
[]
[]
[]
[]
[]
[]
[]
[]
[]
[]
[]
[]
[]
[]
[]
[]
[]
[]
[]
[]
[]
[]
[]
[]
[]
[]
[]
[]
[]
[]
[]
[]
[]
[]
[]
[]
[]
[]
[]
[]
[]
[]
[]
[]
[]
[]
[]
[]
[]
[]
[]
[]
[]
[]
[]
[]
[]
[]
[]
[]
[]
[]
[]
[]
[]
[]
[]
[]
[]
[]
[]
[]
[]
[]
[]
[]
[]
[]
[]
[]
[]
[]
[]
[]
[]
[]
[]
[]
[]
[]
[]
[]
[]
[]
[]
[]
[]
[]
[]
[]
[]
[]
[]
[]
[]
[]
[]
[]
[]
[]
[]
[]
[]
[]
[]
[]
[]
[]
[]
[]
[]
[]
[]
[]
[]
[]
[]
[]
[]
[]
[]
[]
[]
[]
[]
[]
[]
[]
[]
[]
[]
[]
[]
[]
[]
[]
[]
[]
[]
[]
[]
[]
[]
[]
[]
[]
[]
[]
[]
[]
[]
[]
[]
[]
[]
[]
[]
[]
[]
[]
[]
[]
[]
[]
[]
[]
[]
[]
[]
[]
[]
[]
[]
[]
[]
[]
[]
[]
[]
[]
[]
[]
[]
[]
[]
[]
[]
[]
[]
[]
[]
[]
[]
[]
[]
[]
[]
[]
[]
[]
[]
[]
[]
[]
[]
[]
[]
[]
[]
[]
[]
[]
[]
[]
[]
[]
[]
[]
[]
[]
[]
[]
[]
[]
[]
[]
[]
[]
[]
[]
[]
[]
[]
[]
[]
[]
[]
[]
[]
[]
[]
[]
[]
[]
[]
[]
[]
[]
[]
[]
[]
[]
[]
[]
[]
[]
[]
[]
[]
[]
[]
[]
[]
[]
[]
[]
[]
[]
[]
[]
[]
[]
[]
[]
[]
[]
[]
[]
[]
[]
[]
[]
[]
[]
[]
[]
[]
[]
[]
[]
[]
[]
[]
[]
[]
[]
[]
[]
[]
[]
[]
[]
[]
[]
[]
[]
[]
[]
[]
[]
[]
[]
[]
[]
[]
[]
[]
[]
[]
[]
[]
[]
[]
[]
[]
[]
[]
[]
[]
[]
[]
[]
[]
[]
[]
[]
[]
[]
[]
[]
[]
[]
[]
[]
[]
[]
[]
[]
[]
[]
[]
[]
[]
[]
[]
[]
[]
[]
[]
[]
[]
[]
[]
[]
[]
[]
[]
[]
[]
[]
[]
[]
[]
[]
[]
[]
[]
[]
[]
[]
[]
[]
[]
[]
[]
[]
[]
[]
[]
[]
[]
[]
[]
[]
[]
[]
[]
[]
[]
[]
[]
[]
[]
[]
[]
[]
[]
[]
[]
[]
[]
[]
[]
[]
[]
[]
[]
[]
[]
[]
[]
[]
[]
[]
[]
[]
[]
[]
[]
[]
[]
[]
[]
[]
[]
[]
[]
[]
[]
[]
[]
[]
[]
[]
[]
[]
[]
[]
[]
[]
[]
[]
[]
[]
[]
[]
[]
[]
[]
[]
[]
[]
[]
[]
[]
[]
[]
[]
[]
[]
[]
[]
[]
[]
[]
[]
[]
[]
[]
[]
[]
[]
[]
[]
[]
[]
[]
[]
[]
[]
[]
[]
[]
[]
[]
[]
[]
[]
[]
[]
[]
[]
[]
[]
[]
[]
[]
[]
[]
[]
[]
[]
[]
[]
[]
[]
[]
[]
[]
[]
[]
[]
[]
[]
[]
[]
[]
[]
[]
[]
[]
[]
[]
[]
[]
[]
[]
[]
[]
[]
[]
[]
[]
[]
[]
[]
[]
[]
[]
[]
[]
[]
[]
[]
[]
[]
[]
[]
[]
[]
[]
[]
[]
[]
[]
[]
[]
[]
[]
[]
[]
[]
[]
[]
[]
[]
[]
[]
[]
[]
[]
[]
[]
[]
[]
[]
[]
[]
[]
[]
[]
[]
[]
[]
[]
[]
[]
[]
[]
[]
[]
[]
[]
[]
[]
[]
[]
[]
[]
[]
[]
[]
[]
[]
[]
[]
[]
[]
[]
[]
[]
[]
[]
[]
[]
[]
[]
[]
[]
[]
[]
[]
[]
[]
[]
[]
[]
[]
[]
[]
[]
[]
[]
[]
[]
[]
[]
[]
[]
[]
[]
[]
[]
[]
[]
[]
[]
[]
[]
[]
[]
[]
[]
[]
[]
[]
[]
[]
[]
[]
[]
[]
[]
[]
[]
[]
[]
[]
[]
[]
[]
[]
[]
[]
[]
[]
[]
[]
[]
[]
[]
[]
[]
[]
[]
[]
[]
[]
[]
[]
[]
[]
[]
[]
[]
[]
[]
[]
[]
[]
[]
[]
[]
[]
[]
[]
[]
[]
[]
[]
[]
[]
[]
[]
[]
[]
[]
[]
[]
[]
[]
[]
[]
[]
[]
[]
[]
[]
[]
[]
[]
[]
[]
[]
[]
[]
[]
[]
[]
[]
[]
[]
[]
[]
[]
[]
[]
[]
[]
[]
[]
[]
[]
[]
[]
[]
[]
[]
[]
[]
[]
[]
[]
[]
[]
[]
[]
[]
[]
[]
[]
[]
[]
[]
[]
[]
[]
[]
[]
[]
[]
[]
[]
[]
[]
[]
[]
[]
[]
[]
[]
[]
[]
[]
[]
[]
[]
[]
[]
[]
[]
[]
[]
[]
[]
[]
[]
[]
[]
[]
[]
[]
[]
[]
[]
[]
[]
[]
[]
[]
[]
[]
[]
[]
[]
[]
[]
[]
[]
[]
[]
[]
[]
[]
[]
[]
[]
[]
[]
[]
[]
[]
[]
[]
[]
[]
[]
[]
[]
[]
[]
[]
[]
[]
[]
[]
[]
[]
[]
[]
[]
[]
[]
[]
[]
[]
[]
[]
[]
[]
[]
[]
[]
[]
[]
[]
[]
[]
[]
[]
[]
[]
[]
[]
[]
[]
[]
[]
[]
[]
[]
[]
[]
[]
[]
[]
[]
[]
[]
[]
[]
[]
[]
[]
[]
[]
[]
[]
[]
[]
[]
[]
[]
[]
[]
[]
[]
[]
[]
[]
[]
[]
[]
[]
[]
[]
[]
[]
[]
[]
[]
[]
[]
[]
[]
[]
[]
[]
[]
[]
[]
[]
[]
[]
[]
[]
[]
[]
[]
[]
[]
[]
[]
[]
[]
[]
[]
[]
[]
[]
[]
[]
[]
[]
[]
[]
[]
[]
[]
[]
[]
[]
[]
[]
[]
[]
[]
[]
[]
[]
[]
[]
[]
[]
[]
[]
[]
[]
[]
[]
[]
[]
[]
[]
[]
[]
[]
[]
[]
[]
[]
[]
[]
[]
[]
[]
[]
[]
[]
[]
[]
[]
[]
[]
[]
[]
[]
[]
[]
[]
[]
[]
[]
[]
[]
[]
[]
[]
[]
[]
[]
[]
[]
[]
[]
[]
[]
[]
[]
[]
[]
[]
[]
[]
[]
[]
[]
[]
[]
[]
[]
[]
[]
[]
[]
[]
[]
[]
[]
[]
[]
[]
[]
[]
[]
[]
[]
[]
[]
[]
[]
[]
[]
[]
[]
[]
[]
[]
[]
[]
[]
[]
[]
[]
[]
[]
[]
[]
[]
[]
[]
[]
[]
[]
[]
[]
[]
[]
[]
[]
[]
[]
[]
[]
[]
[]
[]
[]
[]
[]
[]
[]
[]
[]
[]
[]
[]
[]
[]
[]
[]
[]
[]
[]
[]
[]
[]
[]
[]
[]
[]
[]
[]
[]
[]
[]
[]
[]
[]
[]
[]
[]
[]
[]
[]
[]
[]
[]
[]
[]
[]
[]
[]
[]
[]
[]
[]
[]
[]
[]
[]
[]
[]
[]
[]
[]
[]
[]
[]
[]
[]
[]
[]
[]
[]
[]
[]
[]
[]
[]
[]
[]
[]
[]
[]
[]
[]
[]
[]
[]
[]
[]
[]
[]
[]
[]
[]
[]
[]
[]
[]
[]
[]
[]
[]
[]
[]
[]
[]
[]
[]
[]
[]
[]
[]
[]
[]
[]
[]
[]
[]
[]
[]
[]
[]
[]
[]
[]
[]
[]
[]
[]
[]
[]
[]
[]
[]
[]
[]
[]
[]
[]
[]
[]
[]
[]
[]
[]
[]
[]
[]
[]
[]
[]
[]
[]
[]
[]
[]
[]
[]
[]
[]
[]
[]
[]
[]
[]
[]
[]
[]
[]
[]
[]
[]
[]
[]
[]
[]
[]
[]
[]
[]
[]
[]
[]
[]
[]
[]
[]
[]
[]
[]
[]
[]
[]
[]
[]
[]
[]
[]
[]
[]
[]
[]
[]
[]
[]
[]
[]
[]
[]
[]
[]
[]
[]
[]
[]
[]
[]
[]
[]
[]
[]
[]
[]
[]
[]
[]
[]
[]
[]
[]
[]
[]
[]
[]
[]
[]
[]
[]
[]
[]
[]
[]
[]
[]
[]
[]
[]
[]
[]
[]
[]
[]
[]
[]
[]
[]
[]
[]
[]
[]
[]
[]
[]
[]
[]
[]
[]
[]
[]
[]
[]
[]
[]
[]
[]
[]
[]
[]
[]
[]
[]
[]
[]
[]
[]
[]
[]
[]
[]
[]
[]
[]
[]
[]
[]
[]
[]
[]
[]
[]
[]
[]
[]
[]
[]
[]
[]
[]
[]
[]
[]
[]
[]
[]
[]
[]
[]
[]
[]
[]
[]
[]
[]
[]
[]
[]
[]
[]
[]
[]
[]
[]
[]
[]
[]
[]
[]
[]
[]
[]
[]
[]
[]
[]
[]
[]
[]
[]
[]
[]
[]
[]
[]
[]
[]
[]
[]
[]
[]
[]
[]
[]
[]
[]
[]
[]
[]
[]
[]
[]
[]
[]
[]
[]
[]
[]
[]
[]
[]
[]
[]
[]
[]
[]
[]
[]
[]
[]
[]
[]
[]
[]
[]
[]
[]
[]
[]
[]
[]
[]
[]
[]
[]
[]
[]
[]
[]
[]
[]
[]
[]
[]
[]
[]
[]
[]
[]
[]
[]
[]
[]
[]
[]
[]
[]
[]
[]
[]
[]
[]
[]
[]
[]
[]
[]
[]
[]
[]
[]
[]
[]
[]
[]
[]
[]
[]
[]
[]
[]
[]
[]
[]
[]
[]
[]
[]
[]
[]
[]
[]
[]
[]
[]
[]
[]
[]
[]
[]
[]
[]
[]
[]
[]
[]
[]
[]
[]
[]
[]
[]
[]
[]
[]
[]
[]
[]
[]
[]
[]
[]
[]
[]
[]
[]
[]
[]
[]
[]
[]
[]
[]
[]
[]
[]
[]
[]
[]
[]
[]
[]
[]
[]
[]
[]
[]
[]
[]
[]
[]
[]
[]
[]
[]
[]
[]
[]
[]
[]
[]
[]
[]
[]
[]
[]
[]
[]
[]
[]
[]
[]
[]
[]
[]
[]
[]
[]
[]
[]
[]
[]
[]
[]
[]
[]
[]
[]
[]
[]
[]
[]
[]
[]
[]
[]
[]
[]
[]
[]
[]
[]
[]
[]
[]
[]
[]
[]
[]
[]
[]
[]
[]
[]
[]
[]
[]
[]
[]
[]
[]
[]
[]
[]
[]
[]
[]
[]
[]
[]
[]
[]
[]
[]
[]
[]
[]
[]
[]
[]
[]
[]
[]
[]
[]
[]
[]
[]
[]
[]
[]
[]
[]
[]
[]
[]
[]
[]
[]
[]
[]
[]
[]
[]
[]
[]
[]
[]
[]
[]
[]
[]
[]
[]
[]
[]
[]
[]
[]
[]
[]
[]
[]
[]
[]
[]
[]
[]
[]
[]
[]
[]
[]
[]
[]
[]
[]
[]
[]
[]
[]
[]
[]
[]
[]
[]
[]
[]
[]
[]
[]
[]
[]
[]
[]
[]
[]
[]
[]
[]
[]
[]
[]
[]
[]
[]
[]
[]
[]
[]
[]
[]
[]
[]
[]
[]
[]
[]
[]
[]
[]
[]
[]
[]
[]
[]
[]
[]
[]
[]
[]
[]
[]
[]
[]
[]
[]
[]
[]
[]
[]
[]
[]
[]
[]
[]
[]
[]
[]
[]
[]
[]
[]
[]
[]
[]
[]
[]
[]
[]
[]
[]
[]
[]
[]
[]
[]
[]
[]
[]
[]
[]
[]
[]
[]
[]
[]
[]
[]
[]
[]
[]
[]
[]
[]
[]
[]
[]
[]
[]
[]
[]
[]
[]
[]
[]
[]
[]
[]
[]
[]
[]
[]
[]
[]
[]
[]
[]
[]
[]
[]
[]
[]
[]
[]
[]
[]
[]
[]
[]
[]
[]
[]
[]
[]
[]
[]
[]
[]
[]
[]
[]
[]
[]
[]
[]
[]
[]
[]
[]
[]
[]
[]
[]
[]
[]
[]
[]
[]
[]
[]
[]
[]
[]
[]
[]
[]
[]
[]
[]
[]
[]
[]
[]
[]
[]
[]
[]
[]
[]
[]
[]
[]
[]
[]
[]
[]
[]
[]
[]
[]
[]
[]
[]
[]
[]
[]
[]
[]
[]
[]
[]
[]
[]
[]
[]
[]
[]
[]
[]
[]
[]
[]
[]
[]
[]
[]
[]
[]
[]
[]
[]
[]
[]
[]
[]
[]
[]
[]
[]
[]
[]
[]
[]
[]
[]
[]
[]
[]
[]
[]
[]
[]
[]
[]
[]
[]
[]
[]
[]
[]
[]
[]
[]
[]
[]
[]
[]
[]
[]
[]
[]
[]
[]
[]
[]
[]
[]
[]
[]
[]
[]
[]
[]
[]
[]
[]
[]
[]
[]
[]
[]
[]
[]
[]
[]
[]
[]
[]
[]
[]
[]
[]
[]
[]
[]
[]
[]
[]
[]
[]
[]
[]
[]
[]
[]
[]
[]
[]
[]
[]
[]
[]
[]
[]
[]
[]
[]
[]
[]
[]
[]
[]
[]
[]
[]
[]
[]
[]
[]
[]
[]
[]
[]
[]
[]
[]
[]
[]
[]
[]
[]
[]
[]
[]
[]
[]
[]
[]
[]
[]
[]
[]
[]
[]
[]
[]
[]
[]
[]
[]
[]
[]
[]
[]
[]
[]
[]
[]
[]
[]
[]
[]
[]
[]
[]
[]
[]
[]
[]
[]
[]
[]
[]
[]
[]
[]
[]
[]
[]
[]
[]
[]
[]
[]
[]
[]
[]
[]
[]
[]
[]
[]
[]
[]
[]
[]
[]
[]
[]
[]
[]
[]
[]
[]
[]
[]
[]
[]
[]
[]
[]
[]
[]
[]
[]
[]
[]
[]
[]
[]
[]
[]
[]
[]
[]
[]
[]
[]
[]
[]
[]
[]
[]
[]
[]
[]
[]
[]
[]
[]
[]
[]
[]
[]
[]
[]
[]
[]
[]
[]
[]
[]
[]
[]
[]
[]
[]
[]
[]
[]
[]
[]
[]
[]
[]
[]
[]
[]
[]
[]
[]
[]
[]
[]
[]
[]
[]
[]
[]
[]
[]
[]
[]
[]
[]
[]
[]
[]
[]
[]
[]
[]
[]
[]
[]
[]
[]
[]
[]
[]
[]
[]
[]
[]
[]
[]
[]
[]
[]
[]
[]
[]
[]
[]
[]
[]
[]
[]
[]
[]
[]
[]
[]
[]
[]
[]
[]
[]
[]
[]
[]
[]
[]
[]
[]
[]
[]
[]
[]
[]
[]
[]
[]
[]
[]
[]
[]
[]
[]
[]
[]
[]
[]
[]
[]
[]
[]
[]
[]
[]
[]
[]
[]
[]
[]
[]
[]
[]
[]
[]
[]
[]
[]
[]
[]
[]
[]
[]
[]
[]
[]
[]
[]
[]
[]
[]
[]
[]
[]
[]
[]
[]
[]
[]
[]
[]
[]
[]
[]
[]
[]
[]
[]
[]
[]
[]
[]
[]
[]
[]
[]
[]
[]
[]
[]
[]
[]
[]
[]
[]
[]
[]
[]
[]
[]
[]
[]
[]
[]
[]
[]
[]
[]
[]
[]
[]
[]
[]
[]
[]
[]
[]
[]
[]
[]
[]
[]
[]
[]
[]
[]
[]
[]
[]
[]
[]
[]
[]
[]
[]
[]
[]
[]
[]
[]
[]
[]
[]
[]
[]
[]
[]
[]
[]
[]
[]
[]
[]
[]
[]
[]
[]
[]
[]
[]
[]
[]
[]
[]
[]
[]
[]
[]
[]
[]
[]
[]
[]
[]
[]
[]
[]
[]
[]
[]
[]
[]
[]
[]
[]
[]
[]
[]
[]
[]
[]
[]
[]
[]
[]
[]
[]
[]
[]
[]
[]
[]
[]
[]
[]
[]
[]
[]
[]
[]
[]
[]
[]
[]
[]
[]
[]
[]
[]
[]
[]
[]
[]
[]
[]
[]
[]
[]
[]
[]
[]
[]
[]
[]
[]
[]
[]
[]
[]
[]
[]
[]
[]
[]
[]
[]
[]
[]
[]
[]
[]
[]
[]
[]
[]
[]
[]
[]
[]
[]
[]
[]
[]
[]
[]
[]
[]
[]
[]
[]
[]
[]
[]
[]
[]
[]
[]
[]
[]
[]
[]
[]
[]
[]
[]
[]
[]
[]
[]
[]
[]
[]
[]
[]
[]
[]
[]
[]
[]
[]
[]
[]
[]
[]
[]
[]
[]
[]
[]
[]
[]
[]
[]
[]
[]
[]
[]
[]
[]
[]
[]
[]
[]
[]
[]
[]
[]
[]
[]
[]
[]
[]
[]
[]
[]
[]
[]
[]
[]
[]
[]
[]
[]
[]
[]
[]
[]
[]
[]
[]
[]
[]
[]
[]
[]
[]
[]
[]
[]
[]
[]
[]
[]
[]
[]
[]
[]
[]
[]
[]
[]
[]
[]
[]
[]
[]
[]
[]
[]
[]
[]
[]
[]
[]
[]
[]
[]
[]
[]
[]
[]
[]
[]
[]
[]
[]
[]
[]
[]
[]
[]
[]
[]
[]
[]
[]
[]
[]
[]
[]
[]
[]
[]
[]
[]
[]
[]
[]
[]
[]
[]
[]
[]
[]
[]
[]
[]
[]
[]
[]
[]
[]
[]
[]
[]
[]
[]
[]
[]
[]
[]
[]
[]
[]
[]
[]
[]
[]
[]
[]
[]
[]
[]
[]
[]
[]
[]
[]
[]
[]
[]
[]
[]
[]
[]
[]
[]
[]
[]
[]
[]
[]
[]
[]
[]
[]
[]
[]
[]
[]
[]
[]
[]
[]
[]
[]
[]
[]
[]
[]
[]
[]
[]
[]
[]
[]
[]
[]
[]
[]
[]
[]
[]
[]
[]
[]
[]
[]
[]
[]
[]
[]
[]
[]
[]
[]
[]
[]
[]
[]
[]
[]
[]
[]
[]
[]
[]
[]
[]
[]
[]
[]
[]
[]
[]
[]
[]
[]
[]
[]
[]
[]
[]
[]
[]
[]
[]
[]
[]
[]
[]
[]
[]
[]
[]
[]
[]
[]
[]
[]
[]
[]
[]
[]
[]
[]
[]
[]
[]
[]
[]
[]
[]
[]
[]
[]
[]
[]
[]
[]
[]
[]
[]
[]
[]
[]
[]
[]
[]
[]
[]
[]
[]
[]
[]
[]
[]
[]
[]
[]
[]
[]
[]
[]
[]
[]
[]
[null,null,null,null,null,null,null,null,null,null,null,null,null,null,null,null,null,null,null,null,null,null,null,null,null,null,null,null,null,null,null,null,null,null,null,null,null,null,null,null,null,null,null,null,null,null,null,null,null,null,null,null,null,null,null,{"$f":"SUM(BD1:BD1048575)","v":1301}]

{"sheet":"H U-15","index":2,"n_rows":1048576,"n_cols":65,"rows_kept":4500,"cut":true,"hidden":false,"merged":[[3,41,3,42],[3,31,3,32],[3,33,3,34],[3,35,3,36],[3,37,3,38],[3,39,3,40],[3,29,3,30],[3,7,3,8],[3,9,3,10],[3,11,3,12],[3,13,3,14],[3,15,3,16],[3,17,3,18],[3,19,3,20],[3,21,3,22],[3,23,3,24],[3,25,3,26],[3,27,3,28],[2,55,3,66],[3,43,3,44],[3,45,3,46],[3,47,3,48],[3,49,3,50],[2,43,2,46],[2,47,2,50],[2,51,2,54],[3,51,3,52],[3,53,3,54],[0,0,0,54],[1,0,1,54],[2,2,2,3],[2,7,2,10],[2,11,2,14],[2,15,2,18],[2,19,2,22],[2,23,2,26],[2,27,2,30],[2,31,2,34],[2,35,2,38],[2,39,2,42]],"bounds":{"rows_first":2000,"rows_last":500,"rows_between":2000,"halvings":0},"read":"row_number_cap"}
["USM-kval region 3 2015"]
["Herrar U-15",null,null,null,null,null,null,null,null,null,null,null,null,null,null,null,null,null,null,null,null,null,null,null,null,null,null,null,null,null,null,null,null,null,null,null,null,null,null,null,null,null,null,null,null,null,null,null,null,null,null,null,null,null,null,"1:a","2:a","3:e","4:e","5:e","6:e","7:e","8:e","9:e","10:e"]
[null,null," ",null,"Topp 10","Topp 10","Totalt","Falun SL 1",null,null,null,"Falun SL 2",null,null,null,"Idre SL 3",null,null,null,"Idre SL 4",null,null,null,"Borlänge GS 1",null,null,null,"Borlänge GS 2",null,null,null,"Valfjället GS",null,null,null,"Valfjället GS",null,null,null,"Duved DH",null,null,null,"Duved SG",null,null,null,null,null,null,null,null,null,null,null,"De 10 bästa åken.                         "]
["Rang","Född","Namn","Klubb","Bästa åk","Bästa åk","Poäng","10/1  Åk1",null,"10/1  Åk2",null,"11/1  Åk 1",null,"11/1 Åk 2",null,"17/1  Åk 1",null,"17/1 Åk 2",null,"18/1 Åk 1",null,"18/1  Åk2",null,"31/1  Åk 1",null,"31/1  Åk 2",null,"31/1  Åk 3",null,"31/1  Åk 4",null,"15/2  Åk 1",null,"15/2  Åk 2",null,"16/2  Åk 1",null,"16/2  Åk 2",null,"1/2  Åk 1",null,"1/2  Åk 2",null,"2/2  Åk 1",null,"2/2  Åk 2"]
[1,2000,"Mikael Semdahl","IFK Borlänge",{"$f":"SUM(BD5:BM5)","v":660},{"$f":"SUM(BD5:BK5)","v":660},{"$f":"I5+K5+M5+O5+Q5+S5+U5+W5+Y5+AA5+AC5+AE5+AG5+AI5+AK5+AM5+AO5+AQ5+AS5+AU5+AW5+AY5+BA5+BC5","v":660},2,{"$f":"LOOKUP(H5,Poängberäkning!$B$6:$B$97,Poängberäkning!$C$6:$C$97)","v":80},1,{"$f":"LOOKUP(J5,Poängberäkning!$B$6:$B$97,Poängberäkning!$C$6:$C$97)","v":100},1,{"$f":"LOOKUP(L5,Poängberäkning!$B$6:$B$97,Poängberäkning!$C$6:$C$97)","v":100},1,{"$f":"LOOKUP(N5,Poängberäkning!$B$6:$B$97,Poängberäkning!$C$6:$C$97)","v":100},1,{"$f":"LOOKUP(P5,Poängberäkning!$B$6:$B$97,Poängberäkning!$C$6:$C$97)","v":100},1,{"$f":"LOOKUP(R5,Poängberäkning!$B$6:$B$97,Poängberäkning!$C$6:$C$97)","v":100},99,{"$f":"LOOKUP(T5,Poängberäkning!$B$6:$B$97,Poängberäkning!$C$6:$C$97)","v":0},2,{"$f":"LOOKUP(V5,Poängberäkning!$B$6:$B$97,Poängberäkning!$C$6:$C$97)","v":80},null,{"$f":"LOOKUP(X5,Poängberäkning!$B$6:$B$97,Poängberäkning!$C$6:$C$97)","v":0},null,{"$f":"LOOKUP(Z5,Poängberäkning!$B$6:$B$97,Poängberäkning!$C$6:$C$97)","v":0},null,{"$f":"LOOKUP(AB5,Poängberäkning!$B$6:$B$97,Poängberäkning!$C$6:$C$97)","v":0},null,{"$f":"LOOKUP(AD5,Poängberäkning!$B$6:$B$97,Poängberäkning!$C$6:$C$97)","v":0},null,{"$f":"LOOKUP(AF5,Poängberäkning!$B$6:$B$97,Poängberäkning!$C$6:$C$97)","v":0},null,{"$f":"LOOKUP(AH5,Poängberäkning!$B$6:$B$97,Poängberäkning!$C$6:$C$97)","v":0},null,{"$f":"LOOKUP(AJ5,Poängberäkning!$B$6:$B$97,Poängberäkning!$C$6:$C$97)","v":0},null,{"$f":"LOOKUP(AL5,Poängberäkning!$B$6:$B$97,Poängberäkning!$C$6:$C$97)","v":0},null,{"$f":"LOOKUP(AN5,Poängberäkning!$B$6:$B$97,Poängberäkning!$C$6:$C$97)","v":0},null,{"$f":"LOOKUP(AP5,Poängberäkning!$B$6:$B$97,Poängberäkning!$C$6:$C$97)","v":0},null,{"$f":"LOOKUP(AR5,Poängberäkning!$B$6:$B$97,Poängberäkning!$C$6:$C$97)","v":0},null,{"$f":"LOOKUP(AT5,Poängberäkning!$B$6:$B$97,Poängberäkning!$C$6:$C$97)","v":0},null,null,null,null,null,null,null,null,{"$f":"LARGE(($I5,$K5,$M5,$O5,$Q5,$S5,$U5,$W5,$Y5,$AA5,$AC5,$AE5,$AG5,$AI5,$AK5,$AM5,$AO5,$AQ5,$AS5,$AU5,$AW5,$AY5,$BA5,$BC5),1)","v":100},{"$f":"LARGE(($I5,$K5,$M5,$O5,$Q5,$S5,$U5,$W5,$Y5,$AA5,$AC5,$AE5,$AG5,$AI5,$AK5,$AM5,$AO5,$AQ5,$AS5,$AU5,$AW5,$AY5,$BA5,$BC5),2)","v":100},{"$f":"LARGE(($I5,$K5,$M5,$O5,$Q5,$S5,$U5,$W5,$Y5,$AA5,$AC5,$AE5,$AG5,$AI5,$AK5,$AM5,$AO5,$AQ5,$AS5,$AU5,$AW5,$AY5,$BA5,$BC5),3)","v":100},{"$f":"LARGE(($I5,$K5,$M5,$O5,$Q5,$S5,$U5,$W5,$Y5,$AA5,$AC5,$AE5,$AG5,$AI5,$AK5,$AM5,$AO5,$AQ5,$AS5,$AU5,$AW5,$AY5,$BA5,$BC5),4)","v":100},{"$f":"LARGE(($I5,$K5,$M5,$O5,$Q5,$S5,$U5,$W5,$Y5,$AA5,$AC5,$AE5,$AG5,$AI5,$AK5,$AM5,$AO5,$AQ5,$AS5,$AU5,$AW5,$AY5,$BA5,$BC5),5)","v":100},{"$f":"LARGE(($I5,$K5,$M5,$O5,$Q5,$S5,$U5,$W5,$Y5,$AA5,$AC5,$AE5,$AG5,$AI5,$AK5,$AM5,$AO5,$AQ5,$AS5,$AU5,$AW5,$AY5,$BA5,$BC5),6)","v":80},{"$f":"LARGE(($I5,$K5,$M5,$O5,$Q5,$S5,$U5,$W5,$Y5,$AA5,$AC5,$AE5,$AG5,$AI5,$AK5,$AM5,$AO5,$AQ5,$AS5,$AU5,$AW5,$AY5,$BA5,$BC5),7)","v":80},{"$f":"LARGE(($I5,$K5,$M5,$O5,$Q5,$S5,$U5,$W5,$Y5,$AA5,$AC5,$AE5,$AG5,$AI5,$AK5,$AM5,$AO5,$AQ5,$AS5,$AU5,$AW5,$AY5,$BA5,$BC5),8)","v":0},{"$f":"LARGE(($I5,$K5,$M5,$O5,$Q5,$S5,$U5,$W5,$Y5,$AA5,$AC5,$AE5,$AG5,$AI5,$AK5,$AM5,$AO5,$AQ5,$AS5,$AU5,$AW5,$AY5,$BA5,$BC5),9)","v":0},{"$f":"LARGE(($I5,$K5,$M5,$O5,$Q5,$S5,$U5,$W5,$Y5,$AA5,$AC5,$AE5,$AG5,$AI5,$AK5,$AM5,$AO5,$AQ5,$AS5,$AU5,$AW5,$AY5,$BA5,$BC5),10)","v":0}]
[{"$f":"A5+1","v":2},2000,"Rickard Forsman","Malungs SLK",{"$f":"SUM(BD6:BM6)","v":628},{"$f":"SUM(BD6:BK6)","v":628},{"$f":"I6+K6+M6+O6+Q6+S6+U6+W6+Y6+AA6+AC6+AE6+AG6+AI6+AK6+AM6+AO6+AQ6+AS6+AU6+AW6+AY6+BA6+BC6","v":628},1,{"$f":"LOOKUP(H6,Poängberäkning!$B$6:$B$97,Poängberäkning!$C$6:$C$97)","v":100},2,{"$f":"LOOKUP(J6,Poängberäkning!$B$6:$B$97,Poängberäkning!$C$6:$C$97)","v":80},2,{"$f":"LOOKUP(L6,Poängberäkning!$B$6:$B$97,Poängberäkning!$C$6:$C$97)","v":80},3,{"$f":"LOOKUP(N6,Poängberäkning!$B$6:$B$97,Poängberäkning!$C$6:$C$97)","v":70},7,{"$f":"LOOKUP(P6,Poängberäkning!$B$6:$B$97,Poängberäkning!$C$6:$C$97)","v":48},2,{"$f":"LOOKUP(R6,Poängberäkning!$B$6:$B$97,Poängberäkning!$C$6:$C$97)","v":80},1,{"$f":"LOOKUP(T6,Poängberäkning!$B$6:$B$97,Poängberäkning!$C$6:$C$97)","v":100},3,{"$f":"LOOKUP(V6,Poängberäkning!$B$6:$B$97,Poängberäkning!$C$6:$C$97)","v":70},null,{"$f":"LOOKUP(X6,Poängberäkning!$B$6:$B$97,Poängberäkning!$C$6:$C$97)","v":0},null,{"$f":"LOOKUP(Z6,Poängberäkning!$B$6:$B$97,Poängberäkning!$C$6:$C$97)","v":0},null,{"$f":"LOOKUP(AB6,Poängberäkning!$B$6:$B$97,Poängberäkning!$C$6:$C$97)","v":0},null,{"$f":"LOOKUP(AD6,Poängberäkning!$B$6:$B$97,Poängberäkning!$C$6:$C$97)","v":0},null,{"$f":"LOOKUP(AF6,Poängberäkning!$B$6:$B$97,Poängberäkning!$C$6:$C$97)","v":0},null,{"$f":"LOOKUP(AH6,Poängberäkning!$B$6:$B$97,Poängberäkning!$C$6:$C$97)","v":0},null,{"$f":"LOOKUP(AJ6,Poängberäkning!$B$6:$B$97,Poängberäkning!$C$6:$C$97)","v":0},null,{"$f":"LOOKUP(AL6,Poängberäkning!$B$6:$B$97,Poängberäkning!$C$6:$C$97)","v":0},null,{"$f":"LOOKUP(AN6,Poängberäkning!$B$6:$B$97,Poängberäkning!$C$6:$C$97)","v":0},null,{"$f":"LOOKUP(AP6,Poängberäkning!$B$6:$B$97,Poängberäkning!$C$6:$C$97)","v":0},null,{"$f":"LOOKUP(AR6,Poängberäkning!$B$6:$B$97,Poängberäkning!$C$6:$C$97)","v":0},null,{"$f":"LOOKUP(AT6,Poängberäkning!$B$6:$B$97,Poängberäkning!$C$6:$C$97)","v":0},null,null,null,null,null,null,null,null,{"$f":"LARGE(($I6,$K6,$M6,$O6,$Q6,$S6,$U6,$W6,$Y6,$AA6,$AC6,$AE6,$AG6,$AI6,$AK6,$AM6,$AO6,$AQ6,$AS6,$AU6,$AW6,$AY6,$BA6,$BC6),1)","v":100},{"$f":"LARGE(($I6,$K6,$M6,$O6,$Q6,$S6,$U6,$W6,$Y6,$AA6,$AC6,$AE6,$AG6,$AI6,$AK6,$AM6,$AO6,$AQ6,$AS6,$AU6,$AW6,$AY6,$BA6,$BC6),2)","v":100},{"$f":"LARGE(($I6,$K6,$M6,$O6,$Q6,$S6,$U6,$W6,$Y6,$AA6,$AC6,$AE6,$AG6,$AI6,$AK6,$AM6,$AO6,$AQ6,$AS6,$AU6,$AW6,$AY6,$BA6,$BC6),3)","v":80},{"$f":"LARGE(($I6,$K6,$M6,$O6,$Q6,$S6,$U6,$W6,$Y6,$AA6,$AC6,$AE6,$AG6,$AI6,$AK6,$AM6,$AO6,$AQ6,$AS6,$AU6,$AW6,$AY6,$BA6,$BC6),4)","v":80},{"$f":"LARGE(($I6,$K6,$M6,$O6,$Q6,$S6,$U6,$W6,$Y6,$AA6,$AC6,$AE6,$AG6,$AI6,$AK6,$AM6,$AO6,$AQ6,$AS6,$AU6,$AW6,$AY6,$BA6,$BC6),5)","v":80},{"$f":"LARGE(($I6,$K6,$M6,$O6,$Q6,$S6,$U6,$W6,$Y6,$AA6,$AC6,$AE6,$AG6,$AI6,$AK6,$AM6,$AO6,$AQ6,$AS6,$AU6,$AW6,$AY6,$BA6,$BC6),6)","v":70},{"$f":"LARGE(($I6,$K6,$M6,$O6,$Q6,$S6,$U6,$W6,$Y6,$AA6,$AC6,$AE6,$AG6,$AI6,$AK6,$AM6,$AO6,$AQ6,$AS6,$AU6,$AW6,$AY6,$BA6,$BC6),7)","v":70},{"$f":"LARGE(($I6,$K6,$M6,$O6,$Q6,$S6,$U6,$W6,$Y6,$AA6,$AC6,$AE6,$AG6,$AI6,$AK6,$AM6,$AO6,$AQ6,$AS6,$AU6,$AW6,$AY6,$BA6,$BC6),8)","v":48},{"$f":"LARGE(($I6,$K6,$M6,$O6,$Q6,$S6,$U6,$W6,$Y6,$AA6,$AC6,$AE6,$AG6,$AI6,$AK6,$AM6,$AO6,$AQ6,$AS6,$AU6,$AW6,$AY6,$BA6,$BC6),9)","v":0},{"$f":"LARGE(($I6,$K6,$M6,$O6,$Q6,$S6,$U6,$W6,$Y6,$AA6,$AC6,$AE6,$AG6,$AI6,$AK6,$AM6,$AO6,$AQ6,$AS6,$AU6,$AW6,$AY6,$BA6,$BC6),10)","v":0}]
[{"$f":"A6+1","v":3},2000,"Edvin Sundberg","Örebro SLF",{"$f":"SUM(BD7:BM7)","v":580},{"$f":"SUM(BD7:BK7)","v":580},{"$f":"I7+K7+M7+O7+Q7+S7+U7+W7+Y7+AA7+AC7+AE7+AG7+AI7+AK7+AM7+AO7+AQ7+AS7+AU7+AW7+AY7+BA7+BC7","v":580},3,{"$f":"LOOKUP(H7,Poängberäkning!$B$6:$B$97,Poängberäkning!$C$6:$C$97)","v":70},3,{"$f":"LOOKUP(J7,Poängberäkning!$B$6:$B$97,Poängberäkning!$C$6:$C$97)","v":70},6,{"$f":"LOOKUP(L7,Poängberäkning!$B$6:$B$97,Poängberäkning!$C$6:$C$97)","v":50},4,{"$f":"LOOKUP(N7,Poängberäkning!$B$6:$B$97,Poängberäkning!$C$6:$C$97)","v":60},2,{"$f":"LOOKUP(P7,Poängberäkning!$B$6:$B$97,Poängberäkning!$C$6:$C$97)","v":80},3,{"$f":"LOOKUP(R7,Poängberäkning!$B$6:$B$97,Poängberäkning!$C$6:$C$97)","v":70},2,{"$f":"LOOKUP(T7,Poängberäkning!$B$6:$B$97,Poängberäkning!$C$6:$C$97)","v":80},1,{"$f":"LOOKUP(V7,Poängberäkning!$B$6:$B$97,Poängberäkning!$C$6:$C$97)","v":100},null,{"$f":"LOOKUP(X7,Poängberäkning!$B$6:$B$97,Poängberäkning!$C$6:$C$97)","v":0},null,{"$f":"LOOKUP(Z7,Poängberäkning!$B$6:$B$97,Poängberäkning!$C$6:$C$97)","v":0},null,{"$f":"LOOKUP(AB7,Poängberäkning!$B$6:$B$97,Poängberäkning!$C$6:$C$97)","v":0},null,{"$f":"LOOKUP(AD7,Poängberäkning!$B$6:$B$97,Poängberäkning!$C$6:$C$97)","v":0},null,{"$f":"LOOKUP(AF7,Poängberäkning!$B$6:$B$97,Poängberäkning!$C$6:$C$97)","v":0},null,{"$f":"LOOKUP(AH7,Poängberäkning!$B$6:$B$97,Poängberäkning!$C$6:$C$97)","v":0},null,{"$f":"LOOKUP(AJ7,Poängberäkning!$B$6:$B$97,Poängberäkning!$C$6:$C$97)","v":0},null,{"$f":"LOOKUP(AL7,Poängberäkning!$B$6:$B$97,Poängberäkning!$C$6:$C$97)","v":0},null,{"$f":"LOOKUP(AN7,Poängberäkning!$B$6:$B$97,Poängberäkning!$C$6:$C$97)","v":0},null,{"$f":"LOOKUP(AP7,Poängberäkning!$B$6:$B$97,Poängberäkning!$C$6:$C$97)","v":0},null,{"$f":"LOOKUP(AR7,Poängberäkning!$B$6:$B$97,Poängberäkning!$C$6:$C$97)","v":0},null,{"$f":"LOOKUP(AT7,Poängberäkning!$B$6:$B$97,Poängberäkning!$C$6:$C$97)","v":0},null,null,null,null,null,null,null,null,{"$f":"LARGE(($I7,$K7,$M7,$O7,$Q7,$S7,$U7,$W7,$Y7,$AA7,$AC7,$AE7,$AG7,$AI7,$AK7,$AM7,$AO7,$AQ7,$AS7,$AU7,$AW7,$AY7,$BA7,$BC7),1)","v":100},{"$f":"LARGE(($I7,$K7,$M7,$O7,$Q7,$S7,$U7,$W7,$Y7,$AA7,$AC7,$AE7,$AG7,$AI7,$AK7,$AM7,$AO7,$AQ7,$AS7,$AU7,$AW7,$AY7,$BA7,$BC7),2)","v":80},{"$f":"LARGE(($I7,$K7,$M7,$O7,$Q7,$S7,$U7,$W7,$Y7,$AA7,$AC7,$AE7,$AG7,$AI7,$AK7,$AM7,$AO7,$AQ7,$AS7,$AU7,$AW7,$AY7,$BA7,$BC7),3)","v":80},{"$f":"LARGE(($I7,$K7,$M7,$O7,$Q7,$S7,$U7,$W7,$Y7,$AA7,$AC7,$AE7,$AG7,$AI7,$AK7,$AM7,$AO7,$AQ7,$AS7,$AU7,$AW7,$AY7,$BA7,$BC7),4)","v":70},{"$f":"LARGE(($I7,$K7,$M7,$O7,$Q7,$S7,$U7,$W7,$Y7,$AA7,$AC7,$AE7,$AG7,$AI7,$AK7,$AM7,$AO7,$AQ7,$AS7,$AU7,$AW7,$AY7,$BA7,$BC7),5)","v":70},{"$f":"LARGE(($I7,$K7,$M7,$O7,$Q7,$S7,$U7,$W7,$Y7,$AA7,$AC7,$AE7,$AG7,$AI7,$AK7,$AM7,$AO7,$AQ7,$AS7,$AU7,$AW7,$AY7,$BA7,$BC7),6)","v":70},{"$f":"LARGE(($I7,$K7,$M7,$O7,$Q7,$S7,$U7,$W7,$Y7,$AA7,$AC7,$AE7,$AG7,$AI7,$AK7,$AM7,$AO7,$AQ7,$AS7,$AU7,$AW7,$AY7,$BA7,$BC7),7)","v":60},{"$f":"LARGE(($I7,$K7,$M7,$O7,$Q7,$S7,$U7,$W7,$Y7,$AA7,$AC7,$AE7,$AG7,$AI7,$AK7,$AM7,$AO7,$AQ7,$AS7,$AU7,$AW7,$AY7,$BA7,$BC7),8)","v":50},{"$f":"LARGE(($I7,$K7,$M7,$O7,$Q7,$S7,$U7,$W7,$Y7,$AA7,$AC7,$AE7,$AG7,$AI7,$AK7,$AM7,$AO7,$AQ7,$AS7,$AU7,$AW7,$AY7,$BA7,$BC7),9)","v":0},{"$f":"LARGE(($I7,$K7,$M7,$O7,$Q7,$S7,$U7,$W7,$Y7,$AA7,$AC7,$AE7,$AG7,$AI7,$AK7,$AM7,$AO7,$AQ7,$AS7,$AU7,$AW7,$AY7,$BA7,$BC7),10)","v":0}]
[{"$f":"A7+1","v":4},2000,"Erik Hultman","Karlskoga SLK",{"$f":"SUM(BD8:BM8)","v":425},{"$f":"SUM(BD8:BK8)","v":425},{"$f":"I8+K8+M8+O8+Q8+S8+U8+W8+Y8+AA8+AC8+AE8+AG8+AI8+AK8+AM8+AO8+AQ8+AS8+AU8+AW8+AY8+BA8+BC8","v":425},5,{"$f":"LOOKUP(H8,Poängberäkning!$B$6:$B$97,Poängberäkning!$C$6:$C$97)","v":55},5,{"$f":"LOOKUP(J8,Poängberäkning!$B$6:$B$97,Poängberäkning!$C$6:$C$97)","v":55},3,{"$f":"LOOKUP(L8,Poängberäkning!$B$6:$B$97,Poängberäkning!$C$6:$C$97)","v":70},2,{"$f":"LOOKUP(N8,Poängberäkning!$B$6:$B$97,Poängberäkning!$C$6:$C$97)","v":80},5,{"$f":"LOOKUP(P8,Poängberäkning!$B$6:$B$97,Poängberäkning!$C$6:$C$97)","v":55},6,{"$f":"LOOKUP(R8,Poängberäkning!$B$6:$B$97,Poängberäkning!$C$6:$C$97)","v":50},99,{"$f":"LOOKUP(T8,Poängberäkning!$B$6:$B$97,Poängberäkning!$C$6:$C$97)","v":0},4,{"$f":"LOOKUP(V8,Poängberäkning!$B$6:$B$97,Poängberäkning!$C$6:$C$97)","v":60},null,{"$f":"LOOKUP(X8,Poängberäkning!$B$6:$B$97,Poängberäkning!$C$6:$C$97)","v":0},null,{"$f":"LOOKUP(Z8,Poängberäkning!$B$6:$B$97,Poängberäkning!$C$6:$C$97)","v":0},null,{"$f":"LOOKUP(AB8,Poängberäkning!$B$6:$B$97,Poängberäkning!$C$6:$C$97)","v":0},null,{"$f":"LOOKUP(AD8,Poängberäkning!$B$6:$B$97,Poängberäkning!$C$6:$C$97)","v":0},null,{"$f":"LOOKUP(AF8,Poängberäkning!$B$6:$B$97,Poängberäkning!$C$6:$C$97)","v":0},null,{"$f":"LOOKUP(AH8,Poängberäkning!$B$6:$B$97,Poängberäkning!$C$6:$C$97)","v":0},null,{"$f":"LOOKUP(AJ8,Poängberäkning!$B$6:$B$97,Poängberäkning!$C$6:$C$97)","v":0},null,{"$f":"LOOKUP(AL8,Poängberäkning!$B$6:$B$97,Poängberäkning!$C$6:$C$97)","v":0},null,{"$f":"LOOKUP(AN8,Poängberäkning!$B$6:$B$97,Poängberäkning!$C$6:$C$97)","v":0},null,{"$f":"LOOKUP(AP8,Poängberäkning!$B$6:$B$97,Poängberäkning!$C$6:$C$97)","v":0},null,{"$f":"LOOKUP(AR8,Poängberäkning!$B$6:$B$97,Poängberäkning!$C$6:$C$97)","v":0},null,{"$f":"LOOKUP(AT8,Poängberäkning!$B$6:$B$97,Poängberäkning!$C$6:$C$97)","v":0},null,null,null,null,null,null,null,null,{"$f":"LARGE(($I8,$K8,$M8,$O8,$Q8,$S8,$U8,$W8,$Y8,$AA8,$AC8,$AE8,$AG8,$AI8,$AK8,$AM8,$AO8,$AQ8,$AS8,$AU8,$AW8,$AY8,$BA8,$BC8),1)","v":80},{"$f":"LARGE(($I8,$K8,$M8,$O8,$Q8,$S8,$U8,$W8,$Y8,$AA8,$AC8,$AE8,$AG8,$AI8,$AK8,$AM8,$AO8,$AQ8,$AS8,$AU8,$AW8,$AY8,$BA8,$BC8),2)","v":70},{"$f":"LARGE(($I8,$K8,$M8,$O8,$Q8,$S8,$U8,$W8,$Y8,$AA8,$AC8,$AE8,$AG8,$AI8,$AK8,$AM8,$AO8,$AQ8,$AS8,$AU8,$AW8,$AY8,$BA8,$BC8),3)","v":60},{"$f":"LARGE(($I8,$K8,$M8,$O8,$Q8,$S8,$U8,$W8,$Y8,$AA8,$AC8,$AE8,$AG8,$AI8,$AK8,$AM8,$AO8,$AQ8,$AS8,$AU8,$AW8,$AY8,$BA8,$BC8),4)","v":55},{"$f":"LARGE(($I8,$K8,$M8,$O8,$Q8,$S8,$U8,$W8,$Y8,$AA8,$AC8,$AE8,$AG8,$AI8,$AK8,$AM8,$AO8,$AQ8,$AS8,$AU8,$AW8,$AY8,$BA8,$BC8),5)","v":55},{"$f":"LARGE(($I8,$K8,$M8,$O8,$Q8,$S8,$U8,$W8,$Y8,$AA8,$AC8,$AE8,$AG8,$AI8,$AK8,$AM8,$AO8,$AQ8,$AS8,$AU8,$AW8,$AY8,$BA8,$BC8),6)","v":55},{"$f":"LARGE(($I8,$K8,$M8,$O8,$Q8,$S8,$U8,$W8,$Y8,$AA8,$AC8,$AE8,$AG8,$AI8,$AK8,$AM8,$AO8,$AQ8,$AS8,$AU8,$AW8,$AY8,$BA8,$BC8),7)","v":50},{"$f":"LARGE(($I8,$K8,$M8,$O8,$Q8,$S8,$U8,$W8,$Y8,$AA8,$AC8,$AE8,$AG8,$AI8,$AK8,$AM8,$AO8,$AQ8,$AS8,$AU8,$AW8,$AY8,$BA8,$BC8),8)","v":0},{"$f":"LARGE(($I8,$K8,$M8,$O8,$Q8,$S8,$U8,$W8,$Y8,$AA8,$AC8,$AE8,$AG8,$AI8,$AK8,$AM8,$AO8,$AQ8,$AS8,$AU8,$AW8,$AY8,$BA8,$BC8),9)","v":0},{"$f":"LARGE(($I8,$K8,$M8,$O8,$Q8,$S8,$U8,$W8,$Y8,$AA8,$AC8,$AE8,$AG8,$AI8,$AK8,$AM8,$AO8,$AQ8,$AS8,$AU8,$AW8,$AY8,$BA8,$BC8),10)","v":0}]
[5,2000,"Carl Setterström","Karlstads SLK",{"$f":"SUM(BD9:BM9)","v":405},{"$f":"SUM(BD9:BK9)","v":405},{"$f":"I9+K9+M9+O9+Q9+S9+U9+W9+Y9+AA9+AC9+AE9+AG9+AI9+AK9+AM9+AO9+AQ9+AS9+AU9+AW9+AY9+BA9+BC9","v":405},4,{"$f":"LOOKUP(H9,Poängberäkning!$B$6:$B$97,Poängberäkning!$C$6:$C$97)","v":60},4,{"$f":"LOOKUP(J9,Poängberäkning!$B$6:$B$97,Poängberäkning!$C$6:$C$97)","v":60},5,{"$f":"LOOKUP(L9,Poängberäkning!$B$6:$B$97,Poängberäkning!$C$6:$C$97)","v":55},5,{"$f":"LOOKUP(N9,Poängberäkning!$B$6:$B$97,Poängberäkning!$C$6:$C$97)","v":55},4,{"$f":"LOOKUP(P9,Poängberäkning!$B$6:$B$97,Poängberäkning!$C$6:$C$97)","v":60},4,{"$f":"LOOKUP(R9,Poängberäkning!$B$6:$B$97,Poängberäkning!$C$6:$C$97)","v":60},99,{"$f":"LOOKUP(T9,Poängberäkning!$B$6:$B$97,Poängberäkning!$C$6:$C$97)","v":0},5,{"$f":"LOOKUP(V9,Poängberäkning!$B$6:$B$97,Poängberäkning!$C$6:$C$97)","v":55},null,{"$f":"LOOKUP(X9,Poängberäkning!$B$6:$B$97,Poängberäkning!$C$6:$C$97)","v":0},null,{"$f":"LOOKUP(Z9,Poängberäkning!$B$6:$B$97,Poängberäkning!$C$6:$C$97)","v":0},null,{"$f":"LOOKUP(AB9,Poängberäkning!$B$6:$B$97,Poängberäkning!$C$6:$C$97)","v":0},null,{"$f":"LOOKUP(AD9,Poängberäkning!$B$6:$B$97,Poängberäkning!$C$6:$C$97)","v":0},null,{"$f":"LOOKUP(AF9,Poängberäkning!$B$6:$B$97,Poängberäkning!$C$6:$C$97)","v":0},null,{"$f":"LOOKUP(AH9,Poängberäkning!$B$6:$B$97,Poängberäkning!$C$6:$C$97)","v":0},null,{"$f":"LOOKUP(AJ9,Poängberäkning!$B$6:$B$97,Poängberäkning!$C$6:$C$97)","v":0},null,{"$f":"LOOKUP(AL9,Poängberäkning!$B$6:$B$97,Poängberäkning!$C$6:$C$97)","v":0},null,{"$f":"LOOKUP(AN9,Poängberäkning!$B$6:$B$97,Poängberäkning!$C$6:$C$97)","v":0},null,{"$f":"LOOKUP(AP9,Poängberäkning!$B$6:$B$97,Poängberäkning!$C$6:$C$97)","v":0},null,{"$f":"LOOKUP(AR9,Poängberäkning!$B$6:$B$97,Poängberäkning!$C$6:$C$97)","v":0},null,{"$f":"LOOKUP(AT9,Poängberäkning!$B$6:$B$97,Poängberäkning!$C$6:$C$97)","v":0},null,null,null,null,null,null,null,null,{"$f":"LARGE(($I9,$K9,$M9,$O9,$Q9,$S9,$U9,$W9,$Y9,$AA9,$AC9,$AE9,$AG9,$AI9,$AK9,$AM9,$AO9,$AQ9,$AS9,$AU9,$AW9,$AY9,$BA9,$BC9),1)","v":60},{"$f":"LARGE(($I9,$K9,$M9,$O9,$Q9,$S9,$U9,$W9,$Y9,$AA9,$AC9,$AE9,$AG9,$AI9,$AK9,$AM9,$AO9,$AQ9,$AS9,$AU9,$AW9,$AY9,$BA9,$BC9),2)","v":60},{"$f":"LARGE(($I9,$K9,$M9,$O9,$Q9,$S9,$U9,$W9,$Y9,$AA9,$AC9,$AE9,$AG9,$AI9,$AK9,$AM9,$AO9,$AQ9,$AS9,$AU9,$AW9,$AY9,$BA9,$BC9),3)","v":60},{"$f":"LARGE(($I9,$K9,$M9,$O9,$Q9,$S9,$U9,$W9,$Y9,$AA9,$AC9,$AE9,$AG9,$AI9,$AK9,$AM9,$AO9,$AQ9,$AS9,$AU9,$AW9,$AY9,$BA9,$BC9),4)","v":60},{"$f":"LARGE(($I9,$K9,$M9,$O9,$Q9,$S9,$U9,$W9,$Y9,$AA9,$AC9,$AE9,$AG9,$AI9,$AK9,$AM9,$AO9,$AQ9,$AS9,$AU9,$AW9,$AY9,$BA9,$BC9),5)","v":55},{"$f":"LARGE(($I9,$K9,$M9,$O9,$Q9,$S9,$U9,$W9,$Y9,$AA9,$AC9,$AE9,$AG9,$AI9,$AK9,$AM9,$AO9,$AQ9,$AS9,$AU9,$AW9,$AY9,$BA9,$BC9),6)","v":55},{"$f":"LARGE(($I9,$K9,$M9,$O9,$Q9,$S9,$U9,$W9,$Y9,$AA9,$AC9,$AE9,$AG9,$AI9,$AK9,$AM9,$AO9,$AQ9,$AS9,$AU9,$AW9,$AY9,$BA9,$BC9),7)","v":55},{"$f":"LARGE(($I9,$K9,$M9,$O9,$Q9,$S9,$U9,$W9,$Y9,$AA9,$AC9,$AE9,$AG9,$AI9,$AK9,$AM9,$AO9,$AQ9,$AS9,$AU9,$AW9,$AY9,$BA9,$BC9),8)","v":0},{"$f":"LARGE(($I9,$K9,$M9,$O9,$Q9,$S9,$U9,$W9,$Y9,$AA9,$AC9,$AE9,$AG9,$AI9,$AK9,$AM9,$AO9,$AQ9,$AS9,$AU9,$AW9,$AY9,$BA9,$BC9),9)","v":0},{"$f":"LARGE(($I9,$K9,$M9,$O9,$Q9,$S9,$U9,$W9,$Y9,$AA9,$AC9,$AE9,$AG9,$AI9,$AK9,$AM9,$AO9,$AQ9,$AS9,$AU9,$AW9,$AY9,$BA9,$BC9),10)","v":0}]
[6,2000,"Gusten Berglund","Karlstads SLK",{"$f":"SUM(BD10:BM10)","v":393},{"$f":"SUM(BD10:BK10)","v":393},{"$f":"I10+K10+M10+O10+Q10+S10+U10+W10+Y10+AA10+AC10+AE10+AG10+AI10+AK10+AM10+AO10+AQ10+AS10+AU10+AW10+AY10+BA10+BC10","v":393},6,{"$f":"LOOKUP(H10,Poängberäkning!$B$6:$B$97,Poängberäkning!$C$6:$C$97)","v":50},7,{"$f":"LOOKUP(J10,Poängberäkning!$B$6:$B$97,Poängberäkning!$C$6:$C$97)","v":48},4,{"$f":"LOOKUP(L10,Poängberäkning!$B$6:$B$97,Poängberäkning!$C$6:$C$97)","v":60},6,{"$f":"LOOKUP(N10,Poängberäkning!$B$6:$B$97,Poängberäkning!$C$6:$C$97)","v":50},2,{"$f":"LOOKUP(P10,Poängberäkning!$B$6:$B$97,Poängberäkning!$C$6:$C$97)","v":80},5,{"$f":"LOOKUP(R10,Poängberäkning!$B$6:$B$97,Poängberäkning!$C$6:$C$97)","v":55},99,{"$f":"LOOKUP(T10,Poängberäkning!$B$6:$B$97,Poängberäkning!$C$6:$C$97)","v":0},6,{"$f":"LOOKUP(V10,Poängberäkning!$B$6:$B$97,Poängberäkning!$C$6:$C$97)","v":50},null,{"$f":"LOOKUP(X10,Poängberäkning!$B$6:$B$97,Poängberäkning!$C$6:$C$97)","v":0},null,{"$f":"LOOKUP(Z10,Poängberäkning!$B$6:$B$97,Poängberäkning!$C$6:$C$97)","v":0},null,{"$f":"LOOKUP(AB10,Poängberäkning!$B$6:$B$97,Poängberäkning!$C$6:$C$97)","v":0},null,{"$f":"LOOKUP(AD10,Poängberäkning!$B$6:$B$97,Poängberäkning!$C$6:$C$97)","v":0},null,{"$f":"LOOKUP(AF10,Poängberäkning!$B$6:$B$97,Poängberäkning!$C$6:$C$97)","v":0},null,{"$f":"LOOKUP(AH10,Poängberäkning!$B$6:$B$97,Poängberäkning!$C$6:$C$97)","v":0},null,{"$f":"LOOKUP(AJ10,Poängberäkning!$B$6:$B$97,Poängberäkning!$C$6:$C$97)","v":0},null,{"$f":"LOOKUP(AL10,Poängberäkning!$B$6:$B$97,Poängberäkning!$C$6:$C$97)","v":0},null,{"$f":"LOOKUP(AN10,Poängberäkning!$B$6:$B$97,Poängberäkning!$C$6:$C$97)","v":0},null,{"$f":"LOOKUP(AP10,Poängberäkning!$B$6:$B$97,Poängberäkning!$C$6:$C$97)","v":0},null,{"$f":"LOOKUP(AR10,Poängberäkning!$B$6:$B$97,Poängberäkning!$C$6:$C$97)","v":0},null,{"$f":"LOOKUP(AT10,Poängberäkning!$B$6:$B$97,Poängberäkning!$C$6:$C$97)","v":0},null,null,null,null,null,null,null,null,{"$f":"LARGE(($I10,$K10,$M10,$O10,$Q10,$S10,$U10,$W10,$Y10,$AA10,$AC10,$AE10,$AG10,$AI10,$AK10,$AM10,$AO10,$AQ10,$AS10,$AU10,$AW10,$AY10,$BA10,$BC10),1)","v":80},{"$f":"LARGE(($I10,$K10,$M10,$O10,$Q10,$S10,$U10,$W10,$Y10,$AA10,$AC10,$AE10,$AG10,$AI10,$AK10,$AM10,$AO10,$AQ10,$AS10,$AU10,$AW10,$AY10,$BA10,$BC10),2)","v":60},{"$f":"LARGE(($I10,$K10,$M10,$O10,$Q10,$S10,$U10,$W10,$Y10,$AA10,$AC10,$AE10,$AG10,$AI10,$AK10,$AM10,$AO10,$AQ10,$AS10,$AU10,$AW10,$AY10,$BA10,$BC10),3)","v":55},{"$f":"LARGE(($I10,$K10,$M10,$O10,$Q10,$S10,$U10,$W10,$Y10,$AA10,$AC10,$AE10,$AG10,$AI10,$AK10,$AM10,$AO10,$AQ10,$AS10,$AU10,$AW10,$AY10,$BA10,$BC10),4)","v":50},{"$f":"LARGE(($I10,$K10,$M10,$O10,$Q10,$S10,$U10,$W10,$Y10,$AA10,$AC10,$AE10,$AG10,$AI10,$AK10,$AM10,$AO10,$AQ10,$AS10,$AU10,$AW10,$AY10,$BA10,$BC10),5)","v":50},{"$f":"LARGE(($I10,$K10,$M10,$O10,$Q10,$S10,$U10,$W10,$Y10,$AA10,$AC10,$AE10,$AG10,$AI10,$AK10,$AM10,$AO10,$AQ10,$AS10,$AU10,$AW10,$AY10,$BA10,$BC10),6)","v":50},{"$f":"LARGE(($I10,$K10,$M10,$O10,$Q10,$S10,$U10,$W10,$Y10,$AA10,$AC10,$AE10,$AG10,$AI10,$AK10,$AM10,$AO10,$AQ10,$AS10,$AU10,$AW10,$AY10,$BA10,$BC10),7)","v":48},{"$f":"LARGE(($I10,$K10,$M10,$O10,$Q10,$S10,$U10,$W10,$Y10,$AA10,$AC10,$AE10,$AG10,$AI10,$AK10,$AM10,$AO10,$AQ10,$AS10,$AU10,$AW10,$AY10,$BA10,$BC10),8)","v":0},{"$f":"LARGE(($I10,$K10,$M10,$O10,$Q10,$S10,$U10,$W10,$Y10,$AA10,$AC10,$AE10,$AG10,$AI10,$AK10,$AM10,$AO10,$AQ10,$AS10,$AU10,$AW10,$AY10,$BA10,$BC10),9)","v":0},{"$f":"LARGE(($I10,$K10,$M10,$O10,$Q10,$S10,$U10,$W10,$Y10,$AA10,$AC10,$AE10,$AG10,$AI10,$AK10,$AM10,$AO10,$AQ10,$AS10,$AU10,$AW10,$AY10,$BA10,$BC10),10)","v":0}]
[7,2000,"Filip Lindström","Kumla SF",{"$f":"SUM(BD11:BM11)","v":360},{"$f":"SUM(BD11:BK11)","v":360},{"$f":"I11+K11+M11+O11+Q11+S11+U11+W11+Y11+AA11+AC11+AE11+AG11+AI11+AK11+AM11+AO11+AQ11+AS11+AU11+AW11+AY11+BA11+BC11","v":360},8,{"$f":"LOOKUP(H11,Poängberäkning!$B$6:$B$97,Poängberäkning!$C$6:$C$97)","v":46},6,{"$f":"LOOKUP(J11,Poängberäkning!$B$6:$B$97,Poängberäkning!$C$6:$C$97)","v":50},99,{"$f":"LOOKUP(L11,Poängberäkning!$B$6:$B$97,Poängberäkning!$C$6:$C$97)","v":0},7,{"$f":"LOOKUP(N11,Poängberäkning!$B$6:$B$97,Poängberäkning!$C$6:$C$97)","v":48},6,{"$f":"LOOKUP(P11,Poängberäkning!$B$6:$B$97,Poängberäkning!$C$6:$C$97)","v":50},7,{"$f":"LOOKUP(R11,Poängberäkning!$B$6:$B$97,Poängberäkning!$C$6:$C$97)","v":48},3,{"$f":"LOOKUP(T11,Poängberäkning!$B$6:$B$97,Poängberäkning!$C$6:$C$97)","v":70},7,{"$f":"LOOKUP(V11,Poängberäkning!$B$6:$B$97,Poängberäkning!$C$6:$C$97)","v":48},null,{"$f":"LOOKUP(X11,Poängberäkning!$B$6:$B$97,Poängberäkning!$C$6:$C$97)","v":0},null,{"$f":"LOOKUP(Z11,Poängberäkning!$B$6:$B$97,Poängberäkning!$C$6:$C$97)","v":0},null,{"$f":"LOOKUP(AB11,Poängberäkning!$B$6:$B$97,Poängberäkning!$C$6:$C$97)","v":0},null,{"$f":"LOOKUP(AD11,Poängberäkning!$B$6:$B$97,Poängberäkning!$C$6:$C$97)","v":0},null,{"$f":"LOOKUP(AF11,Poängberäkning!$B$6:$B$97,Poängberäkning!$C$6:$C$97)","v":0},null,{"$f":"LOOKUP(AH11,Poängberäkning!$B$6:$B$97,Poängberäkning!$C$6:$C$97)","v":0},null,{"$f":"LOOKUP(AJ11,Poängberäkning!$B$6:$B$97,Poängberäkning!$C$6:$C$97)","v":0},null,{"$f":"LOOKUP(AL11,Poängberäkning!$B$6:$B$97,Poängberäkning!$C$6:$C$97)","v":0},null,{"$f":"LOOKUP(AN11,Poängberäkning!$B$6:$B$97,Poängberäkning!$C$6:$C$97)","v":0},null,{"$f":"LOOKUP(AP11,Poängberäkning!$B$6:$B$97,Poängberäkning!$C$6:$C$97)","v":0},null,{"$f":"LOOKUP(AR11,Poängberäkning!$B$6:$B$97,Poängberäkning!$C$6:$C$97)","v":0},null,{"$f":"LOOKUP(AT11,Poängberäkning!$B$6:$B$97,Poängberäkning!$C$6:$C$97)","v":0},null,null,null,null,null,null,null,null,{"$f":"LARGE(($I11,$K11,$M11,$O11,$Q11,$S11,$U11,$W11,$Y11,$AA11,$AC11,$AE11,$AG11,$AI11,$AK11,$AM11,$AO11,$AQ11,$AS11,$AU11,$AW11,$AY11,$BA11,$BC11),1)","v":70},{"$f":"LARGE(($I11,$K11,$M11,$O11,$Q11,$S11,$U11,$W11,$Y11,$AA11,$AC11,$AE11,$AG11,$AI11,$AK11,$AM11,$AO11,$AQ11,$AS11,$AU11,$AW11,$AY11,$BA11,$BC11),2)","v":50},{"$f":"LARGE(($I11,$K11,$M11,$O11,$Q11,$S11,$U11,$W11,$Y11,$AA11,$AC11,$AE11,$AG11,$AI11,$AK11,$AM11,$AO11,$AQ11,$AS11,$AU11,$AW11,$AY11,$BA11,$BC11),3)","v":50},{"$f":"LARGE(($I11,$K11,$M11,$O11,$Q11,$S11,$U11,$W11,$Y11,$AA11,$AC11,$AE11,$AG11,$AI11,$AK11,$AM11,$AO11,$AQ11,$AS11,$AU11,$AW11,$AY11,$BA11,$BC11),4)","v":48},{"$f":"LARGE(($I11,$K11,$M11,$O11,$Q11,$S11,$U11,$W11,$Y11,$AA11,$AC11,$AE11,$AG11,$AI11,$AK11,$AM11,$AO11,$AQ11,$AS11,$AU11,$AW11,$AY11,$BA11,$BC11),5)","v":48},{"$f":"LARGE(($I11,$K11,$M11,$O11,$Q11,$S11,$U11,$W11,$Y11,$AA11,$AC11,$AE11,$AG11,$AI11,$AK11,$AM11,$AO11,$AQ11,$AS11,$AU11,$AW11,$AY11,$BA11,$BC11),6)","v":48},{"$f":"LARGE(($I11,$K11,$M11,$O11,$Q11,$S11,$U11,$W11,$Y11,$AA11,$AC11,$AE11,$AG11,$AI11,$AK11,$AM11,$AO11,$AQ11,$AS11,$AU11,$AW11,$AY11,$BA11,$BC11),7)","v":46},{"$f":"LARGE(($I11,$K11,$M11,$O11,$Q11,$S11,$U11,$W11,$Y11,$AA11,$AC11,$AE11,$AG11,$AI11,$AK11,$AM11,$AO11,$AQ11,$AS11,$AU11,$AW11,$AY11,$BA11,$BC11),8)","v":0},{"$f":"LARGE(($I11,$K11,$M11,$O11,$Q11,$S11,$U11,$W11,$Y11,$AA11,$AC11,$AE11,$AG11,$AI11,$AK11,$AM11,$AO11,$AQ11,$AS11,$AU11,$AW11,$AY11,$BA11,$BC11),9)","v":0},{"$f":"LARGE(($I11,$K11,$M11,$O11,$Q11,$S11,$U11,$W11,$Y11,$AA11,$AC11,$AE11,$AG11,$AI11,$AK11,$AM11,$AO11,$AQ11,$AS11,$AU11,$AW11,$AY11,$BA11,$BC11),10)","v":0}]
[8,2000,"Adam Ståhlbom","Kumla SF",{"$f":"SUM(BD12:BM12)","v":341},{"$f":"SUM(BD12:BK12)","v":341},{"$f":"I12+K12+M12+O12+Q12+S12+U12+W12+Y12+AA12+AC12+AE12+AG12+AI12+AK12+AM12+AO12+AQ12+AS12+AU12+AW12+AY12+BA12+BC12","v":341},12,{"$f":"LOOKUP(H12,Poängberäkning!$B$6:$B$97,Poängberäkning!$C$6:$C$97)","v":39},11,{"$f":"LOOKUP(J12,Poängberäkning!$B$6:$B$97,Poängberäkning!$C$6:$C$97)","v":40},9,{"$f":"LOOKUP(L12,Poängberäkning!$B$6:$B$97,Poängberäkning!$C$6:$C$97)","v":44},11,{"$f":"LOOKUP(N12,Poängberäkning!$B$6:$B$97,Poängberäkning!$C$6:$C$97)","v":40},9,{"$f":"LOOKUP(P12,Poängberäkning!$B$6:$B$97,Poängberäkning!$C$6:$C$97)","v":44},10,{"$f":"LOOKUP(R12,Poängberäkning!$B$6:$B$97,Poängberäkning!$C$6:$C$97)","v":42},6,{"$f":"LOOKUP(T12,Poängberäkning!$B$6:$B$97,Poängberäkning!$C$6:$C$97)","v":50},10,{"$f":"LOOKUP(V12,Poängberäkning!$B$6:$B$97,Poängberäkning!$C$6:$C$97)","v":42},null,{"$f":"LOOKUP(X12,Poängberäkning!$B$6:$B$97,Poängberäkning!$C$6:$C$97)","v":0},null,{"$f":"LOOKUP(Z12,Poängberäkning!$B$6:$B$97,Poängberäkning!$C$6:$C$97)","v":0},null,{"$f":"LOOKUP(AB12,Poängberäkning!$B$6:$B$97,Poängberäkning!$C$6:$C$97)","v":0},null,{"$f":"LOOKUP(AD12,Poängberäkning!$B$6:$B$97,Poängberäkning!$C$6:$C$97)","v":0},null,{"$f":"LOOKUP(AF12,Poängberäkning!$B$6:$B$97,Poängberäkning!$C$6:$C$97)","v":0},null,{"$f":"LOOKUP(AH12,Poängberäkning!$B$6:$B$97,Poängberäkning!$C$6:$C$97)","v":0},null,{"$f":"LOOKUP(AJ12,Poängberäkning!$B$6:$B$97,Poängberäkning!$C$6:$C$97)","v":0},null,{"$f":"LOOKUP(AL12,Poängberäkning!$B$6:$B$97,Poängberäkning!$C$6:$C$97)","v":0},null,{"$f":"LOOKUP(AN12,Poängberäkning!$B$6:$B$97,Poängberäkning!$C$6:$C$97)","v":0},null,{"$f":"LOOKUP(AP12,Poängberäkning!$B$6:$B$97,Poängberäkning!$C$6:$C$97)","v":0},null,{"$f":"LOOKUP(AR12,Poängberäkning!$B$6:$B$97,Poängberäkning!$C$6:$C$97)","v":0},null,{"$f":"LOOKUP(AT12,Poängberäkning!$B$6:$B$97,Poängberäkning!$C$6:$C$97)","v":0},null,null,null,null,null,null,null,null,{"$f":"LARGE(($I12,$K12,$M12,$O12,$Q12,$S12,$U12,$W12,$Y12,$AA12,$AC12,$AE12,$AG12,$AI12,$AK12,$AM12,$AO12,$AQ12,$AS12,$AU12,$AW12,$AY12,$BA12,$BC12),1)","v":50},{"$f":"LARGE(($I12,$K12,$M12,$O12,$Q12,$S12,$U12,$W12,$Y12,$AA12,$AC12,$AE12,$AG12,$AI12,$AK12,$AM12,$AO12,$AQ12,$AS12,$AU12,$AW12,$AY12,$BA12,$BC12),2)","v":44},{"$f":"LARGE(($I12,$K12,$M12,$O12,$Q12,$S12,$U12,$W12,$Y12,$AA12,$AC12,$AE12,$AG12,$AI12,$AK12,$AM12,$AO12,$AQ12,$AS12,$AU12,$AW12,$AY12,$BA12,$BC12),3)","v":44},{"$f":"LARGE(($I12,$K12,$M12,$O12,$Q12,$S12,$U12,$W12,$Y12,$AA12,$AC12,$AE12,$AG12,$AI12,$AK12,$AM12,$AO12,$AQ12,$AS12,$AU12,$AW12,$AY12,$BA12,$BC12),4)","v":42},{"$f":"LARGE(($I12,$K12,$M12,$O12,$Q12,$S12,$U12,$W12,$Y12,$AA12,$AC12,$AE12,$AG12,$AI12,$AK12,$AM12,$AO12,$AQ12,$AS12,$AU12,$AW12,$AY12,$BA12,$BC12),5)","v":42},{"$f":"LARGE(($I12,$K12,$M12,$O12,$Q12,$S12,$U12,$W12,$Y12,$AA12,$AC12,$AE12,$AG12,$AI12,$AK12,$AM12,$AO12,$AQ12,$AS12,$AU12,$AW12,$AY12,$BA12,$BC12),6)","v":40},{"$f":"LARGE(($I12,$K12,$M12,$O12,$Q12,$S12,$U12,$W12,$Y12,$AA12,$AC12,$AE12,$AG12,$AI12,$AK12,$AM12,$AO12,$AQ12,$AS12,$AU12,$AW12,$AY12,$BA12,$BC12),7)","v":40},{"$f":"LARGE(($I12,$K12,$M12,$O12,$Q12,$S12,$U12,$W12,$Y12,$AA12,$AC12,$AE12,$AG12,$AI12,$AK12,$AM12,$AO12,$AQ12,$AS12,$AU12,$AW12,$AY12,$BA12,$BC12),8)","v":39},{"$f":"LARGE(($I12,$K12,$M12,$O12,$Q12,$S12,$U12,$W12,$Y12,$AA12,$AC12,$AE12,$AG12,$AI12,$AK12,$AM12,$AO12,$AQ12,$AS12,$AU12,$AW12,$AY12,$BA12,$BC12),9)","v":0},{"$f":"LARGE(($I12,$K12,$M12,$O12,$Q12,$S12,$U12,$W12,$Y12,$AA12,$AC12,$AE12,$AG12,$AI12,$AK12,$AM12,$AO12,$AQ12,$AS12,$AU12,$AW12,$AY12,$BA12,$BC12),10)","v":0}]
[9,2000,"Carl Kieksi","IFK Borlänge",{"$f":"SUM(BD13:BM13)","v":310},{"$f":"SUM(BD13:BK13)","v":310},{"$f":"I13+K13+M13+O13+Q13+S13+U13+W13+Y13+AA13+AC13+AE13+AG13+AI13+AK13+AM13+AO13+AQ13+AS13+AU13+AW13+AY13+BA13+BC13","v":310},11,{"$f":"LOOKUP(H13,Poängberäkning!$B$6:$B$97,Poängberäkning!$C$6:$C$97)","v":40},9,{"$f":"LOOKUP(J13,Poängberäkning!$B$6:$B$97,Poängberäkning!$C$6:$C$97)","v":44},8,{"$f":"LOOKUP(L13,Poängberäkning!$B$6:$B$97,Poängberäkning!$C$6:$C$97)","v":46},9,{"$f":"LOOKUP(N13,Poängberäkning!$B$6:$B$97,Poängberäkning!$C$6:$C$97)","v":44},8,{"$f":"LOOKUP(P13,Poängberäkning!$B$6:$B$97,Poängberäkning!$C$6:$C$97)","v":46},8,{"$f":"LOOKUP(R13,Poängberäkning!$B$6:$B$97,Poängberäkning!$C$6:$C$97)","v":46},99,{"$f":"LOOKUP(T13,Poängberäkning!$B$6:$B$97,Poängberäkning!$C$6:$C$97)","v":0},9,{"$f":"LOOKUP(V13,Poängberäkning!$B$6:$B$97,Poängberäkning!$C$6:$C$97)","v":44},null,{"$f":"LOOKUP(X13,Poängberäkning!$B$6:$B$97,Poängberäkning!$C$6:$C$97)","v":0},null,{"$f":"LOOKUP(Z13,Poängberäkning!$B$6:$B$97,Poängberäkning!$C$6:$C$97)","v":0},null,{"$f":"LOOKUP(AB13,Poängberäkning!$B$6:$B$97,Poängberäkning!$C$6:$C$97)","v":0},null,{"$f":"LOOKUP(AD13,Poängberäkning!$B$6:$B$97,Poängberäkning!$C$6:$C$97)","v":0},null,{"$f":"LOOKUP(AF13,Poängberäkning!$B$6:$B$97,Poängberäkning!$C$6:$C$97)","v":0},null,{"$f":"LOOKUP(AH13,Poängberäkning!$B$6:$B$97,Poängberäkning!$C$6:$C$97)","v":0},null,{"$f":"LOOKUP(AJ13,Poängberäkning!$B$6:$B$97,Poängberäkning!$C$6:$C$97)","v":0},null,{"$f":"LOOKUP(AL13,Poängberäkning!$B$6:$B$97,Poängberäkning!$C$6:$C$97)","v":0},null,{"$f":"LOOKUP(AN13,Poängberäkning!$B$6:$B$97,Poängberäkning!$C$6:$C$97)","v":0},null,{"$f":"LOOKUP(AP13,Poängberäkning!$B$6:$B$97,Poängberäkning!$C$6:$C$97)","v":0},null,{"$f":"LOOKUP(AR13,Poängberäkning!$B$6:$B$97,Poängberäkning!$C$6:$C$97)","v":0},null,{"$f":"LOOKUP(AT13,Poängberäkning!$B$6:$B$97,Poängberäkning!$C$6:$C$97)","v":0},null,null,null,null,null,null,null,null,{"$f":"LARGE(($I13,$K13,$M13,$O13,$Q13,$S13,$U13,$W13,$Y13,$AA13,$AC13,$AE13,$AG13,$AI13,$AK13,$AM13,$AO13,$AQ13,$AS13,$AU13,$AW13,$AY13,$BA13,$BC13),1)","v":46},{"$f":"LARGE(($I13,$K13,$M13,$O13,$Q13,$S13,$U13,$W13,$Y13,$AA13,$AC13,$AE13,$AG13,$AI13,$AK13,$AM13,$AO13,$AQ13,$AS13,$AU13,$AW13,$AY13,$BA13,$BC13),2)","v":46},{"$f":"LARGE(($I13,$K13,$M13,$O13,$Q13,$S13,$U13,$W13,$Y13,$AA13,$AC13,$AE13,$AG13,$AI13,$AK13,$AM13,$AO13,$AQ13,$AS13,$AU13,$AW13,$AY13,$BA13,$BC13),3)","v":46},{"$f":"LARGE(($I13,$K13,$M13,$O13,$Q13,$S13,$U13,$W13,$Y13,$AA13,$AC13,$AE13,$AG13,$AI13,$AK13,$AM13,$AO13,$AQ13,$AS13,$AU13,$AW13,$AY13,$BA13,$BC13),4)","v":44},{"$f":"LARGE(($I13,$K13,$M13,$O13,$Q13,$S13,$U13,$W13,$Y13,$AA13,$AC13,$AE13,$AG13,$AI13,$AK13,$AM13,$AO13,$AQ13,$AS13,$AU13,$AW13,$AY13,$BA13,$BC13),5)","v":44},{"$f":"LARGE(($I13,$K13,$M13,$O13,$Q13,$S13,$U13,$W13,$Y13,$AA13,$AC13,$AE13,$AG13,$AI13,$AK13,$AM13,$AO13,$AQ13,$AS13,$AU13,$AW13,$AY13,$BA13,$BC13),6)","v":44},{"$f":"LARGE(($I13,$K13,$M13,$O13,$Q13,$S13,$U13,$W13,$Y13,$AA13,$AC13,$AE13,$AG13,$AI13,$AK13,$AM13,$AO13,$AQ13,$AS13,$AU13,$AW13,$AY13,$BA13,$BC13),7)","v":40},{"$f":"LARGE(($I13,$K13,$M13,$O13,$Q13,$S13,$U13,$W13,$Y13,$AA13,$AC13,$AE13,$AG13,$AI13,$AK13,$AM13,$AO13,$AQ13,$AS13,$AU13,$AW13,$AY13,$BA13,$BC13),8)","v":0},{"$f":"LARGE(($I13,$K13,$M13,$O13,$Q13,$S13,$U13,$W13,$Y13,$AA13,$AC13,$AE13,$AG13,$AI13,$AK13,$AM13,$AO13,$AQ13,$AS13,$AU13,$AW13,$AY13,$BA13,$BC13),9)","v":0},{"$f":"LARGE(($I13,$K13,$M13,$O13,$Q13,$S13,$U13,$W13,$Y13,$AA13,$AC13,$AE13,$AG13,$AI13,$AK13,$AM13,$AO13,$AQ13,$AS13,$AU13,$AW13,$AY13,$BA13,$BC13),10)","v":0}]
[10,2000,"Johan Hedin","IFK Borlänge",{"$f":"SUM(BD14:BM14)","v":308},{"$f":"SUM(BD14:BK14)","v":308},{"$f":"I14+K14+M14+O14+Q14+S14+U14+W14+Y14+AA14+AC14+AE14+AG14+AI14+AK14+AM14+AO14+AQ14+AS14+AU14+AW14+AY14+BA14+BC14","v":308},9,{"$f":"LOOKUP(H14,Poängberäkning!$B$6:$B$97,Poängberäkning!$C$6:$C$97)","v":44},12,{"$f":"LOOKUP(J14,Poängberäkning!$B$6:$B$97,Poängberäkning!$C$6:$C$97)","v":39},7,{"$f":"LOOKUP(L14,Poängberäkning!$B$6:$B$97,Poängberäkning!$C$6:$C$97)","v":48},10,{"$f":"LOOKUP(N14,Poängberäkning!$B$6:$B$97,Poängberäkning!$C$6:$C$97)","v":42},99,{"$f":"LOOKUP(P14,Poängberäkning!$B$6:$B$97,Poängberäkning!$C$6:$C$97)","v":0},11,{"$f":"LOOKUP(R14,Poängberäkning!$B$6:$B$97,Poängberäkning!$C$6:$C$97)","v":40},5,{"$f":"LOOKUP(T14,Poängberäkning!$B$6:$B$97,Poängberäkning!$C$6:$C$97)","v":55},11,{"$f":"LOOKUP(V14,Poängberäkning!$B$6:$B$97,Poängberäkning!$C$6:$C$97)","v":40},null,{"$f":"LOOKUP(X14,Poängberäkning!$B$6:$B$97,Poängberäkning!$C$6:$C$97)","v":0},null,{"$f":"LOOKUP(Z14,Poängberäkning!$B$6:$B$97,Poängberäkning!$C$6:$C$97)","v":0},null,{"$f":"LOOKUP(AB14,Poängberäkning!$B$6:$B$97,Poängberäkning!$C$6:$C$97)","v":0},null,{"$f":"LOOKUP(AD14,Poängberäkning!$B$6:$B$97,Poängberäkning!$C$6:$C$97)","v":0},null,{"$f":"LOOKUP(AF14,Poängberäkning!$B$6:$B$97,Poängberäkning!$C$6:$C$97)","v":0},null,{"$f":"LOOKUP(AH14,Poängberäkning!$B$6:$B$97,Poängberäkning!$C$6:$C$97)","v":0},null,{"$f":"LOOKUP(AJ14,Poängberäkning!$B$6:$B$97,Poängberäkning!$C$6:$C$97)","v":0},null,{"$f":"LOOKUP(AL14,Poängberäkning!$B$6:$B$97,Poängberäkning!$C$6:$C$97)","v":0},null,{"$f":"LOOKUP(AN14,Poängberäkning!$B$6:$B$97,Poängberäkning!$C$6:$C$97)","v":0},null,{"$f":"LOOKUP(AP14,Poängberäkning!$B$6:$B$97,Poängberäkning!$C$6:$C$97)","v":0},null,{"$f":"LOOKUP(AR14,Poängberäkning!$B$6:$B$97,Poängberäkning!$C$6:$C$97)","v":0},null,{"$f":"LOOKUP(AT14,Poängberäkning!$B$6:$B$97,Poängberäkning!$C$6:$C$97)","v":0},null,null,null,null,null,null,null,null,{"$f":"LARGE(($I14,$K14,$M14,$O14,$Q14,$S14,$U14,$W14,$Y14,$AA14,$AC14,$AE14,$AG14,$AI14,$AK14,$AM14,$AO14,$AQ14,$AS14,$AU14,$AW14,$AY14,$BA14,$BC14),1)","v":55},{"$f":"LARGE(($I14,$K14,$M14,$O14,$Q14,$S14,$U14,$W14,$Y14,$AA14,$AC14,$AE14,$AG14,$AI14,$AK14,$AM14,$AO14,$AQ14,$AS14,$AU14,$AW14,$AY14,$BA14,$BC14),2)","v":48},{"$f":"LARGE(($I14,$K14,$M14,$O14,$Q14,$S14,$U14,$W14,$Y14,$AA14,$AC14,$AE14,$AG14,$AI14,$AK14,$AM14,$AO14,$AQ14,$AS14,$AU14,$AW14,$AY14,$BA14,$BC14),3)","v":44},{"$f":"LARGE(($I14,$K14,$M14,$O14,$Q14,$S14,$U14,$W14,$Y14,$AA14,$AC14,$AE14,$AG14,$AI14,$AK14,$AM14,$AO14,$AQ14,$AS14,$AU14,$AW14,$AY14,$BA14,$BC14),4)","v":42},{"$f":"LARGE(($I14,$K14,$M14,$O14,$Q14,$S14,$U14,$W14,$Y14,$AA14,$AC14,$AE14,$AG14,$AI14,$AK14,$AM14,$AO14,$AQ14,$AS14,$AU14,$AW14,$AY14,$BA14,$BC14),5)","v":40},{"$f":"LARGE(($I14,$K14,$M14,$O14,$Q14,$S14,$U14,$W14,$Y14,$AA14,$AC14,$AE14,$AG14,$AI14,$AK14,$AM14,$AO14,$AQ14,$AS14,$AU14,$AW14,$AY14,$BA14,$BC14),6)","v":40},{"$f":"LARGE(($I14,$K14,$M14,$O14,$Q14,$S14,$U14,$W14,$Y14,$AA14,$AC14,$AE14,$AG14,$AI14,$AK14,$AM14,$AO14,$AQ14,$AS14,$AU14,$AW14,$AY14,$BA14,$BC14),7)","v":39},{"$f":"LARGE(($I14,$K14,$M14,$O14,$Q14,$S14,$U14,$W14,$Y14,$AA14,$AC14,$AE14,$AG14,$AI14,$AK14,$AM14,$AO14,$AQ14,$AS14,$AU14,$AW14,$AY14,$BA14,$BC14),8)","v":0},{"$f":"LARGE(($I14,$K14,$M14,$O14,$Q14,$S14,$U14,$W14,$Y14,$AA14,$AC14,$AE14,$AG14,$AI14,$AK14,$AM14,$AO14,$AQ14,$AS14,$AU14,$AW14,$AY14,$BA14,$BC14),9)","v":0},{"$f":"LARGE(($I14,$K14,$M14,$O14,$Q14,$S14,$U14,$W14,$Y14,$AA14,$AC14,$AE14,$AG14,$AI14,$AK14,$AM14,$AO14,$AQ14,$AS14,$AU14,$AW14,$AY14,$BA14,$BC14),10)","v":0}]
[11,2000,"Martin Jansson","IFK Falun",{"$f":"SUM(BD15:BM15)","v":292},{"$f":"SUM(BD15:BK15)","v":292},{"$f":"I15+K15+M15+O15+Q15+S15+U15+W15+Y15+AA15+AC15+AE15+AG15+AI15+AK15+AM15+AO15+AQ15+AS15+AU15+AW15+AY15+BA15+BC15","v":292},7,{"$f":"LOOKUP(H15,Poängberäkning!$B$6:$B$97,Poängberäkning!$C$6:$C$97)","v":48},8,{"$f":"LOOKUP(J15,Poängberäkning!$B$6:$B$97,Poängberäkning!$C$6:$C$97)","v":46},99,{"$f":"LOOKUP(L15,Poängberäkning!$B$6:$B$97,Poängberäkning!$C$6:$C$97)","v":0},8,{"$f":"LOOKUP(N15,Poängberäkning!$B$6:$B$97,Poängberäkning!$C$6:$C$97)","v":46},99,{"$f":"LOOKUP(P15,Poängberäkning!$B$6:$B$97,Poängberäkning!$C$6:$C$97)","v":0},8,{"$f":"LOOKUP(R15,Poängberäkning!$B$6:$B$97,Poängberäkning!$C$6:$C$97)","v":46},4,{"$f":"LOOKUP(T15,Poängberäkning!$B$6:$B$97,Poängberäkning!$C$6:$C$97)","v":60},8,{"$f":"LOOKUP(V15,Poängberäkning!$B$6:$B$97,Poängberäkning!$C$6:$C$97)","v":46},null,{"$f":"LOOKUP(X15,Poängberäkning!$B$6:$B$97,Poängberäkning!$C$6:$C$97)","v":0},null,{"$f":"LOOKUP(Z15,Poängberäkning!$B$6:$B$97,Poängberäkning!$C$6:$C$97)","v":0},null,{"$f":"LOOKUP(AB15,Poängberäkning!$B$6:$B$97,Poängberäkning!$C$6:$C$97)","v":0},null,{"$f":"LOOKUP(AD15,Poängberäkning!$B$6:$B$97,Poängberäkning!$C$6:$C$97)","v":0},null,{"$f":"LOOKUP(AF15,Poängberäkning!$B$6:$B$97,Poängberäkning!$C$6:$C$97)","v":0},null,{"$f":"LOOKUP(AH15,Poängberäkning!$B$6:$B$97,Poängberäkning!$C$6:$C$97)","v":0},null,{"$f":"LOOKUP(AJ15,Poängberäkning!$B$6:$B$97,Poängberäkning!$C$6:$C$97)","v":0},null,{"$f":"LOOKUP(AL15,Poängberäkning!$B$6:$B$97,Poängberäkning!$C$6:$C$97)","v":0},null,{"$f":"LOOKUP(AN15,Poängberäkning!$B$6:$B$97,Poängberäkning!$C$6:$C$97)","v":0},null,{"$f":"LOOKUP(AP15,Poängberäkning!$B$6:$B$97,Poängberäkning!$C$6:$C$97)","v":0},null,{"$f":"LOOKUP(AR15,Poängberäkning!$B$6:$B$97,Poängberäkning!$C$6:$C$97)","v":0},null,{"$f":"LOOKUP(AT15,Poängberäkning!$B$6:$B$97,Poängberäkning!$C$6:$C$97)","v":0},null,null,null,null,null,null,null,null,{"$f":"LARGE(($I15,$K15,$M15,$O15,$Q15,$S15,$U15,$W15,$Y15,$AA15,$AC15,$AE15,$AG15,$AI15,$AK15,$AM15,$AO15,$AQ15,$AS15,$AU15,$AW15,$AY15,$BA15,$BC15),1)","v":60},{"$f":"LARGE(($I15,$K15,$M15,$O15,$Q15,$S15,$U15,$W15,$Y15,$AA15,$AC15,$AE15,$AG15,$AI15,$AK15,$AM15,$AO15,$AQ15,$AS15,$AU15,$AW15,$AY15,$BA15,$BC15),2)","v":48},{"$f":"LARGE(($I15,$K15,$M15,$O15,$Q15,$S15,$U15,$W15,$Y15,$AA15,$AC15,$AE15,$AG15,$AI15,$AK15,$AM15,$AO15,$AQ15,$AS15,$AU15,$AW15,$AY15,$BA15,$BC15),3)","v":46},{"$f":"LARGE(($I15,$K15,$M15,$O15,$Q15,$S15,$U15,$W15,$Y15,$AA15,$AC15,$AE15,$AG15,$AI15,$AK15,$AM15,$AO15,$AQ15,$AS15,$AU15,$AW15,$AY15,$BA15,$BC15),4)","v":46},{"$f":"LARGE(($I15,$K15,$M15,$O15,$Q15,$S15,$U15,$W15,$Y15,$AA15,$AC15,$AE15,$AG15,$AI15,$AK15,$AM15,$AO15,$AQ15,$AS15,$AU15,$AW15,$AY15,$BA15,$BC15),5)","v":46},{"$f":"LARGE(($I15,$K15,$M15,$O15,$Q15,$S15,$U15,$W15,$Y15,$AA15,$AC15,$AE15,$AG15,$AI15,$AK15,$AM15,$AO15,$AQ15,$AS15,$AU15,$AW15,$AY15,$BA15,$BC15),6)","v":46},{"$f":"LARGE(($I15,$K15,$M15,$O15,$Q15,$S15,$U15,$W15,$Y15,$AA15,$AC15,$AE15,$AG15,$AI15,$AK15,$AM15,$AO15,$AQ15,$AS15,$AU15,$AW15,$AY15,$BA15,$BC15),7)","v":0},{"$f":"LARGE(($I15,$K15,$M15,$O15,$Q15,$S15,$U15,$W15,$Y15,$AA15,$AC15,$AE15,$AG15,$AI15,$AK15,$AM15,$AO15,$AQ15,$AS15,$AU15,$AW15,$AY15,$BA15,$BC15),8)","v":0},{"$f":"LARGE(($I15,$K15,$M15,$O15,$Q15,$S15,$U15,$W15,$Y15,$AA15,$AC15,$AE15,$AG15,$AI15,$AK15,$AM15,$AO15,$AQ15,$AS15,$AU15,$AW15,$AY15,$BA15,$BC15),9)","v":0},{"$f":"LARGE(($I15,$K15,$M15,$O15,$Q15,$S15,$U15,$W15,$Y15,$AA15,$AC15,$AE15,$AG15,$AI15,$AK15,$AM15,$AO15,$AQ15,$AS15,$AU15,$AW15,$AY15,$BA15,$BC15),10)","v":0}]
[12,2000,"Mathias Gatu","Rättviks SLK",{"$f":"SUM(BD16:BM16)","v":122},{"$f":"SUM(BD16:BK16)","v":122},{"$f":"I16+K16+M16+O16+Q16+S16+U16+W16+Y16+AA16+AC16+AE16+AG16+AI16+AK16+AM16+AO16+AQ16+AS16+AU16+AW16+AY16+BA16+BC16","v":122},10,{"$f":"LOOKUP(H16,Poängberäkning!$B$6:$B$97,Poängberäkning!$C$6:$C$97)","v":42},10,{"$f":"LOOKUP(J16,Poängberäkning!$B$6:$B$97,Poängberäkning!$C$6:$C$97)","v":42},99,{"$f":"LOOKUP(L16,Poängberäkning!$B$6:$B$97,Poängberäkning!$C$6:$C$97)","v":0},13,{"$f":"LOOKUP(N16,Poängberäkning!$B$6:$B$97,Poängberäkning!$C$6:$C$97)","v":38},null,{"$f":"LOOKUP(P16,Poängberäkning!$B$6:$B$97,Poängberäkning!$C$6:$C$97)","v":0},null,{"$f":"LOOKUP(R16,Poängberäkning!$B$6:$B$97,Poängberäkning!$C$6:$C$97)","v":0},null,{"$f":"LOOKUP(T16,Poängberäkning!$B$6:$B$97,Poängberäkning!$C$6:$C$97)","v":0},null,{"$f":"LOOKUP(V16,Poängberäkning!$B$6:$B$97,Poängberäkning!$C$6:$C$97)","v":0},null,{"$f":"LOOKUP(X16,Poängberäkning!$B$6:$B$97,Poängberäkning!$C$6:$C$97)","v":0},null,{"$f":"LOOKUP(Z16,Poängberäkning!$B$6:$B$97,Poängberäkning!$C$6:$C$97)","v":0},null,{"$f":"LOOKUP(AB16,Poängberäkning!$B$6:$B$97,Poängberäkning!$C$6:$C$97)","v":0},null,{"$f":"LOOKUP(AD16,Poängberäkning!$B$6:$B$97,Poängberäkning!$C$6:$C$97)","v":0},null,{"$f":"LOOKUP(AF16,Poängberäkning!$B$6:$B$97,Poängberäkning!$C$6:$C$97)","v":0},null,{"$f":"LOOKUP(AH16,Poängberäkning!$B$6:$B$97,Poängberäkning!$C$6:$C$97)","v":0},null,{"$f":"LOOKUP(AJ16,Poängberäkning!$B$6:$B$97,Poängberäkning!$C$6:$C$97)","v":0},null,{"$f":"LOOKUP(AL16,Poängberäkning!$B$6:$B$97,Poängberäkning!$C$6:$C$97)","v":0},null,{"$f":"LOOKUP(AN16,Poängberäkning!$B$6:$B$97,Poängberäkning!$C$6:$C$97)","v":0},null,{"$f":"LOOKUP(AP16,Poängberäkning!$B$6:$B$97,Poängberäkning!$C$6:$C$97)","v":0},null,{"$f":"LOOKUP(AR16,Poängberäkning!$B$6:$B$97,Poängberäkning!$C$6:$C$97)","v":0},null,{"$f":"LOOKUP(AT16,Poängberäkning!$B$6:$B$97,Poängberäkning!$C$6:$C$97)","v":0},null,null,null,null,null,null,null,null,{"$f":"LARGE(($I16,$K16,$M16,$O16,$Q16,$S16,$U16,$W16,$Y16,$AA16,$AC16,$AE16,$AG16,$AI16,$AK16,$AM16,$AO16,$AQ16,$AS16,$AU16,$AW16,$AY16,$BA16,$BC16),1)","v":42},{"$f":"LARGE(($I16,$K16,$M16,$O16,$Q16,$S16,$U16,$W16,$Y16,$AA16,$AC16,$AE16,$AG16,$AI16,$AK16,$AM16,$AO16,$AQ16,$AS16,$AU16,$AW16,$AY16,$BA16,$BC16),2)","v":42},{"$f":"LARGE(($I16,$K16,$M16,$O16,$Q16,$S16,$U16,$W16,$Y16,$AA16,$AC16,$AE16,$AG16,$AI16,$AK16,$AM16,$AO16,$AQ16,$AS16,$AU16,$AW16,$AY16,$BA16,$BC16),3)","v":38},{"$f":"LARGE(($I16,$K16,$M16,$O16,$Q16,$S16,$U16,$W16,$Y16,$AA16,$AC16,$AE16,$AG16,$AI16,$AK16,$AM16,$AO16,$AQ16,$AS16,$AU16,$AW16,$AY16,$BA16,$BC16),4)","v":0},{"$f":"LARGE(($I16,$K16,$M16,$O16,$Q16,$S16,$U16,$W16,$Y16,$AA16,$AC16,$AE16,$AG16,$AI16,$AK16,$AM16,$AO16,$AQ16,$AS16,$AU16,$AW16,$AY16,$BA16,$BC16),5)","v":0},{"$f":"LARGE(($I16,$K16,$M16,$O16,$Q16,$S16,$U16,$W16,$Y16,$AA16,$AC16,$AE16,$AG16,$AI16,$AK16,$AM16,$AO16,$AQ16,$AS16,$AU16,$AW16,$AY16,$BA16,$BC16),6)","v":0},{"$f":"LARGE(($I16,$K16,$M16,$O16,$Q16,$S16,$U16,$W16,$Y16,$AA16,$AC16,$AE16,$AG16,$AI16,$AK16,$AM16,$AO16,$AQ16,$AS16,$AU16,$AW16,$AY16,$BA16,$BC16),7)","v":0},{"$f":"LARGE(($I16,$K16,$M16,$O16,$Q16,$S16,$U16,$W16,$Y16,$AA16,$AC16,$AE16,$AG16,$AI16,$AK16,$AM16,$AO16,$AQ16,$AS16,$AU16,$AW16,$AY16,$BA16,$BC16),8)","v":0},{"$f":"LARGE(($I16,$K16,$M16,$O16,$Q16,$S16,$U16,$W16,$Y16,$AA16,$AC16,$AE16,$AG16,$AI16,$AK16,$AM16,$AO16,$AQ16,$AS16,$AU16,$AW16,$AY16,$BA16,$BC16),9)","v":0},{"$f":"LARGE(($I16,$K16,$M16,$O16,$Q16,$S16,$U16,$W16,$Y16,$AA16,$AC16,$AE16,$AG16,$AI16,$AK16,$AM16,$AO16,$AQ16,$AS16,$AU16,$AW16,$AY16,$BA16,$BC16),10)","v":0}]
[13,2000,"Oliver Suther","Rättviks SLK",{"$f":"SUM(BD17:BM17)","v":81},{"$f":"SUM(BD17:BK17)","v":81},{"$f":"I17+K17+M17+O17+Q17+S17+U17+W17+Y17+AA17+AC17+AE17+AG17+AI17+AK17+AM17+AO17+AQ17+AS17+AU17+AW17+AY17+BA17+BC17","v":81},99,{"$f":"LOOKUP(H17,Poängberäkning!$B$6:$B$97,Poängberäkning!$C$6:$C$97)","v":0},99,{"$f":"LOOKUP(J17,Poängberäkning!$B$6:$B$97,Poängberäkning!$C$6:$C$97)","v":0},10,{"$f":"LOOKUP(L17,Poängberäkning!$B$6:$B$97,Poängberäkning!$C$6:$C$97)","v":42},12,{"$f":"LOOKUP(N17,Poängberäkning!$B$6:$B$97,Poängberäkning!$C$6:$C$97)","v":39},null,{"$f":"LOOKUP(P17,Poängberäkning!$B$6:$B$97,Poängberäkning!$C$6:$C$97)","v":0},null,{"$f":"LOOKUP(R17,Poängberäkning!$B$6:$B$97,Poängberäkning!$C$6:$C$97)","v":0},null,{"$f":"LOOKUP(T17,Poängberäkning!$B$6:$B$97,Poängberäkning!$C$6:$C$97)","v":0},null,{"$f":"LOOKUP(V17,Poängberäkning!$B$6:$B$97,Poängberäkning!$C$6:$C$97)","v":0},null,{"$f":"LOOKUP(X17,Poängberäkning!$B$6:$B$97,Poängberäkning!$C$6:$C$97)","v":0},null,{"$f":"LOOKUP(Z17,Poängberäkning!$B$6:$B$97,Poängberäkning!$C$6:$C$97)","v":0},null,{"$f":"LOOKUP(AB17,Poängberäkning!$B$6:$B$97,Poängberäkning!$C$6:$C$97)","v":0},null,{"$f":"LOOKUP(AD17,Poängberäkning!$B$6:$B$97,Poängberäkning!$C$6:$C$97)","v":0},null,{"$f":"LOOKUP(AF17,Poängberäkning!$B$6:$B$97,Poängberäkning!$C$6:$C$97)","v":0},null,{"$f":"LOOKUP(AH17,Poängberäkning!$B$6:$B$97,Poängberäkning!$C$6:$C$97)","v":0},null,{"$f":"LOOKUP(AJ17,Poängberäkning!$B$6:$B$97,Poängberäkning!$C$6:$C$97)","v":0},null,{"$f":"LOOKUP(AL17,Poängberäkning!$B$6:$B$97,Poängberäkning!$C$6:$C$97)","v":0},null,{"$f":"LOOKUP(AN17,Poängberäkning!$B$6:$B$97,Poängberäkning!$C$6:$C$97)","v":0},null,{"$f":"LOOKUP(AP17,Poängberäkning!$B$6:$B$97,Poängberäkning!$C$6:$C$97)","v":0},null,{"$f":"LOOKUP(AR17,Poängberäkning!$B$6:$B$97,Poängberäkning!$C$6:$C$97)","v":0},null,{"$f":"LOOKUP(AT17,Poängberäkning!$B$6:$B$97,Poängberäkning!$C$6:$C$97)","v":0},null,null,null,null,null,null,null,null,{"$f":"LARGE(($I17,$K17,$M17,$O17,$Q17,$S17,$U17,$W17,$Y17,$AA17,$AC17,$AE17,$AG17,$AI17,$AK17,$AM17,$AO17,$AQ17,$AS17,$AU17,$AW17,$AY17,$BA17,$BC17),1)","v":42},{"$f":"LARGE(($I17,$K17,$M17,$O17,$Q17,$S17,$U17,$W17,$Y17,$AA17,$AC17,$AE17,$AG17,$AI17,$AK17,$AM17,$AO17,$AQ17,$AS17,$AU17,$AW17,$AY17,$BA17,$BC17),2)","v":39},{"$f":"LARGE(($I17,$K17,$M17,$O17,$Q17,$S17,$U17,$W17,$Y17,$AA17,$AC17,$AE17,$AG17,$AI17,$AK17,$AM17,$AO17,$AQ17,$AS17,$AU17,$AW17,$AY17,$BA17,$BC17),3)","v":0},{"$f":"LARGE(($I17,$K17,$M17,$O17,$Q17,$S17,$U17,$W17,$Y17,$AA17,$AC17,$AE17,$AG17,$AI17,$AK17,$AM17,$AO17,$AQ17,$AS17,$AU17,$AW17,$AY17,$BA17,$BC17),4)","v":0},{"$f":"LARGE(($I17,$K17,$M17,$O17,$Q17,$S17,$U17,$W17,$Y17,$AA17,$AC17,$AE17,$AG17,$AI17,$AK17,$AM17,$AO17,$AQ17,$AS17,$AU17,$AW17,$AY17,$BA17,$BC17),5)","v":0},{"$f":"LARGE(($I17,$K17,$M17,$O17,$Q17,$S17,$U17,$W17,$Y17,$AA17,$AC17,$AE17,$AG17,$AI17,$AK17,$AM17,$AO17,$AQ17,$AS17,$AU17,$AW17,$AY17,$BA17,$BC17),6)","v":0},{"$f":"LARGE(($I17,$K17,$M17,$O17,$Q17,$S17,$U17,$W17,$Y17,$AA17,$AC17,$AE17,$AG17,$AI17,$AK17,$AM17,$AO17,$AQ17,$AS17,$AU17,$AW17,$AY17,$BA17,$BC17),7)","v":0},{"$f":"LARGE(($I17,$K17,$M17,$O17,$Q17,$S17,$U17,$W17,$Y17,$AA17,$AC17,$AE17,$AG17,$AI17,$AK17,$AM17,$AO17,$AQ17,$AS17,$AU17,$AW17,$AY17,$BA17,$BC17),8)","v":0},{"$f":"LARGE(($I17,$K17,$M17,$O17,$Q17,$S17,$U17,$W17,$Y17,$AA17,$AC17,$AE17,$AG17,$AI17,$AK17,$AM17,$AO17,$AQ17,$AS17,$AU17,$AW17,$AY17,$BA17,$BC17),9)","v":0},{"$f":"LARGE(($I17,$K17,$M17,$O17,$Q17,$S17,$U17,$W17,$Y17,$AA17,$AC17,$AE17,$AG17,$AI17,$AK17,$AM17,$AO17,$AQ17,$AS17,$AU17,$AW17,$AY17,$BA17,$BC17),10)","v":0}]
[14,2000,"Alexander Mueller","Kungsbergets AK",{"$f":"SUM(BD18:BM18)","v":42},{"$f":"SUM(BD18:BK18)","v":42},{"$f":"I18+K18+M18+O18+Q18+S18+U18+W18+Y18+AA18+AC18+AE18+AG18+AI18+AK18+AM18+AO18+AQ18+AS18+AU18+AW18+AY18+BA18+BC18","v":42},null,{"$f":"LOOKUP(H18,Poängberäkning!$B$6:$B$97,Poängberäkning!$C$6:$C$97)","v":0},null,{"$f":"LOOKUP(J18,Poängberäkning!$B$6:$B$97,Poängberäkning!$C$6:$C$97)","v":0},null,{"$f":"LOOKUP(L18,Poängberäkning!$B$6:$B$97,Poängberäkning!$C$6:$C$97)","v":0},null,{"$f":"LOOKUP(N18,Poängberäkning!$B$6:$B$97,Poängberäkning!$C$6:$C$97)","v":0},10,{"$f":"LOOKUP(P18,Poängberäkning!$B$6:$B$97,Poängberäkning!$C$6:$C$97)","v":42},99,{"$f":"LOOKUP(R18,Poängberäkning!$B$6:$B$97,Poängberäkning!$C$6:$C$97)","v":0},99,{"$f":"LOOKUP(T18,Poängberäkning!$B$6:$B$97,Poängberäkning!$C$6:$C$97)","v":0},99,{"$f":"LOOKUP(V18,Poängberäkning!$B$6:$B$97,Poängberäkning!$C$6:$C$97)","v":0},null,{"$f":"LOOKUP(X18,Poängberäkning!$B$6:$B$97,Poängberäkning!$C$6:$C$97)","v":0},null,{"$f":"LOOKUP(Z18,Poängberäkning!$B$6:$B$97,Poängberäkning!$C$6:$C$97)","v":0},null,{"$f":"LOOKUP(AB18,Poängberäkning!$B$6:$B$97,Poängberäkning!$C$6:$C$97)","v":0},null,{"$f":"LOOKUP(AD18,Poängberäkning!$B$6:$B$97,Poängberäkning!$C$6:$C$97)","v":0},null,{"$f":"LOOKUP(AF18,Poängberäkning!$B$6:$B$97,Poängberäkning!$C$6:$C$97)","v":0},null,{"$f":"LOOKUP(AH18,Poängberäkning!$B$6:$B$97,Poängberäkning!$C$6:$C$97)","v":0},null,{"$f":"LOOKUP(AJ18,Poängberäkning!$B$6:$B$97,Poängberäkning!$C$6:$C$97)","v":0},null,{"$f":"LOOKUP(AL18,Poängberäkning!$B$6:$B$97,Poängberäkning!$C$6:$C$97)","v":0},null,{"$f":"LOOKUP(AN18,Poängberäkning!$B$6:$B$97,Poängberäkning!$C$6:$C$97)","v":0},null,{"$f":"LOOKUP(AP18,Poängberäkning!$B$6:$B$97,Poängberäkning!$C$6:$C$97)","v":0},null,{"$f":"LOOKUP(AR18,Poängberäkning!$B$6:$B$97,Poängberäkning!$C$6:$C$97)","v":0},null,{"$f":"LOOKUP(AT18,Poängberäkning!$B$6:$B$97,Poängberäkning!$C$6:$C$97)","v":0},null,null,null,null,null,null,null,null,{"$f":"LARGE(($I18,$K18,$M18,$O18,$Q18,$S18,$U18,$W18,$Y18,$AA18,$AC18,$AE18,$AG18,$AI18,$AK18,$AM18,$AO18,$AQ18,$AS18,$AU18,$AW18,$AY18,$BA18,$BC18),1)","v":42},{"$f":"LARGE(($I18,$K18,$M18,$O18,$Q18,$S18,$U18,$W18,$Y18,$AA18,$AC18,$AE18,$AG18,$AI18,$AK18,$AM18,$AO18,$AQ18,$AS18,$AU18,$AW18,$AY18,$BA18,$BC18),2)","v":0},{"$f":"LARGE(($I18,$K18,$M18,$O18,$Q18,$S18,$U18,$W18,$Y18,$AA18,$AC18,$AE18,$AG18,$AI18,$AK18,$AM18,$AO18,$AQ18,$AS18,$AU18,$AW18,$AY18,$BA18,$BC18),3)","v":0},{"$f":"LARGE(($I18,$K18,$M18,$O18,$Q18,$S18,$U18,$W18,$Y18,$AA18,$AC18,$AE18,$AG18,$AI18,$AK18,$AM18,$AO18,$AQ18,$AS18,$AU18,$AW18,$AY18,$BA18,$BC18),4)","v":0},{"$f":"LARGE(($I18,$K18,$M18,$O18,$Q18,$S18,$U18,$W18,$Y18,$AA18,$AC18,$AE18,$AG18,$AI18,$AK18,$AM18,$AO18,$AQ18,$AS18,$AU18,$AW18,$AY18,$BA18,$BC18),5)","v":0},{"$f":"LARGE(($I18,$K18,$M18,$O18,$Q18,$S18,$U18,$W18,$Y18,$AA18,$AC18,$AE18,$AG18,$AI18,$AK18,$AM18,$AO18,$AQ18,$AS18,$AU18,$AW18,$AY18,$BA18,$BC18),6)","v":0},{"$f":"LARGE(($I18,$K18,$M18,$O18,$Q18,$S18,$U18,$W18,$Y18,$AA18,$AC18,$AE18,$AG18,$AI18,$AK18,$AM18,$AO18,$AQ18,$AS18,$AU18,$AW18,$AY18,$BA18,$BC18),7)","v":0},{"$f":"LARGE(($I18,$K18,$M18,$O18,$Q18,$S18,$U18,$W18,$Y18,$AA18,$AC18,$AE18,$AG18,$AI18,$AK18,$AM18,$AO18,$AQ18,$AS18,$AU18,$AW18,$AY18,$BA18,$BC18),8)","v":0},{"$f":"LARGE(($I18,$K18,$M18,$O18,$Q18,$S18,$U18,$W18,$Y18,$AA18,$AC18,$AE18,$AG18,$AI18,$AK18,$AM18,$AO18,$AQ18,$AS18,$AU18,$AW18,$AY18,$BA18,$BC18),9)","v":0},{"$f":"LARGE(($I18,$K18,$M18,$O18,$Q18,$S18,$U18,$W18,$Y18,$AA18,$AC18,$AE18,$AG18,$AI18,$AK18,$AM18,$AO18,$AQ18,$AS18,$AU18,$AW18,$AY18,$BA18,$BC18),10)","v":0}]
[15,null,null,null,{"$f":"SUM(BD19:BM19)","v":0},{"$f":"SUM(BD19:BK19)","v":0},{"$f":"I19+K19+M19+O19+Q19+S19+U19+W19+Y19+AA19+AC19+AE19+AG19+AI19+AK19+AM19+AO19+AQ19+AS19+AU19+AW19+AY19+BA19+BC19","v":0},null,{"$f":"LOOKUP(H19,Poängberäkning!$B$6:$B$97,Poängberäkning!$C$6:$C$97)","v":0},null,{"$f":"LOOKUP(J19,Poängberäkning!$B$6:$B$97,Poängberäkning!$C$6:$C$97)","v":0},null,{"$f":"LOOKUP(L19,Poängberäkning!$B$6:$B$97,Poängberäkning!$C$6:$C$97)","v":0},null,{"$f":"LOOKUP(N19,Poängberäkning!$B$6:$B$97,Poängberäkning!$C$6:$C$97)","v":0},null,{"$f":"LOOKUP(P19,Poängberäkning!$B$6:$B$97,Poängberäkning!$C$6:$C$97)","v":0},null,{"$f":"LOOKUP(R19,Poängberäkning!$B$6:$B$97,Poängberäkning!$C$6:$C$97)","v":0},null,{"$f":"LOOKUP(T19,Poängberäkning!$B$6:$B$97,Poängberäkning!$C$6:$C$97)","v":0},null,{"$f":"LOOKUP(V19,Poängberäkning!$B$6:$B$97,Poängberäkning!$C$6:$C$97)","v":0},null,{"$f":"LOOKUP(X19,Poängberäkning!$B$6:$B$97,Poängberäkning!$C$6:$C$97)","v":0},null,{"$f":"LOOKUP(Z19,Poängberäkning!$B$6:$B$97,Poängberäkning!$C$6:$C$97)","v":0},null,{"$f":"LOOKUP(AB19,Poängberäkning!$B$6:$B$97,Poängberäkning!$C$6:$C$97)","v":0},null,{"$f":"LOOKUP(AD19,Poängberäkning!$B$6:$B$97,Poängberäkning!$C$6:$C$97)","v":0},null,{"$f":"LOOKUP(AF19,Poängberäkning!$B$6:$B$97,Poängberäkning!$C$6:$C$97)","v":0},null,{"$f":"LOOKUP(AH19,Poängberäkning!$B$6:$B$97,Poängberäkning!$C$6:$C$97)","v":0},null,{"$f":"LOOKUP(AJ19,Poängberäkning!$B$6:$B$97,Poängberäkning!$C$6:$C$97)","v":0},null,{"$f":"LOOKUP(AL19,Poängberäkning!$B$6:$B$97,Poängberäkning!$C$6:$C$97)","v":0},null,{"$f":"LOOKUP(AN19,Poängberäkning!$B$6:$B$97,Poängberäkning!$C$6:$C$97)","v":0},null,{"$f":"LOOKUP(AP19,Poängberäkning!$B$6:$B$97,Poängberäkning!$C$6:$C$97)","v":0},null,{"$f":"LOOKUP(AR19,Poängberäkning!$B$6:$B$97,Poängberäkning!$C$6:$C$97)","v":0},null,{"$f":"LOOKUP(AT19,Poängberäkning!$B$6:$B$97,Poängberäkning!$C$6:$C$97)","v":0},null,null,null,null,null,null,null,null,{"$f":"LARGE(($I19,$K19,$M19,$O19,$Q19,$S19,$U19,$W19,$Y19,$AA19,$AC19,$AE19,$AG19,$AI19,$AK19,$AM19,$AO19,$AQ19,$AS19,$AU19,$AW19,$AY19,$BA19,$BC19),1)","v":0},{"$f":"LARGE(($I19,$K19,$M19,$O19,$Q19,$S19,$U19,$W19,$Y19,$AA19,$AC19,$AE19,$AG19,$AI19,$AK19,$AM19,$AO19,$AQ19,$AS19,$AU19,$AW19,$AY19,$BA19,$BC19),2)","v":0},{"$f":"LARGE(($I19,$K19,$M19,$O19,$Q19,$S19,$U19,$W19,$Y19,$AA19,$AC19,$AE19,$AG19,$AI19,$AK19,$AM19,$AO19,$AQ19,$AS19,$AU19,$AW19,$AY19,$BA19,$BC19),3)","v":0},{"$f":"LARGE(($I19,$K19,$M19,$O19,$Q19,$S19,$U19,$W19,$Y19,$AA19,$AC19,$AE19,$AG19,$AI19,$AK19,$AM19,$AO19,$AQ19,$AS19,$AU19,$AW19,$AY19,$BA19,$BC19),4)","v":0},{"$f":"LARGE(($I19,$K19,$M19,$O19,$Q19,$S19,$U19,$W19,$Y19,$AA19,$AC19,$AE19,$AG19,$AI19,$AK19,$AM19,$AO19,$AQ19,$AS19,$AU19,$AW19,$AY19,$BA19,$BC19),5)","v":0},{"$f":"LARGE(($I19,$K19,$M19,$O19,$Q19,$S19,$U19,$W19,$Y19,$AA19,$AC19,$AE19,$AG19,$AI19,$AK19,$AM19,$AO19,$AQ19,$AS19,$AU19,$AW19,$AY19,$BA19,$BC19),6)","v":0},{"$f":"LARGE(($I19,$K19,$M19,$O19,$Q19,$S19,$U19,$W19,$Y19,$AA19,$AC19,$AE19,$AG19,$AI19,$AK19,$AM19,$AO19,$AQ19,$AS19,$AU19,$AW19,$AY19,$BA19,$BC19),7)","v":0},{"$f":"LARGE(($I19,$K19,$M19,$O19,$Q19,$S19,$U19,$W19,$Y19,$AA19,$AC19,$AE19,$AG19,$AI19,$AK19,$AM19,$AO19,$AQ19,$AS19,$AU19,$AW19,$AY19,$BA19,$BC19),8)","v":0},{"$f":"LARGE(($I19,$K19,$M19,$O19,$Q19,$S19,$U19,$W19,$Y19,$AA19,$AC19,$AE19,$AG19,$AI19,$AK19,$AM19,$AO19,$AQ19,$AS19,$AU19,$AW19,$AY19,$BA19,$BC19),9)","v":0},{"$f":"LARGE(($I19,$K19,$M19,$O19,$Q19,$S19,$U19,$W19,$Y19,$AA19,$AC19,$AE19,$AG19,$AI19,$AK19,$AM19,$AO19,$AQ19,$AS19,$AU19,$AW19,$AY19,$BA19,$BC19),10)","v":0}]
[16,null,null,null,{"$f":"SUM(BD20:BM20)","v":0},{"$f":"SUM(BD20:BK20)","v":0},{"$f":"I20+K20+M20+O20+Q20+S20+U20+W20+Y20+AA20+AC20+AE20+AG20+AI20+AK20+AM20+AO20+AQ20+AS20+AU20+AW20+AY20+BA20+BC20","v":0},null,{"$f":"LOOKUP(H20,Poängberäkning!$B$6:$B$97,Poängberäkning!$C$6:$C$97)","v":0},null,{"$f":"LOOKUP(J20,Poängberäkning!$B$6:$B$97,Poängberäkning!$C$6:$C$97)","v":0},null,{"$f":"LOOKUP(L20,Poängberäkning!$B$6:$B$97,Poängberäkning!$C$6:$C$97)","v":0},null,{"$f":"LOOKUP(N20,Poängberäkning!$B$6:$B$97,Poängberäkning!$C$6:$C$97)","v":0},null,{"$f":"LOOKUP(P20,Poängberäkning!$B$6:$B$97,Poängberäkning!$C$6:$C$97)","v":0},null,{"$f":"LOOKUP(R20,Poängberäkning!$B$6:$B$97,Poängberäkning!$C$6:$C$97)","v":0},null,{"$f":"LOOKUP(T20,Poängberäkning!$B$6:$B$97,Poängberäkning!$C$6:$C$97)","v":0},null,{"$f":"LOOKUP(V20,Poängberäkning!$B$6:$B$97,Poängberäkning!$C$6:$C$97)","v":0},null,{"$f":"LOOKUP(X20,Poängberäkning!$B$6:$B$97,Poängberäkning!$C$6:$C$97)","v":0},null,{"$f":"LOOKUP(Z20,Poängberäkning!$B$6:$B$97,Poängberäkning!$C$6:$C$97)","v":0},null,{"$f":"LOOKUP(AB20,Poängberäkning!$B$6:$B$97,Poängberäkning!$C$6:$C$97)","v":0},null,{"$f":"LOOKUP(AD20,Poängberäkning!$B$6:$B$97,Poängberäkning!$C$6:$C$97)","v":0},null,{"$f":"LOOKUP(AF20,Poängberäkning!$B$6:$B$97,Poängberäkning!$C$6:$C$97)","v":0},null,{"$f":"LOOKUP(AH20,Poängberäkning!$B$6:$B$97,Poängberäkning!$C$6:$C$97)","v":0},null,{"$f":"LOOKUP(AJ20,Poängberäkning!$B$6:$B$97,Poängberäkning!$C$6:$C$97)","v":0},null,{"$f":"LOOKUP(AL20,Poängberäkning!$B$6:$B$97,Poängberäkning!$C$6:$C$97)","v":0},null,{"$f":"LOOKUP(AN20,Poängberäkning!$B$6:$B$97,Poängberäkning!$C$6:$C$97)","v":0},null,{"$f":"LOOKUP(AP20,Poängberäkning!$B$6:$B$97,Poängberäkning!$C$6:$C$97)","v":0},null,{"$f":"LOOKUP(AR20,Poängberäkning!$B$6:$B$97,Poängberäkning!$C$6:$C$97)","v":0},null,{"$f":"LOOKUP(AT20,Poängberäkning!$B$6:$B$97,Poängberäkning!$C$6:$C$97)","v":0},null,null,null,null,null,null,null,null,{"$f":"LARGE(($I20,$K20,$M20,$O20,$Q20,$S20,$U20,$W20,$Y20,$AA20,$AC20,$AE20,$AG20,$AI20,$AK20,$AM20,$AO20,$AQ20,$AS20,$AU20,$AW20,$AY20,$BA20,$BC20),1)","v":0},{"$f":"LARGE(($I20,$K20,$M20,$O20,$Q20,$S20,$U20,$W20,$Y20,$AA20,$AC20,$AE20,$AG20,$AI20,$AK20,$AM20,$AO20,$AQ20,$AS20,$AU20,$AW20,$AY20,$BA20,$BC20),2)","v":0},{"$f":"LARGE(($I20,$K20,$M20,$O20,$Q20,$S20,$U20,$W20,$Y20,$AA20,$AC20,$AE20,$AG20,$AI20,$AK20,$AM20,$AO20,$AQ20,$AS20,$AU20,$AW20,$AY20,$BA20,$BC20),3)","v":0},{"$f":"LARGE(($I20,$K20,$M20,$O20,$Q20,$S20,$U20,$W20,$Y20,$AA20,$AC20,$AE20,$AG20,$AI20,$AK20,$AM20,$AO20,$AQ20,$AS20,$AU20,$AW20,$AY20,$BA20,$BC20),4)","v":0},{"$f":"LARGE(($I20,$K20,$M20,$O20,$Q20,$S20,$U20,$W20,$Y20,$AA20,$AC20,$AE20,$AG20,$AI20,$AK20,$AM20,$AO20,$AQ20,$AS20,$AU20,$AW20,$AY20,$BA20,$BC20),5)","v":0},{"$f":"LARGE(($I20,$K20,$M20,$O20,$Q20,$S20,$U20,$W20,$Y20,$AA20,$AC20,$AE20,$AG20,$AI20,$AK20,$AM20,$AO20,$AQ20,$AS20,$AU20,$AW20,$AY20,$BA20,$BC20),6)","v":0},{"$f":"LARGE(($I20,$K20,$M20,$O20,$Q20,$S20,$U20,$W20,$Y20,$AA20,$AC20,$AE20,$AG20,$AI20,$AK20,$AM20,$AO20,$AQ20,$AS20,$AU20,$AW20,$AY20,$BA20,$BC20),7)","v":0},{"$f":"LARGE(($I20,$K20,$M20,$O20,$Q20,$S20,$U20,$W20,$Y20,$AA20,$AC20,$AE20,$AG20,$AI20,$AK20,$AM20,$AO20,$AQ20,$AS20,$AU20,$AW20,$AY20,$BA20,$BC20),8)","v":0},{"$f":"LARGE(($I20,$K20,$M20,$O20,$Q20,$S20,$U20,$W20,$Y20,$AA20,$AC20,$AE20,$AG20,$AI20,$AK20,$AM20,$AO20,$AQ20,$AS20,$AU20,$AW20,$AY20,$BA20,$BC20),9)","v":0},{"$f":"LARGE(($I20,$K20,$M20,$O20,$Q20,$S20,$U20,$W20,$Y20,$AA20,$AC20,$AE20,$AG20,$AI20,$AK20,$AM20,$AO20,$AQ20,$AS20,$AU20,$AW20,$AY20,$BA20,$BC20),10)","v":0}]
[17,null,null,null,{"$f":"SUM(BD21:BM21)","v":0},{"$f":"SUM(BD21:BK21)","v":0},{"$f":"I21+K21+M21+O21+Q21+S21+U21+W21+Y21+AA21+AC21+AE21+AG21+AI21+AK21+AM21+AO21+AQ21+AS21+AU21+AW21+AY21+BA21+BC21","v":0},null,{"$f":"LOOKUP(H21,Poängberäkning!$B$6:$B$97,Poängberäkning!$C$6:$C$97)","v":0},null,{"$f":"LOOKUP(J21,Poängberäkning!$B$6:$B$97,Poängberäkning!$C$6:$C$97)","v":0},null,{"$f":"LOOKUP(L21,Poängberäkning!$B$6:$B$97,Poängberäkning!$C$6:$C$97)","v":0},null,{"$f":"LOOKUP(N21,Poängberäkning!$B$6:$B$97,Poängberäkning!$C$6:$C$97)","v":0},null,{"$f":"LOOKUP(P21,Poängberäkning!$B$6:$B$97,Poängberäkning!$C$6:$C$97)","v":0},null,{"$f":"LOOKUP(R21,Poängberäkning!$B$6:$B$97,Poängberäkning!$C$6:$C$97)","v":0},null,{"$f":"LOOKUP(T21,Poängberäkning!$B$6:$B$97,Poängberäkning!$C$6:$C$97)","v":0},null,{"$f":"LOOKUP(V21,Poängberäkning!$B$6:$B$97,Poängberäkning!$C$6:$C$97)","v":0},null,{"$f":"LOOKUP(X21,Poängberäkning!$B$6:$B$97,Poängberäkning!$C$6:$C$97)","v":0},null,{"$f":"LOOKUP(Z21,Poängberäkning!$B$6:$B$97,Poängberäkning!$C$6:$C$97)","v":0},null,{"$f":"LOOKUP(AB21,Poängberäkning!$B$6:$B$97,Poängberäkning!$C$6:$C$97)","v":0},null,{"$f":"LOOKUP(AD21,Poängberäkning!$B$6:$B$97,Poängberäkning!$C$6:$C$97)","v":0},null,{"$f":"LOOKUP(AF21,Poängberäkning!$B$6:$B$97,Poängberäkning!$C$6:$C$97)","v":0},null,{"$f":"LOOKUP(AH21,Poängberäkning!$B$6:$B$97,Poängberäkning!$C$6:$C$97)","v":0},null,{"$f":"LOOKUP(AJ21,Poängberäkning!$B$6:$B$97,Poängberäkning!$C$6:$C$97)","v":0},null,{"$f":"LOOKUP(AL21,Poängberäkning!$B$6:$B$97,Poängberäkning!$C$6:$C$97)","v":0},null,{"$f":"LOOKUP(AN21,Poängberäkning!$B$6:$B$97,Poängberäkning!$C$6:$C$97)","v":0},null,{"$f":"LOOKUP(AP21,Poängberäkning!$B$6:$B$97,Poängberäkning!$C$6:$C$97)","v":0},null,{"$f":"LOOKUP(AR21,Poängberäkning!$B$6:$B$97,Poängberäkning!$C$6:$C$97)","v":0},null,{"$f":"LOOKUP(AT21,Poängberäkning!$B$6:$B$97,Poängberäkning!$C$6:$C$97)","v":0},null,null,null,null,null,null,null,null,{"$f":"LARGE(($I21,$K21,$M21,$O21,$Q21,$S21,$U21,$W21,$Y21,$AA21,$AC21,$AE21,$AG21,$AI21,$AK21,$AM21,$AO21,$AQ21,$AS21,$AU21,$AW21,$AY21,$BA21,$BC21),1)","v":0},{"$f":"LARGE(($I21,$K21,$M21,$O21,$Q21,$S21,$U21,$W21,$Y21,$AA21,$AC21,$AE21,$AG21,$AI21,$AK21,$AM21,$AO21,$AQ21,$AS21,$AU21,$AW21,$AY21,$BA21,$BC21),2)","v":0},{"$f":"LARGE(($I21,$K21,$M21,$O21,$Q21,$S21,$U21,$W21,$Y21,$AA21,$AC21,$AE21,$AG21,$AI21,$AK21,$AM21,$AO21,$AQ21,$AS21,$AU21,$AW21,$AY21,$BA21,$BC21),3)","v":0},{"$f":"LARGE(($I21,$K21,$M21,$O21,$Q21,$S21,$U21,$W21,$Y21,$AA21,$AC21,$AE21,$AG21,$AI21,$AK21,$AM21,$AO21,$AQ21,$AS21,$AU21,$AW21,$AY21,$BA21,$BC21),4)","v":0},{"$f":"LARGE(($I21,$K21,$M21,$O21,$Q21,$S21,$U21,$W21,$Y21,$AA21,$AC21,$AE21,$AG21,$AI21,$AK21,$AM21,$AO21,$AQ21,$AS21,$AU21,$AW21,$AY21,$BA21,$BC21),5)","v":0},{"$f":"LARGE(($I21,$K21,$M21,$O21,$Q21,$S21,$U21,$W21,$Y21,$AA21,$AC21,$AE21,$AG21,$AI21,$AK21,$AM21,$AO21,$AQ21,$AS21,$AU21,$AW21,$AY21,$BA21,$BC21),6)","v":0},{"$f":"LARGE(($I21,$K21,$M21,$O21,$Q21,$S21,$U21,$W21,$Y21,$AA21,$AC21,$AE21,$AG21,$AI21,$AK21,$AM21,$AO21,$AQ21,$AS21,$AU21,$AW21,$AY21,$BA21,$BC21),7)","v":0},{"$f":"LARGE(($I21,$K21,$M21,$O21,$Q21,$S21,$U21,$W21,$Y21,$AA21,$AC21,$AE21,$AG21,$AI21,$AK21,$AM21,$AO21,$AQ21,$AS21,$AU21,$AW21,$AY21,$BA21,$BC21),8)","v":0},{"$f":"LARGE(($I21,$K21,$M21,$O21,$Q21,$S21,$U21,$W21,$Y21,$AA21,$AC21,$AE21,$AG21,$AI21,$AK21,$AM21,$AO21,$AQ21,$AS21,$AU21,$AW21,$AY21,$BA21,$BC21),9)","v":0},{"$f":"LARGE(($I21,$K21,$M21,$O21,$Q21,$S21,$U21,$W21,$Y21,$AA21,$AC21,$AE21,$AG21,$AI21,$AK21,$AM21,$AO21,$AQ21,$AS21,$AU21,$AW21,$AY21,$BA21,$BC21),10)","v":0}]
[18,null,null,null,{"$f":"SUM(BD22:BM22)","v":0},{"$f":"SUM(BD22:BK22)","v":0},{"$f":"I22+K22+M22+O22+Q22+S22+U22+W22+Y22+AA22+AC22+AE22+AG22+AI22+AK22+AM22+AO22+AQ22+AS22+AU22+AW22+AY22+BA22+BC22","v":0},null,{"$f":"LOOKUP(H22,Poängberäkning!$B$6:$B$97,Poängberäkning!$C$6:$C$97)","v":0},null,{"$f":"LOOKUP(J22,Poängberäkning!$B$6:$B$97,Poängberäkning!$C$6:$C$97)","v":0},null,{"$f":"LOOKUP(L22,Poängberäkning!$B$6:$B$97,Poängberäkning!$C$6:$C$97)","v":0},null,{"$f":"LOOKUP(N22,Poängberäkning!$B$6:$B$97,Poängberäkning!$C$6:$C$97)","v":0},null,{"$f":"LOOKUP(P22,Poängberäkning!$B$6:$B$97,Poängberäkning!$C$6:$C$97)","v":0},null,{"$f":"LOOKUP(R22,Poängberäkning!$B$6:$B$97,Poängberäkning!$C$6:$C$97)","v":0},null,{"$f":"LOOKUP(T22,Poängberäkning!$B$6:$B$97,Poängberäkning!$C$6:$C$97)","v":0},null,{"$f":"LOOKUP(V22,Poängberäkning!$B$6:$B$97,Poängberäkning!$C$6:$C$97)","v":0},null,{"$f":"LOOKUP(X22,Poängberäkning!$B$6:$B$97,Poängberäkning!$C$6:$C$97)","v":0},null,{"$f":"LOOKUP(Z22,Poängberäkning!$B$6:$B$97,Poängberäkning!$C$6:$C$97)","v":0},null,{"$f":"LOOKUP(AB22,Poängberäkning!$B$6:$B$97,Poängberäkning!$C$6:$C$97)","v":0},null,{"$f":"LOOKUP(AD22,Poängberäkning!$B$6:$B$97,Poängberäkning!$C$6:$C$97)","v":0},null,{"$f":"LOOKUP(AF22,Poängberäkning!$B$6:$B$97,Poängberäkning!$C$6:$C$97)","v":0},null,{"$f":"LOOKUP(AH22,Poängberäkning!$B$6:$B$97,Poängberäkning!$C$6:$C$97)","v":0},null,{"$f":"LOOKUP(AJ22,Poängberäkning!$B$6:$B$97,Poängberäkning!$C$6:$C$97)","v":0},null,{"$f":"LOOKUP(AL22,Poängberäkning!$B$6:$B$97,Poängberäkning!$C$6:$C$97)","v":0},null,{"$f":"LOOKUP(AN22,Poängberäkning!$B$6:$B$97,Poängberäkning!$C$6:$C$97)","v":0},null,{"$f":"LOOKUP(AP22,Poängberäkning!$B$6:$B$97,Poängberäkning!$C$6:$C$97)","v":0},null,{"$f":"LOOKUP(AR22,Poängberäkning!$B$6:$B$97,Poängberäkning!$C$6:$C$97)","v":0},null,{"$f":"LOOKUP(AT22,Poängberäkning!$B$6:$B$97,Poängberäkning!$C$6:$C$97)","v":0},null,null,null,null,null,null,null,null,{"$f":"LARGE(($I22,$K22,$M22,$O22,$Q22,$S22,$U22,$W22,$Y22,$AA22,$AC22,$AE22,$AG22,$AI22,$AK22,$AM22,$AO22,$AQ22,$AS22,$AU22,$AW22,$AY22,$BA22,$BC22),1)","v":0},{"$f":"LARGE(($I22,$K22,$M22,$O22,$Q22,$S22,$U22,$W22,$Y22,$AA22,$AC22,$AE22,$AG22,$AI22,$AK22,$AM22,$AO22,$AQ22,$AS22,$AU22,$AW22,$AY22,$BA22,$BC22),2)","v":0},{"$f":"LARGE(($I22,$K22,$M22,$O22,$Q22,$S22,$U22,$W22,$Y22,$AA22,$AC22,$AE22,$AG22,$AI22,$AK22,$AM22,$AO22,$AQ22,$AS22,$AU22,$AW22,$AY22,$BA22,$BC22),3)","v":0},{"$f":"LARGE(($I22,$K22,$M22,$O22,$Q22,$S22,$U22,$W22,$Y22,$AA22,$AC22,$AE22,$AG22,$AI22,$AK22,$AM22,$AO22,$AQ22,$AS22,$AU22,$AW22,$AY22,$BA22,$BC22),4)","v":0},{"$f":"LARGE(($I22,$K22,$M22,$O22,$Q22,$S22,$U22,$W22,$Y22,$AA22,$AC22,$AE22,$AG22,$AI22,$AK22,$AM22,$AO22,$AQ22,$AS22,$AU22,$AW22,$AY22,$BA22,$BC22),5)","v":0},{"$f":"LARGE(($I22,$K22,$M22,$O22,$Q22,$S22,$U22,$W22,$Y22,$AA22,$AC22,$AE22,$AG22,$AI22,$AK22,$AM22,$AO22,$AQ22,$AS22,$AU22,$AW22,$AY22,$BA22,$BC22),6)","v":0},{"$f":"LARGE(($I22,$K22,$M22,$O22,$Q22,$S22,$U22,$W22,$Y22,$AA22,$AC22,$AE22,$AG22,$AI22,$AK22,$AM22,$AO22,$AQ22,$AS22,$AU22,$AW22,$AY22,$BA22,$BC22),7)","v":0},{"$f":"LARGE(($I22,$K22,$M22,$O22,$Q22,$S22,$U22,$W22,$Y22,$AA22,$AC22,$AE22,$AG22,$AI22,$AK22,$AM22,$AO22,$AQ22,$AS22,$AU22,$AW22,$AY22,$BA22,$BC22),8)","v":0},{"$f":"LARGE(($I22,$K22,$M22,$O22,$Q22,$S22,$U22,$W22,$Y22,$AA22,$AC22,$AE22,$AG22,$AI22,$AK22,$AM22,$AO22,$AQ22,$AS22,$AU22,$AW22,$AY22,$BA22,$BC22),9)","v":0},{"$f":"LARGE(($I22,$K22,$M22,$O22,$Q22,$S22,$U22,$W22,$Y22,$AA22,$AC22,$AE22,$AG22,$AI22,$AK22,$AM22,$AO22,$AQ22,$AS22,$AU22,$AW22,$AY22,$BA22,$BC22),10)","v":0}]
[19,null,null,null,{"$f":"SUM(BD23:BM23)","v":0},{"$f":"SUM(BD23:BK23)","v":0},{"$f":"I23+K23+M23+O23+Q23+S23+U23+W23+Y23+AA23+AC23+AE23+AG23+AI23+AK23+AM23+AO23+AQ23+AS23+AU23+AW23+AY23+BA23+BC23","v":0},null,{"$f":"LOOKUP(H23,Poängberäkning!$B$6:$B$97,Poängberäkning!$C$6:$C$97)","v":0},null,{"$f":"LOOKUP(J23,Poängberäkning!$B$6:$B$97,Poängberäkning!$C$6:$C$97)","v":0},null,{"$f":"LOOKUP(L23,Poängberäkning!$B$6:$B$97,Poängberäkning!$C$6:$C$97)","v":0},null,{"$f":"LOOKUP(N23,Poängberäkning!$B$6:$B$97,Poängberäkning!$C$6:$C$97)","v":0},null,{"$f":"LOOKUP(P23,Poängberäkning!$B$6:$B$97,Poängberäkning!$C$6:$C$97)","v":0},null,{"$f":"LOOKUP(R23,Poängberäkning!$B$6:$B$97,Poängberäkning!$C$6:$C$97)","v":0},null,{"$f":"LOOKUP(T23,Poängberäkning!$B$6:$B$97,Poängberäkning!$C$6:$C$97)","v":0},null,{"$f":"LOOKUP(V23,Poängberäkning!$B$6:$B$97,Poängberäkning!$C$6:$C$97)","v":0},null,{"$f":"LOOKUP(X23,Poängberäkning!$B$6:$B$97,Poängberäkning!$C$6:$C$97)","v":0},null,{"$f":"LOOKUP(Z23,Poängberäkning!$B$6:$B$97,Poängberäkning!$C$6:$C$97)","v":0},null,{"$f":"LOOKUP(AB23,Poängberäkning!$B$6:$B$97,Poängberäkning!$C$6:$C$97)","v":0},null,{"$f":"LOOKUP(AD23,Poängberäkning!$B$6:$B$97,Poängberäkning!$C$6:$C$97)","v":0},null,{"$f":"LOOKUP(AF23,Poängberäkning!$B$6:$B$97,Poängberäkning!$C$6:$C$97)","v":0},null,{"$f":"LOOKUP(AH23,Poängberäkning!$B$6:$B$97,Poängberäkning!$C$6:$C$97)","v":0},null,{"$f":"LOOKUP(AJ23,Poängberäkning!$B$6:$B$97,Poängberäkning!$C$6:$C$97)","v":0},null,{"$f":"LOOKUP(AL23,Poängberäkning!$B$6:$B$97,Poängberäkning!$C$6:$C$97)","v":0},null,{"$f":"LOOKUP(AN23,Poängberäkning!$B$6:$B$97,Poängberäkning!$C$6:$C$97)","v":0},null,{"$f":"LOOKUP(AP23,Poängberäkning!$B$6:$B$97,Poängberäkning!$C$6:$C$97)","v":0},null,{"$f":"LOOKUP(AR23,Poängberäkning!$B$6:$B$97,Poängberäkning!$C$6:$C$97)","v":0},null,{"$f":"LOOKUP(AT23,Poängberäkning!$B$6:$B$97,Poängberäkning!$C$6:$C$97)","v":0},null,null,null,null,null,null,null,null,{"$f":"LARGE(($I23,$K23,$M23,$O23,$Q23,$S23,$U23,$W23,$Y23,$AA23,$AC23,$AE23,$AG23,$AI23,$AK23,$AM23,$AO23,$AQ23,$AS23,$AU23,$AW23,$AY23,$BA23,$BC23),1)","v":0},{"$f":"LARGE(($I23,$K23,$M23,$O23,$Q23,$S23,$U23,$W23,$Y23,$AA23,$AC23,$AE23,$AG23,$AI23,$AK23,$AM23,$AO23,$AQ23,$AS23,$AU23,$AW23,$AY23,$BA23,$BC23),2)","v":0},{"$f":"LARGE(($I23,$K23,$M23,$O23,$Q23,$S23,$U23,$W23,$Y23,$AA23,$AC23,$AE23,$AG23,$AI23,$AK23,$AM23,$AO23,$AQ23,$AS23,$AU23,$AW23,$AY23,$BA23,$BC23),3)","v":0},{"$f":"LARGE(($I23,$K23,$M23,$O23,$Q23,$S23,$U23,$W23,$Y23,$AA23,$AC23,$AE23,$AG23,$AI23,$AK23,$AM23,$AO23,$AQ23,$AS23,$AU23,$AW23,$AY23,$BA23,$BC23),4)","v":0},{"$f":"LARGE(($I23,$K23,$M23,$O23,$Q23,$S23,$U23,$W23,$Y23,$AA23,$AC23,$AE23,$AG23,$AI23,$AK23,$AM23,$AO23,$AQ23,$AS23,$AU23,$AW23,$AY23,$BA23,$BC23),5)","v":0},{"$f":"LARGE(($I23,$K23,$M23,$O23,$Q23,$S23,$U23,$W23,$Y23,$AA23,$AC23,$AE23,$AG23,$AI23,$AK23,$AM23,$AO23,$AQ23,$AS23,$AU23,$AW23,$AY23,$BA23,$BC23),6)","v":0},{"$f":"LARGE(($I23,$K23,$M23,$O23,$Q23,$S23,$U23,$W23,$Y23,$AA23,$AC23,$AE23,$AG23,$AI23,$AK23,$AM23,$AO23,$AQ23,$AS23,$AU23,$AW23,$AY23,$BA23,$BC23),7)","v":0},{"$f":"LARGE(($I23,$K23,$M23,$O23,$Q23,$S23,$U23,$W23,$Y23,$AA23,$AC23,$AE23,$AG23,$AI23,$AK23,$AM23,$AO23,$AQ23,$AS23,$AU23,$AW23,$AY23,$BA23,$BC23),8)","v":0},{"$f":"LARGE(($I23,$K23,$M23,$O23,$Q23,$S23,$U23,$W23,$Y23,$AA23,$AC23,$AE23,$AG23,$AI23,$AK23,$AM23,$AO23,$AQ23,$AS23,$AU23,$AW23,$AY23,$BA23,$BC23),9)","v":0},{"$f":"LARGE(($I23,$K23,$M23,$O23,$Q23,$S23,$U23,$W23,$Y23,$AA23,$AC23,$AE23,$AG23,$AI23,$AK23,$AM23,$AO23,$AQ23,$AS23,$AU23,$AW23,$AY23,$BA23,$BC23),10)","v":0}]
[20,null,null,null,{"$f":"SUM(BD24:BM24)","v":0},{"$f":"SUM(BD24:BK24)","v":0},{"$f":"I24+K24+M24+O24+Q24+S24+U24+W24+Y24+AA24+AC24+AE24+AG24+AI24+AK24+AM24+AO24+AQ24+AS24+AU24+AW24+AY24+BA24+BC24","v":0},null,{"$f":"LOOKUP(H24,Poängberäkning!$B$6:$B$97,Poängberäkning!$C$6:$C$97)","v":0},null,{"$f":"LOOKUP(J24,Poängberäkning!$B$6:$B$97,Poängberäkning!$C$6:$C$97)","v":0},null,{"$f":"LOOKUP(L24,Poängberäkning!$B$6:$B$97,Poängberäkning!$C$6:$C$97)","v":0},null,{"$f":"LOOKUP(N24,Poängberäkning!$B$6:$B$97,Poängberäkning!$C$6:$C$97)","v":0},null,{"$f":"LOOKUP(P24,Poängberäkning!$B$6:$B$97,Poängberäkning!$C$6:$C$97)","v":0},null,{"$f":"LOOKUP(R24,Poängberäkning!$B$6:$B$97,Poängberäkning!$C$6:$C$97)","v":0},null,{"$f":"LOOKUP(T24,Poängberäkning!$B$6:$B$97,Poängberäkning!$C$6:$C$97)","v":0},null,{"$f":"LOOKUP(V24,Poängberäkning!$B$6:$B$97,Poängberäkning!$C$6:$C$97)","v":0},null,{"$f":"LOOKUP(X24,Poängberäkning!$B$6:$B$97,Poängberäkning!$C$6:$C$97)","v":0},null,{"$f":"LOOKUP(Z24,Poängberäkning!$B$6:$B$97,Poängberäkning!$C$6:$C$97)","v":0},null,{"$f":"LOOKUP(AB24,Poängberäkning!$B$6:$B$97,Poängberäkning!$C$6:$C$97)","v":0},null,{"$f":"LOOKUP(AD24,Poängberäkning!$B$6:$B$97,Poängberäkning!$C$6:$C$97)","v":0},null,{"$f":"LOOKUP(AF24,Poängberäkning!$B$6:$B$97,Poängberäkning!$C$6:$C$97)","v":0},null,{"$f":"LOOKUP(AH24,Poängberäkning!$B$6:$B$97,Poängberäkning!$C$6:$C$97)","v":0},null,{"$f":"LOOKUP(AJ24,Poängberäkning!$B$6:$B$97,Poängberäkning!$C$6:$C$97)","v":0},null,{"$f":"LOOKUP(AL24,Poängberäkning!$B$6:$B$97,Poängberäkning!$C$6:$C$97)","v":0},null,{"$f":"LOOKUP(AN24,Poängberäkning!$B$6:$B$97,Poängberäkning!$C$6:$C$97)","v":0},null,{"$f":"LOOKUP(AP24,Poängberäkning!$B$6:$B$97,Poängberäkning!$C$6:$C$97)","v":0},null,{"$f":"LOOKUP(AR24,Poängberäkning!$B$6:$B$97,Poängberäkning!$C$6:$C$97)","v":0},null,{"$f":"LOOKUP(AT24,Poängberäkning!$B$6:$B$97,Poängberäkning!$C$6:$C$97)","v":0},null,null,null,null,null,null,null,null,{"$f":"LARGE(($I24,$K24,$M24,$O24,$Q24,$S24,$U24,$W24,$Y24,$AA24,$AC24,$AE24,$AG24,$AI24,$AK24,$AM24,$AO24,$AQ24,$AS24,$AU24,$AW24,$AY24,$BA24,$BC24),1)","v":0},{"$f":"LARGE(($I24,$K24,$M24,$O24,$Q24,$S24,$U24,$W24,$Y24,$AA24,$AC24,$AE24,$AG24,$AI24,$AK24,$AM24,$AO24,$AQ24,$AS24,$AU24,$AW24,$AY24,$BA24,$BC24),2)","v":0},{"$f":"LARGE(($I24,$K24,$M24,$O24,$Q24,$S24,$U24,$W24,$Y24,$AA24,$AC24,$AE24,$AG24,$AI24,$AK24,$AM24,$AO24,$AQ24,$AS24,$AU24,$AW24,$AY24,$BA24,$BC24),3)","v":0},{"$f":"LARGE(($I24,$K24,$M24,$O24,$Q24,$S24,$U24,$W24,$Y24,$AA24,$AC24,$AE24,$AG24,$AI24,$AK24,$AM24,$AO24,$AQ24,$AS24,$AU24,$AW24,$AY24,$BA24,$BC24),4)","v":0},{"$f":"LARGE(($I24,$K24,$M24,$O24,$Q24,$S24,$U24,$W24,$Y24,$AA24,$AC24,$AE24,$AG24,$AI24,$AK24,$AM24,$AO24,$AQ24,$AS24,$AU24,$AW24,$AY24,$BA24,$BC24),5)","v":0},{"$f":"LARGE(($I24,$K24,$M24,$O24,$Q24,$S24,$U24,$W24,$Y24,$AA24,$AC24,$AE24,$AG24,$AI24,$AK24,$AM24,$AO24,$AQ24,$AS24,$AU24,$AW24,$AY24,$BA24,$BC24),6)","v":0},{"$f":"LARGE(($I24,$K24,$M24,$O24,$Q24,$S24,$U24,$W24,$Y24,$AA24,$AC24,$AE24,$AG24,$AI24,$AK24,$AM24,$AO24,$AQ24,$AS24,$AU24,$AW24,$AY24,$BA24,$BC24),7)","v":0},{"$f":"LARGE(($I24,$K24,$M24,$O24,$Q24,$S24,$U24,$W24,$Y24,$AA24,$AC24,$AE24,$AG24,$AI24,$AK24,$AM24,$AO24,$AQ24,$AS24,$AU24,$AW24,$AY24,$BA24,$BC24),8)","v":0},{"$f":"LARGE(($I24,$K24,$M24,$O24,$Q24,$S24,$U24,$W24,$Y24,$AA24,$AC24,$AE24,$AG24,$AI24,$AK24,$AM24,$AO24,$AQ24,$AS24,$AU24,$AW24,$AY24,$BA24,$BC24),9)","v":0},{"$f":"LARGE(($I24,$K24,$M24,$O24,$Q24,$S24,$U24,$W24,$Y24,$AA24,$AC24,$AE24,$AG24,$AI24,$AK24,$AM24,$AO24,$AQ24,$AS24,$AU24,$AW24,$AY24,$BA24,$BC24),10)","v":0}]
[21,null,null,null,{"$f":"SUM(BD25:BM25)","v":0},{"$f":"SUM(BD25:BK25)","v":0},{"$f":"I25+K25+M25+O25+Q25+S25+U25+W25+Y25+AA25+AC25+AE25+AG25+AI25+AK25+AM25+AO25+AQ25+AS25+AU25+AW25+AY25+BA25+BC25","v":0},null,{"$f":"LOOKUP(H25,Poängberäkning!$B$6:$B$97,Poängberäkning!$C$6:$C$97)","v":0},null,{"$f":"LOOKUP(J25,Poängberäkning!$B$6:$B$97,Poängberäkning!$C$6:$C$97)","v":0},null,{"$f":"LOOKUP(L25,Poängberäkning!$B$6:$B$97,Poängberäkning!$C$6:$C$97)","v":0},null,{"$f":"LOOKUP(N25,Poängberäkning!$B$6:$B$97,Poängberäkning!$C$6:$C$97)","v":0},null,{"$f":"LOOKUP(P25,Poängberäkning!$B$6:$B$97,Poängberäkning!$C$6:$C$97)","v":0},null,{"$f":"LOOKUP(R25,Poängberäkning!$B$6:$B$97,Poängberäkning!$C$6:$C$97)","v":0},null,{"$f":"LOOKUP(T25,Poängberäkning!$B$6:$B$97,Poängberäkning!$C$6:$C$97)","v":0},null,{"$f":"LOOKUP(V25,Poängberäkning!$B$6:$B$97,Poängberäkning!$C$6:$C$97)","v":0},null,{"$f":"LOOKUP(X25,Poängberäkning!$B$6:$B$97,Poängberäkning!$C$6:$C$97)","v":0},null,{"$f":"LOOKUP(Z25,Poängberäkning!$B$6:$B$97,Poängberäkning!$C$6:$C$97)","v":0},null,{"$f":"LOOKUP(AB25,Poängberäkning!$B$6:$B$97,Poängberäkning!$C$6:$C$97)","v":0},null,{"$f":"LOOKUP(AD25,Poängberäkning!$B$6:$B$97,Poängberäkning!$C$6:$C$97)","v":0},null,{"$f":"LOOKUP(AF25,Poängberäkning!$B$6:$B$97,Poängberäkning!$C$6:$C$97)","v":0},null,{"$f":"LOOKUP(AH25,Poängberäkning!$B$6:$B$97,Poängberäkning!$C$6:$C$97)","v":0},null,{"$f":"LOOKUP(AJ25,Poängberäkning!$B$6:$B$97,Poängberäkning!$C$6:$C$97)","v":0},null,{"$f":"LOOKUP(AL25,Poängberäkning!$B$6:$B$97,Poängberäkning!$C$6:$C$97)","v":0},null,{"$f":"LOOKUP(AN25,Poängberäkning!$B$6:$B$97,Poängberäkning!$C$6:$C$97)","v":0},null,{"$f":"LOOKUP(AP25,Poängberäkning!$B$6:$B$97,Poängberäkning!$C$6:$C$97)","v":0},null,{"$f":"LOOKUP(AR25,Poängberäkning!$B$6:$B$97,Poängberäkning!$C$6:$C$97)","v":0},null,{"$f":"LOOKUP(AT25,Poängberäkning!$B$6:$B$97,Poängberäkning!$C$6:$C$97)","v":0},null,null,null,null,null,null,null,null,{"$f":"LARGE(($I25,$K25,$M25,$O25,$Q25,$S25,$U25,$W25,$Y25,$AA25,$AC25,$AE25,$AG25,$AI25,$AK25,$AM25,$AO25,$AQ25,$AS25,$AU25,$AW25,$AY25,$BA25,$BC25),1)","v":0},{"$f":"LARGE(($I25,$K25,$M25,$O25,$Q25,$S25,$U25,$W25,$Y25,$AA25,$AC25,$AE25,$AG25,$AI25,$AK25,$AM25,$AO25,$AQ25,$AS25,$AU25,$AW25,$AY25,$BA25,$BC25),2)","v":0},{"$f":"LARGE(($I25,$K25,$M25,$O25,$Q25,$S25,$U25,$W25,$Y25,$AA25,$AC25,$AE25,$AG25,$AI25,$AK25,$AM25,$AO25,$AQ25,$AS25,$AU25,$AW25,$AY25,$BA25,$BC25),3)","v":0},{"$f":"LARGE(($I25,$K25,$M25,$O25,$Q25,$S25,$U25,$W25,$Y25,$AA25,$AC25,$AE25,$AG25,$AI25,$AK25,$AM25,$AO25,$AQ25,$AS25,$AU25,$AW25,$AY25,$BA25,$BC25),4)","v":0},{"$f":"LARGE(($I25,$K25,$M25,$O25,$Q25,$S25,$U25,$W25,$Y25,$AA25,$AC25,$AE25,$AG25,$AI25,$AK25,$AM25,$AO25,$AQ25,$AS25,$AU25,$AW25,$AY25,$BA25,$BC25),5)","v":0},{"$f":"LARGE(($I25,$K25,$M25,$O25,$Q25,$S25,$U25,$W25,$Y25,$AA25,$AC25,$AE25,$AG25,$AI25,$AK25,$AM25,$AO25,$AQ25,$AS25,$AU25,$AW25,$AY25,$BA25,$BC25),6)","v":0},{"$f":"LARGE(($I25,$K25,$M25,$O25,$Q25,$S25,$U25,$W25,$Y25,$AA25,$AC25,$AE25,$AG25,$AI25,$AK25,$AM25,$AO25,$AQ25,$AS25,$AU25,$AW25,$AY25,$BA25,$BC25),7)","v":0},{"$f":"LARGE(($I25,$K25,$M25,$O25,$Q25,$S25,$U25,$W25,$Y25,$AA25,$AC25,$AE25,$AG25,$AI25,$AK25,$AM25,$AO25,$AQ25,$AS25,$AU25,$AW25,$AY25,$BA25,$BC25),8)","v":0},{"$f":"LARGE(($I25,$K25,$M25,$O25,$Q25,$S25,$U25,$W25,$Y25,$AA25,$AC25,$AE25,$AG25,$AI25,$AK25,$AM25,$AO25,$AQ25,$AS25,$AU25,$AW25,$AY25,$BA25,$BC25),9)","v":0},{"$f":"LARGE(($I25,$K25,$M25,$O25,$Q25,$S25,$U25,$W25,$Y25,$AA25,$AC25,$AE25,$AG25,$AI25,$AK25,$AM25,$AO25,$AQ25,$AS25,$AU25,$AW25,$AY25,$BA25,$BC25),10)","v":0}]
[22,null,null,null,{"$f":"SUM(BD26:BM26)","v":0},{"$f":"SUM(BD26:BK26)","v":0},{"$f":"I26+K26+M26+O26+Q26+S26+U26+W26+Y26+AA26+AC26+AE26+AG26+AI26+AK26+AM26+AO26+AQ26+AS26+AU26+AW26+AY26+BA26+BC26","v":0},null,{"$f":"LOOKUP(H26,Poängberäkning!$B$6:$B$97,Poängberäkning!$C$6:$C$97)","v":0},null,{"$f":"LOOKUP(J26,Poängberäkning!$B$6:$B$97,Poängberäkning!$C$6:$C$97)","v":0},null,{"$f":"LOOKUP(L26,Poängberäkning!$B$6:$B$97,Poängberäkning!$C$6:$C$97)","v":0},null,{"$f":"LOOKUP(N26,Poängberäkning!$B$6:$B$97,Poängberäkning!$C$6:$C$97)","v":0},null,{"$f":"LOOKUP(P26,Poängberäkning!$B$6:$B$97,Poängberäkning!$C$6:$C$97)","v":0},null,{"$f":"LOOKUP(R26,Poängberäkning!$B$6:$B$97,Poängberäkning!$C$6:$C$97)","v":0},null,{"$f":"LOOKUP(T26,Poängberäkning!$B$6:$B$97,Poängberäkning!$C$6:$C$97)","v":0},null,{"$f":"LOOKUP(V26,Poängberäkning!$B$6:$B$97,Poängberäkning!$C$6:$C$97)","v":0},null,{"$f":"LOOKUP(X26,Poängberäkning!$B$6:$B$97,Poängberäkning!$C$6:$C$97)","v":0},null,{"$f":"LOOKUP(Z26,Poängberäkning!$B$6:$B$97,Poängberäkning!$C$6:$C$97)","v":0},null,{"$f":"LOOKUP(AB26,Poängberäkning!$B$6:$B$97,Poängberäkning!$C$6:$C$97)","v":0},null,{"$f":"LOOKUP(AD26,Poängberäkning!$B$6:$B$97,Poängberäkning!$C$6:$C$97)","v":0},null,{"$f":"LOOKUP(AF26,Poängberäkning!$B$6:$B$97,Poängberäkning!$C$6:$C$97)","v":0},null,{"$f":"LOOKUP(AH26,Poängberäkning!$B$6:$B$97,Poängberäkning!$C$6:$C$97)","v":0},null,{"$f":"LOOKUP(AJ26,Poängberäkning!$B$6:$B$97,Poängberäkning!$C$6:$C$97)","v":0},null,{"$f":"LOOKUP(AL26,Poängberäkning!$B$6:$B$97,Poängberäkning!$C$6:$C$97)","v":0},null,{"$f":"LOOKUP(AN26,Poängberäkning!$B$6:$B$97,Poängberäkning!$C$6:$C$97)","v":0},null,{"$f":"LOOKUP(AP26,Poängberäkning!$B$6:$B$97,Poängberäkning!$C$6:$C$97)","v":0},null,{"$f":"LOOKUP(AR26,Poängberäkning!$B$6:$B$97,Poängberäkning!$C$6:$C$97)","v":0},null,{"$f":"LOOKUP(AT26,Poängberäkning!$B$6:$B$97,Poängberäkning!$C$6:$C$97)","v":0},null,null,null,null,null,null,null,null,{"$f":"LARGE(($I26,$K26,$M26,$O26,$Q26,$S26,$U26,$W26,$Y26,$AA26,$AC26,$AE26,$AG26,$AI26,$AK26,$AM26,$AO26,$AQ26,$AS26,$AU26,$AW26,$AY26,$BA26,$BC26),1)","v":0},{"$f":"LARGE(($I26,$K26,$M26,$O26,$Q26,$S26,$U26,$W26,$Y26,$AA26,$AC26,$AE26,$AG26,$AI26,$AK26,$AM26,$AO26,$AQ26,$AS26,$AU26,$AW26,$AY26,$BA26,$BC26),2)","v":0},{"$f":"LARGE(($I26,$K26,$M26,$O26,$Q26,$S26,$U26,$W26,$Y26,$AA26,$AC26,$AE26,$AG26,$AI26,$AK26,$AM26,$AO26,$AQ26,$AS26,$AU26,$AW26,$AY26,$BA26,$BC26),3)","v":0},{"$f":"LARGE(($I26,$K26,$M26,$O26,$Q26,$S26,$U26,$W26,$Y26,$AA26,$AC26,$AE26,$AG26,$AI26,$AK26,$AM26,$AO26,$AQ26,$AS26,$AU26,$AW26,$AY26,$BA26,$BC26),4)","v":0},{"$f":"LARGE(($I26,$K26,$M26,$O26,$Q26,$S26,$U26,$W26,$Y26,$AA26,$AC26,$AE26,$AG26,$AI26,$AK26,$AM26,$AO26,$AQ26,$AS26,$AU26,$AW26,$AY26,$BA26,$BC26),5)","v":0},{"$f":"LARGE(($I26,$K26,$M26,$O26,$Q26,$S26,$U26,$W26,$Y26,$AA26,$AC26,$AE26,$AG26,$AI26,$AK26,$AM26,$AO26,$AQ26,$AS26,$AU26,$AW26,$AY26,$BA26,$BC26),6)","v":0},{"$f":"LARGE(($I26,$K26,$M26,$O26,$Q26,$S26,$U26,$W26,$Y26,$AA26,$AC26,$AE26,$AG26,$AI26,$AK26,$AM26,$AO26,$AQ26,$AS26,$AU26,$AW26,$AY26,$BA26,$BC26),7)","v":0},{"$f":"LARGE(($I26,$K26,$M26,$O26,$Q26,$S26,$U26,$W26,$Y26,$AA26,$AC26,$AE26,$AG26,$AI26,$AK26,$AM26,$AO26,$AQ26,$AS26,$AU26,$AW26,$AY26,$BA26,$BC26),8)","v":0},{"$f":"LARGE(($I26,$K26,$M26,$O26,$Q26,$S26,$U26,$W26,$Y26,$AA26,$AC26,$AE26,$AG26,$AI26,$AK26,$AM26,$AO26,$AQ26,$AS26,$AU26,$AW26,$AY26,$BA26,$BC26),9)","v":0},{"$f":"LARGE(($I26,$K26,$M26,$O26,$Q26,$S26,$U26,$W26,$Y26,$AA26,$AC26,$AE26,$AG26,$AI26,$AK26,$AM26,$AO26,$AQ26,$AS26,$AU26,$AW26,$AY26,$BA26,$BC26),10)","v":0}]
[23,null,null,null,{"$f":"SUM(BD27:BM27)","v":0},{"$f":"SUM(BD27:BK27)","v":0},{"$f":"I27+K27+M27+O27+Q27+S27+U27+W27+Y27+AA27+AC27+AE27+AG27+AI27+AK27+AM27+AO27+AQ27+AS27+AU27+AW27+AY27+BA27+BC27","v":0},null,{"$f":"LOOKUP(H27,Poängberäkning!$B$6:$B$97,Poängberäkning!$C$6:$C$97)","v":0},null,{"$f":"LOOKUP(J27,Poängberäkning!$B$6:$B$97,Poängberäkning!$C$6:$C$97)","v":0},null,{"$f":"LOOKUP(L27,Poängberäkning!$B$6:$B$97,Poängberäkning!$C$6:$C$97)","v":0},null,{"$f":"LOOKUP(N27,Poängberäkning!$B$6:$B$97,Poängberäkning!$C$6:$C$97)","v":0},null,{"$f":"LOOKUP(P27,Poängberäkning!$B$6:$B$97,Poängberäkning!$C$6:$C$97)","v":0},null,{"$f":"LOOKUP(R27,Poängberäkning!$B$6:$B$97,Poängberäkning!$C$6:$C$97)","v":0},null,{"$f":"LOOKUP(T27,Poängberäkning!$B$6:$B$97,Poängberäkning!$C$6:$C$97)","v":0},null,{"$f":"LOOKUP(V27,Poängberäkning!$B$6:$B$97,Poängberäkning!$C$6:$C$97)","v":0},null,{"$f":"LOOKUP(X27,Poängberäkning!$B$6:$B$97,Poängberäkning!$C$6:$C$97)","v":0},null,{"$f":"LOOKUP(Z27,Poängberäkning!$B$6:$B$97,Poängberäkning!$C$6:$C$97)","v":0},null,{"$f":"LOOKUP(AB27,Poängberäkning!$B$6:$B$97,Poängberäkning!$C$6:$C$97)","v":0},null,{"$f":"LOOKUP(AD27,Poängberäkning!$B$6:$B$97,Poängberäkning!$C$6:$C$97)","v":0},null,{"$f":"LOOKUP(AF27,Poängberäkning!$B$6:$B$97,Poängberäkning!$C$6:$C$97)","v":0},null,{"$f":"LOOKUP(AH27,Poängberäkning!$B$6:$B$97,Poängberäkning!$C$6:$C$97)","v":0},null,{"$f":"LOOKUP(AJ27,Poängberäkning!$B$6:$B$97,Poängberäkning!$C$6:$C$97)","v":0},null,{"$f":"LOOKUP(AL27,Poängberäkning!$B$6:$B$97,Poängberäkning!$C$6:$C$97)","v":0},null,{"$f":"LOOKUP(AN27,Poängberäkning!$B$6:$B$97,Poängberäkning!$C$6:$C$97)","v":0},null,{"$f":"LOOKUP(AP27,Poängberäkning!$B$6:$B$97,Poängberäkning!$C$6:$C$97)","v":0},null,{"$f":"LOOKUP(AR27,Poängberäkning!$B$6:$B$97,Poängberäkning!$C$6:$C$97)","v":0},null,{"$f":"LOOKUP(AT27,Poängberäkning!$B$6:$B$97,Poängberäkning!$C$6:$C$97)","v":0},null,null,null,null,null,null,null,null,{"$f":"LARGE(($I27,$K27,$M27,$O27,$Q27,$S27,$U27,$W27,$Y27,$AA27,$AC27,$AE27,$AG27,$AI27,$AK27,$AM27,$AO27,$AQ27,$AS27,$AU27,$AW27,$AY27,$BA27,$BC27),1)","v":0},{"$f":"LARGE(($I27,$K27,$M27,$O27,$Q27,$S27,$U27,$W27,$Y27,$AA27,$AC27,$AE27,$AG27,$AI27,$AK27,$AM27,$AO27,$AQ27,$AS27,$AU27,$AW27,$AY27,$BA27,$BC27),2)","v":0},{"$f":"LARGE(($I27,$K27,$M27,$O27,$Q27,$S27,$U27,$W27,$Y27,$AA27,$AC27,$AE27,$AG27,$AI27,$AK27,$AM27,$AO27,$AQ27,$AS27,$AU27,$AW27,$AY27,$BA27,$BC27),3)","v":0},{"$f":"LARGE(($I27,$K27,$M27,$O27,$Q27,$S27,$U27,$W27,$Y27,$AA27,$AC27,$AE27,$AG27,$AI27,$AK27,$AM27,$AO27,$AQ27,$AS27,$AU27,$AW27,$AY27,$BA27,$BC27),4)","v":0},{"$f":"LARGE(($I27,$K27,$M27,$O27,$Q27,$S27,$U27,$W27,$Y27,$AA27,$AC27,$AE27,$AG27,$AI27,$AK27,$AM27,$AO27,$AQ27,$AS27,$AU27,$AW27,$AY27,$BA27,$BC27),5)","v":0},{"$f":"LARGE(($I27,$K27,$M27,$O27,$Q27,$S27,$U27,$W27,$Y27,$AA27,$AC27,$AE27,$AG27,$AI27,$AK27,$AM27,$AO27,$AQ27,$AS27,$AU27,$AW27,$AY27,$BA27,$BC27),6)","v":0},{"$f":"LARGE(($I27,$K27,$M27,$O27,$Q27,$S27,$U27,$W27,$Y27,$AA27,$AC27,$AE27,$AG27,$AI27,$AK27,$AM27,$AO27,$AQ27,$AS27,$AU27,$AW27,$AY27,$BA27,$BC27),7)","v":0},{"$f":"LARGE(($I27,$K27,$M27,$O27,$Q27,$S27,$U27,$W27,$Y27,$AA27,$AC27,$AE27,$AG27,$AI27,$AK27,$AM27,$AO27,$AQ27,$AS27,$AU27,$AW27,$AY27,$BA27,$BC27),8)","v":0},{"$f":"LARGE(($I27,$K27,$M27,$O27,$Q27,$S27,$U27,$W27,$Y27,$AA27,$AC27,$AE27,$AG27,$AI27,$AK27,$AM27,$AO27,$AQ27,$AS27,$AU27,$AW27,$AY27,$BA27,$BC27),9)","v":0},{"$f":"LARGE(($I27,$K27,$M27,$O27,$Q27,$S27,$U27,$W27,$Y27,$AA27,$AC27,$AE27,$AG27,$AI27,$AK27,$AM27,$AO27,$AQ27,$AS27,$AU27,$AW27,$AY27,$BA27,$BC27),10)","v":0}]
[24,null,null,null,{"$f":"SUM(BD28:BM28)","v":0},{"$f":"SUM(BD28:BK28)","v":0},{"$f":"I28+K28+M28+O28+Q28+S28+U28+W28+Y28+AA28+AC28+AE28+AG28+AI28+AK28+AM28+AO28+AQ28+AS28+AU28+AW28+AY28+BA28+BC28","v":0},null,{"$f":"LOOKUP(H28,Poängberäkning!$B$6:$B$97,Poängberäkning!$C$6:$C$97)","v":0},null,{"$f":"LOOKUP(J28,Poängberäkning!$B$6:$B$97,Poängberäkning!$C$6:$C$97)","v":0},null,{"$f":"LOOKUP(L28,Poängberäkning!$B$6:$B$97,Poängberäkning!$C$6:$C$97)","v":0},null,{"$f":"LOOKUP(N28,Poängberäkning!$B$6:$B$97,Poängberäkning!$C$6:$C$97)","v":0},null,{"$f":"LOOKUP(P28,Poängberäkning!$B$6:$B$97,Poängberäkning!$C$6:$C$97)","v":0},null,{"$f":"LOOKUP(R28,Poängberäkning!$B$6:$B$97,Poängberäkning!$C$6:$C$97)","v":0},null,{"$f":"LOOKUP(T28,Poängberäkning!$B$6:$B$97,Poängberäkning!$C$6:$C$97)","v":0},null,{"$f":"LOOKUP(V28,Poängberäkning!$B$6:$B$97,Poängberäkning!$C$6:$C$97)","v":0},null,{"$f":"LOOKUP(X28,Poängberäkning!$B$6:$B$97,Poängberäkning!$C$6:$C$97)","v":0},null,{"$f":"LOOKUP(Z28,Poängberäkning!$B$6:$B$97,Poängberäkning!$C$6:$C$97)","v":0},null,{"$f":"LOOKUP(AB28,Poängberäkning!$B$6:$B$97,Poängberäkning!$C$6:$C$97)","v":0},null,{"$f":"LOOKUP(AD28,Poängberäkning!$B$6:$B$97,Poängberäkning!$C$6:$C$97)","v":0},null,{"$f":"LOOKUP(AF28,Poängberäkning!$B$6:$B$97,Poängberäkning!$C$6:$C$97)","v":0},null,{"$f":"LOOKUP(AH28,Poängberäkning!$B$6:$B$97,Poängberäkning!$C$6:$C$97)","v":0},null,{"$f":"LOOKUP(AJ28,Poängberäkning!$B$6:$B$97,Poängberäkning!$C$6:$C$97)","v":0},null,{"$f":"LOOKUP(AL28,Poängberäkning!$B$6:$B$97,Poängberäkning!$C$6:$C$97)","v":0},null,{"$f":"LOOKUP(AN28,Poängberäkning!$B$6:$B$97,Poängberäkning!$C$6:$C$97)","v":0},null,{"$f":"LOOKUP(AP28,Poängberäkning!$B$6:$B$97,Poängberäkning!$C$6:$C$97)","v":0},null,{"$f":"LOOKUP(AR28,Poängberäkning!$B$6:$B$97,Poängberäkning!$C$6:$C$97)","v":0},null,{"$f":"LOOKUP(AT28,Poängberäkning!$B$6:$B$97,Poängberäkning!$C$6:$C$97)","v":0},null,null,null,null,null,null,null,null,{"$f":"LARGE(($I28,$K28,$M28,$O28,$Q28,$S28,$U28,$W28,$Y28,$AA28,$AC28,$AE28,$AG28,$AI28,$AK28,$AM28,$AO28,$AQ28,$AS28,$AU28,$AW28,$AY28,$BA28,$BC28),1)","v":0},{"$f":"LARGE(($I28,$K28,$M28,$O28,$Q28,$S28,$U28,$W28,$Y28,$AA28,$AC28,$AE28,$AG28,$AI28,$AK28,$AM28,$AO28,$AQ28,$AS28,$AU28,$AW28,$AY28,$BA28,$BC28),2)","v":0},{"$f":"LARGE(($I28,$K28,$M28,$O28,$Q28,$S28,$U28,$W28,$Y28,$AA28,$AC28,$AE28,$AG28,$AI28,$AK28,$AM28,$AO28,$AQ28,$AS28,$AU28,$AW28,$AY28,$BA28,$BC28),3)","v":0},{"$f":"LARGE(($I28,$K28,$M28,$O28,$Q28,$S28,$U28,$W28,$Y28,$AA28,$AC28,$AE28,$AG28,$AI28,$AK28,$AM28,$AO28,$AQ28,$AS28,$AU28,$AW28,$AY28,$BA28,$BC28),4)","v":0},{"$f":"LARGE(($I28,$K28,$M28,$O28,$Q28,$S28,$U28,$W28,$Y28,$AA28,$AC28,$AE28,$AG28,$AI28,$AK28,$AM28,$AO28,$AQ28,$AS28,$AU28,$AW28,$AY28,$BA28,$BC28),5)","v":0},{"$f":"LARGE(($I28,$K28,$M28,$O28,$Q28,$S28,$U28,$W28,$Y28,$AA28,$AC28,$AE28,$AG28,$AI28,$AK28,$AM28,$AO28,$AQ28,$AS28,$AU28,$AW28,$AY28,$BA28,$BC28),6)","v":0},{"$f":"LARGE(($I28,$K28,$M28,$O28,$Q28,$S28,$U28,$W28,$Y28,$AA28,$AC28,$AE28,$AG28,$AI28,$AK28,$AM28,$AO28,$AQ28,$AS28,$AU28,$AW28,$AY28,$BA28,$BC28),7)","v":0},{"$f":"LARGE(($I28,$K28,$M28,$O28,$Q28,$S28,$U28,$W28,$Y28,$AA28,$AC28,$AE28,$AG28,$AI28,$AK28,$AM28,$AO28,$AQ28,$AS28,$AU28,$AW28,$AY28,$BA28,$BC28),8)","v":0},{"$f":"LARGE(($I28,$K28,$M28,$O28,$Q28,$S28,$U28,$W28,$Y28,$AA28,$AC28,$AE28,$AG28,$AI28,$AK28,$AM28,$AO28,$AQ28,$AS28,$AU28,$AW28,$AY28,$BA28,$BC28),9)","v":0},{"$f":"LARGE(($I28,$K28,$M28,$O28,$Q28,$S28,$U28,$W28,$Y28,$AA28,$AC28,$AE28,$AG28,$AI28,$AK28,$AM28,$AO28,$AQ28,$AS28,$AU28,$AW28,$AY28,$BA28,$BC28),10)","v":0}]
[25,null,null,null,{"$f":"SUM(BD29:BM29)","v":0},{"$f":"SUM(BD29:BK29)","v":0},{"$f":"I29+K29+M29+O29+Q29+S29+U29+W29+Y29+AA29+AC29+AE29+AG29+AI29+AK29+AM29+AO29+AQ29+AS29+AU29+AW29+AY29+BA29+BC29","v":0},null,{"$f":"LOOKUP(H29,Poängberäkning!$B$6:$B$97,Poängberäkning!$C$6:$C$97)","v":0},null,{"$f":"LOOKUP(J29,Poängberäkning!$B$6:$B$97,Poängberäkning!$C$6:$C$97)","v":0},null,{"$f":"LOOKUP(L29,Poängberäkning!$B$6:$B$97,Poängberäkning!$C$6:$C$97)","v":0},null,{"$f":"LOOKUP(N29,Poängberäkning!$B$6:$B$97,Poängberäkning!$C$6:$C$97)","v":0},null,{"$f":"LOOKUP(P29,Poängberäkning!$B$6:$B$97,Poängberäkning!$C$6:$C$97)","v":0},null,{"$f":"LOOKUP(R29,Poängberäkning!$B$6:$B$97,Poängberäkning!$C$6:$C$97)","v":0},null,{"$f":"LOOKUP(T29,Poängberäkning!$B$6:$B$97,Poängberäkning!$C$6:$C$97)","v":0},null,{"$f":"LOOKUP(V29,Poängberäkning!$B$6:$B$97,Poängberäkning!$C$6:$C$97)","v":0},null,{"$f":"LOOKUP(X29,Poängberäkning!$B$6:$B$97,Poängberäkning!$C$6:$C$97)","v":0},null,{"$f":"LOOKUP(Z29,Poängberäkning!$B$6:$B$97,Poängberäkning!$C$6:$C$97)","v":0},null,{"$f":"LOOKUP(AB29,Poängberäkning!$B$6:$B$97,Poängberäkning!$C$6:$C$97)","v":0},null,{"$f":"LOOKUP(AD29,Poängberäkning!$B$6:$B$97,Poängberäkning!$C$6:$C$97)","v":0},null,{"$f":"LOOKUP(AF29,Poängberäkning!$B$6:$B$97,Poängberäkning!$C$6:$C$97)","v":0},null,{"$f":"LOOKUP(AH29,Poängberäkning!$B$6:$B$97,Poängberäkning!$C$6:$C$97)","v":0},null,{"$f":"LOOKUP(AJ29,Poängberäkning!$B$6:$B$97,Poängberäkning!$C$6:$C$97)","v":0},null,{"$f":"LOOKUP(AL29,Poängberäkning!$B$6:$B$97,Poängberäkning!$C$6:$C$97)","v":0},null,{"$f":"LOOKUP(AN29,Poängberäkning!$B$6:$B$97,Poängberäkning!$C$6:$C$97)","v":0},null,{"$f":"LOOKUP(AP29,Poängberäkning!$B$6:$B$97,Poängberäkning!$C$6:$C$97)","v":0},null,{"$f":"LOOKUP(AR29,Poängberäkning!$B$6:$B$97,Poängberäkning!$C$6:$C$97)","v":0},null,{"$f":"LOOKUP(AT29,Poängberäkning!$B$6:$B$97,Poängberäkning!$C$6:$C$97)","v":0},null,null,null,null,null,null,null,null,{"$f":"LARGE(($I29,$K29,$M29,$O29,$Q29,$S29,$U29,$W29,$Y29,$AA29,$AC29,$AE29,$AG29,$AI29,$AK29,$AM29,$AO29,$AQ29,$AS29,$AU29,$AW29,$AY29,$BA29,$BC29),1)","v":0},{"$f":"LARGE(($I29,$K29,$M29,$O29,$Q29,$S29,$U29,$W29,$Y29,$AA29,$AC29,$AE29,$AG29,$AI29,$AK29,$AM29,$AO29,$AQ29,$AS29,$AU29,$AW29,$AY29,$BA29,$BC29),2)","v":0},{"$f":"LARGE(($I29,$K29,$M29,$O29,$Q29,$S29,$U29,$W29,$Y29,$AA29,$AC29,$AE29,$AG29,$AI29,$AK29,$AM29,$AO29,$AQ29,$AS29,$AU29,$AW29,$AY29,$BA29,$BC29),3)","v":0},{"$f":"LARGE(($I29,$K29,$M29,$O29,$Q29,$S29,$U29,$W29,$Y29,$AA29,$AC29,$AE29,$AG29,$AI29,$AK29,$AM29,$AO29,$AQ29,$AS29,$AU29,$AW29,$AY29,$BA29,$BC29),4)","v":0},{"$f":"LARGE(($I29,$K29,$M29,$O29,$Q29,$S29,$U29,$W29,$Y29,$AA29,$AC29,$AE29,$AG29,$AI29,$AK29,$AM29,$AO29,$AQ29,$AS29,$AU29,$AW29,$AY29,$BA29,$BC29),5)","v":0},{"$f":"LARGE(($I29,$K29,$M29,$O29,$Q29,$S29,$U29,$W29,$Y29,$AA29,$AC29,$AE29,$AG29,$AI29,$AK29,$AM29,$AO29,$AQ29,$AS29,$AU29,$AW29,$AY29,$BA29,$BC29),6)","v":0},{"$f":"LARGE(($I29,$K29,$M29,$O29,$Q29,$S29,$U29,$W29,$Y29,$AA29,$AC29,$AE29,$AG29,$AI29,$AK29,$AM29,$AO29,$AQ29,$AS29,$AU29,$AW29,$AY29,$BA29,$BC29),7)","v":0},{"$f":"LARGE(($I29,$K29,$M29,$O29,$Q29,$S29,$U29,$W29,$Y29,$AA29,$AC29,$AE29,$AG29,$AI29,$AK29,$AM29,$AO29,$AQ29,$AS29,$AU29,$AW29,$AY29,$BA29,$BC29),8)","v":0},{"$f":"LARGE(($I29,$K29,$M29,$O29,$Q29,$S29,$U29,$W29,$Y29,$AA29,$AC29,$AE29,$AG29,$AI29,$AK29,$AM29,$AO29,$AQ29,$AS29,$AU29,$AW29,$AY29,$BA29,$BC29),9)","v":0},{"$f":"LARGE(($I29,$K29,$M29,$O29,$Q29,$S29,$U29,$W29,$Y29,$AA29,$AC29,$AE29,$AG29,$AI29,$AK29,$AM29,$AO29,$AQ29,$AS29,$AU29,$AW29,$AY29,$BA29,$BC29),10)","v":0}]
[26,null,null,null,{"$f":"SUM(BD30:BM30)","v":0},{"$f":"SUM(BD30:BK30)","v":0},{"$f":"I30+K30+M30+O30+Q30+S30+U30+W30+Y30+AA30+AC30+AE30+AG30+AI30+AK30+AM30+AO30+AQ30+AS30+AU30+AW30+AY30+BA30+BC30","v":0},null,{"$f":"LOOKUP(H30,Poängberäkning!$B$6:$B$97,Poängberäkning!$C$6:$C$97)","v":0},null,{"$f":"LOOKUP(J30,Poängberäkning!$B$6:$B$97,Poängberäkning!$C$6:$C$97)","v":0},null,{"$f":"LOOKUP(L30,Poängberäkning!$B$6:$B$97,Poängberäkning!$C$6:$C$97)","v":0},null,{"$f":"LOOKUP(N30,Poängberäkning!$B$6:$B$97,Poängberäkning!$C$6:$C$97)","v":0},null,{"$f":"LOOKUP(P30,Poängberäkning!$B$6:$B$97,Poängberäkning!$C$6:$C$97)","v":0},null,{"$f":"LOOKUP(R30,Poängberäkning!$B$6:$B$97,Poängberäkning!$C$6:$C$97)","v":0},null,{"$f":"LOOKUP(T30,Poängberäkning!$B$6:$B$97,Poängberäkning!$C$6:$C$97)","v":0},null,{"$f":"LOOKUP(V30,Poängberäkning!$B$6:$B$97,Poängberäkning!$C$6:$C$97)","v":0},null,{"$f":"LOOKUP(X30,Poängberäkning!$B$6:$B$97,Poängberäkning!$C$6:$C$97)","v":0},null,{"$f":"LOOKUP(Z30,Poängberäkning!$B$6:$B$97,Poängberäkning!$C$6:$C$97)","v":0},null,{"$f":"LOOKUP(AB30,Poängberäkning!$B$6:$B$97,Poängberäkning!$C$6:$C$97)","v":0},null,{"$f":"LOOKUP(AD30,Poängberäkning!$B$6:$B$97,Poängberäkning!$C$6:$C$97)","v":0},null,{"$f":"LOOKUP(AF30,Poängberäkning!$B$6:$B$97,Poängberäkning!$C$6:$C$97)","v":0},null,{"$f":"LOOKUP(AH30,Poängberäkning!$B$6:$B$97,Poängberäkning!$C$6:$C$97)","v":0},null,{"$f":"LOOKUP(AJ30,Poängberäkning!$B$6:$B$97,Poängberäkning!$C$6:$C$97)","v":0},null,{"$f":"LOOKUP(AL30,Poängberäkning!$B$6:$B$97,Poängberäkning!$C$6:$C$97)","v":0},null,{"$f":"LOOKUP(AN30,Poängberäkning!$B$6:$B$97,Poängberäkning!$C$6:$C$97)","v":0},null,{"$f":"LOOKUP(AP30,Poängberäkning!$B$6:$B$97,Poängberäkning!$C$6:$C$97)","v":0},null,{"$f":"LOOKUP(AR30,Poängberäkning!$B$6:$B$97,Poängberäkning!$C$6:$C$97)","v":0},null,{"$f":"LOOKUP(AT30,Poängberäkning!$B$6:$B$97,Poängberäkning!$C$6:$C$97)","v":0},null,null,null,null,null,null,null,null,{"$f":"LARGE(($I30,$K30,$M30,$O30,$Q30,$S30,$U30,$W30,$Y30,$AA30,$AC30,$AE30,$AG30,$AI30,$AK30,$AM30,$AO30,$AQ30,$AS30,$AU30,$AW30,$AY30,$BA30,$BC30),1)","v":0},{"$f":"LARGE(($I30,$K30,$M30,$O30,$Q30,$S30,$U30,$W30,$Y30,$AA30,$AC30,$AE30,$AG30,$AI30,$AK30,$AM30,$AO30,$AQ30,$AS30,$AU30,$AW30,$AY30,$BA30,$BC30),2)","v":0},{"$f":"LARGE(($I30,$K30,$M30,$O30,$Q30,$S30,$U30,$W30,$Y30,$AA30,$AC30,$AE30,$AG30,$AI30,$AK30,$AM30,$AO30,$AQ30,$AS30,$AU30,$AW30,$AY30,$BA30,$BC30),3)","v":0},{"$f":"LARGE(($I30,$K30,$M30,$O30,$Q30,$S30,$U30,$W30,$Y30,$AA30,$AC30,$AE30,$AG30,$AI30,$AK30,$AM30,$AO30,$AQ30,$AS30,$AU30,$AW30,$AY30,$BA30,$BC30),4)","v":0},{"$f":"LARGE(($I30,$K30,$M30,$O30,$Q30,$S30,$U30,$W30,$Y30,$AA30,$AC30,$AE30,$AG30,$AI30,$AK30,$AM30,$AO30,$AQ30,$AS30,$AU30,$AW30,$AY30,$BA30,$BC30),5)","v":0},{"$f":"LARGE(($I30,$K30,$M30,$O30,$Q30,$S30,$U30,$W30,$Y30,$AA30,$AC30,$AE30,$AG30,$AI30,$AK30,$AM30,$AO30,$AQ30,$AS30,$AU30,$AW30,$AY30,$BA30,$BC30),6)","v":0},{"$f":"LARGE(($I30,$K30,$M30,$O30,$Q30,$S30,$U30,$W30,$Y30,$AA30,$AC30,$AE30,$AG30,$AI30,$AK30,$AM30,$AO30,$AQ30,$AS30,$AU30,$AW30,$AY30,$BA30,$BC30),7)","v":0},{"$f":"LARGE(($I30,$K30,$M30,$O30,$Q30,$S30,$U30,$W30,$Y30,$AA30,$AC30,$AE30,$AG30,$AI30,$AK30,$AM30,$AO30,$AQ30,$AS30,$AU30,$AW30,$AY30,$BA30,$BC30),8)","v":0},{"$f":"LARGE(($I30,$K30,$M30,$O30,$Q30,$S30,$U30,$W30,$Y30,$AA30,$AC30,$AE30,$AG30,$AI30,$AK30,$AM30,$AO30,$AQ30,$AS30,$AU30,$AW30,$AY30,$BA30,$BC30),9)","v":0},{"$f":"LARGE(($I30,$K30,$M30,$O30,$Q30,$S30,$U30,$W30,$Y30,$AA30,$AC30,$AE30,$AG30,$AI30,$AK30,$AM30,$AO30,$AQ30,$AS30,$AU30,$AW30,$AY30,$BA30,$BC30),10)","v":0}]
[27,null,null,null,{"$f":"SUM(BD31:BM31)","v":0},{"$f":"SUM(BD31:BK31)","v":0},{"$f":"I31+K31+M31+O31+Q31+S31+U31+W31+Y31+AA31+AC31+AE31+AG31+AI31+AK31+AM31+AO31+AQ31+AS31+AU31+AW31+AY31+BA31+BC31","v":0},null,{"$f":"LOOKUP(H31,Poängberäkning!$B$6:$B$97,Poängberäkning!$C$6:$C$97)","v":0},null,{"$f":"LOOKUP(J31,Poängberäkning!$B$6:$B$97,Poängberäkning!$C$6:$C$97)","v":0},null,{"$f":"LOOKUP(L31,Poängberäkning!$B$6:$B$97,Poängberäkning!$C$6:$C$97)","v":0},null,{"$f":"LOOKUP(N31,Poängberäkning!$B$6:$B$97,Poängberäkning!$C$6:$C$97)","v":0},null,{"$f":"LOOKUP(P31,Poängberäkning!$B$6:$B$97,Poängberäkning!$C$6:$C$97)","v":0},null,{"$f":"LOOKUP(R31,Poängberäkning!$B$6:$B$97,Poängberäkning!$C$6:$C$97)","v":0},null,{"$f":"LOOKUP(T31,Poängberäkning!$B$6:$B$97,Poängberäkning!$C$6:$C$97)","v":0},null,{"$f":"LOOKUP(V31,Poängberäkning!$B$6:$B$97,Poängberäkning!$C$6:$C$97)","v":0},null,{"$f":"LOOKUP(X31,Poängberäkning!$B$6:$B$97,Poängberäkning!$C$6:$C$97)","v":0},null,{"$f":"LOOKUP(Z31,Poängberäkning!$B$6:$B$97,Poängberäkning!$C$6:$C$97)","v":0},null,{"$f":"LOOKUP(AB31,Poängberäkning!$B$6:$B$97,Poängberäkning!$C$6:$C$97)","v":0},null,{"$f":"LOOKUP(AD31,Poängberäkning!$B$6:$B$97,Poängberäkning!$C$6:$C$97)","v":0},null,{"$f":"LOOKUP(AF31,Poängberäkning!$B$6:$B$97,Poängberäkning!$C$6:$C$97)","v":0},null,{"$f":"LOOKUP(AH31,Poängberäkning!$B$6:$B$97,Poängberäkning!$C$6:$C$97)","v":0},null,{"$f":"LOOKUP(AJ31,Poängberäkning!$B$6:$B$97,Poängberäkning!$C$6:$C$97)","v":0},null,{"$f":"LOOKUP(AL31,Poängberäkning!$B$6:$B$97,Poängberäkning!$C$6:$C$97)","v":0},null,{"$f":"LOOKUP(AN31,Poängberäkning!$B$6:$B$97,Poängberäkning!$C$6:$C$97)","v":0},null,{"$f":"LOOKUP(AP31,Poängberäkning!$B$6:$B$97,Poängberäkning!$C$6:$C$97)","v":0},null,{"$f":"LOOKUP(AR31,Poängberäkning!$B$6:$B$97,Poängberäkning!$C$6:$C$97)","v":0},null,{"$f":"LOOKUP(AT31,Poängberäkning!$B$6:$B$97,Poängberäkning!$C$6:$C$97)","v":0},null,null,null,null,null,null,null,null,{"$f":"LARGE(($I31,$K31,$M31,$O31,$Q31,$S31,$U31,$W31,$Y31,$AA31,$AC31,$AE31,$AG31,$AI31,$AK31,$AM31,$AO31,$AQ31,$AS31,$AU31,$AW31,$AY31,$BA31,$BC31),1)","v":0},{"$f":"LARGE(($I31,$K31,$M31,$O31,$Q31,$S31,$U31,$W31,$Y31,$AA31,$AC31,$AE31,$AG31,$AI31,$AK31,$AM31,$AO31,$AQ31,$AS31,$AU31,$AW31,$AY31,$BA31,$BC31),2)","v":0},{"$f":"LARGE(($I31,$K31,$M31,$O31,$Q31,$S31,$U31,$W31,$Y31,$AA31,$AC31,$AE31,$AG31,$AI31,$AK31,$AM31,$AO31,$AQ31,$AS31,$AU31,$AW31,$AY31,$BA31,$BC31),3)","v":0},{"$f":"LARGE(($I31,$K31,$M31,$O31,$Q31,$S31,$U31,$W31,$Y31,$AA31,$AC31,$AE31,$AG31,$AI31,$AK31,$AM31,$AO31,$AQ31,$AS31,$AU31,$AW31,$AY31,$BA31,$BC31),4)","v":0},{"$f":"LARGE(($I31,$K31,$M31,$O31,$Q31,$S31,$U31,$W31,$Y31,$AA31,$AC31,$AE31,$AG31,$AI31,$AK31,$AM31,$AO31,$AQ31,$AS31,$AU31,$AW31,$AY31,$BA31,$BC31),5)","v":0},{"$f":"LARGE(($I31,$K31,$M31,$O31,$Q31,$S31,$U31,$W31,$Y31,$AA31,$AC31,$AE31,$AG31,$AI31,$AK31,$AM31,$AO31,$AQ31,$AS31,$AU31,$AW31,$AY31,$BA31,$BC31),6)","v":0},{"$f":"LARGE(($I31,$K31,$M31,$O31,$Q31,$S31,$U31,$W31,$Y31,$AA31,$AC31,$AE31,$AG31,$AI31,$AK31,$AM31,$AO31,$AQ31,$AS31,$AU31,$AW31,$AY31,$BA31,$BC31),7)","v":0},{"$f":"LARGE(($I31,$K31,$M31,$O31,$Q31,$S31,$U31,$W31,$Y31,$AA31,$AC31,$AE31,$AG31,$AI31,$AK31,$AM31,$AO31,$AQ31,$AS31,$AU31,$AW31,$AY31,$BA31,$BC31),8)","v":0},{"$f":"LARGE(($I31,$K31,$M31,$O31,$Q31,$S31,$U31,$W31,$Y31,$AA31,$AC31,$AE31,$AG31,$AI31,$AK31,$AM31,$AO31,$AQ31,$AS31,$AU31,$AW31,$AY31,$BA31,$BC31),9)","v":0},{"$f":"LARGE(($I31,$K31,$M31,$O31,$Q31,$S31,$U31,$W31,$Y31,$AA31,$AC31,$AE31,$AG31,$AI31,$AK31,$AM31,$AO31,$AQ31,$AS31,$AU31,$AW31,$AY31,$BA31,$BC31),10)","v":0}]
[28,null,null,null,{"$f":"SUM(BD32:BM32)","v":0},{"$f":"SUM(BD32:BK32)","v":0},{"$f":"I32+K32+M32+O32+Q32+S32+U32+W32+Y32+AA32+AC32+AE32+AG32+AI32+AK32+AM32+AO32+AQ32+AS32+AU32+AW32+AY32+BA32+BC32","v":0},null,{"$f":"LOOKUP(H32,Poängberäkning!$B$6:$B$97,Poängberäkning!$C$6:$C$97)","v":0},null,{"$f":"LOOKUP(J32,Poängberäkning!$B$6:$B$97,Poängberäkning!$C$6:$C$97)","v":0},null,{"$f":"LOOKUP(L32,Poängberäkning!$B$6:$B$97,Poängberäkning!$C$6:$C$97)","v":0},null,{"$f":"LOOKUP(N32,Poängberäkning!$B$6:$B$97,Poängberäkning!$C$6:$C$97)","v":0},null,{"$f":"LOOKUP(P32,Poängberäkning!$B$6:$B$97,Poängberäkning!$C$6:$C$97)","v":0},null,{"$f":"LOOKUP(R32,Poängberäkning!$B$6:$B$97,Poängberäkning!$C$6:$C$97)","v":0},null,{"$f":"LOOKUP(T32,Poängberäkning!$B$6:$B$97,Poängberäkning!$C$6:$C$97)","v":0},null,{"$f":"LOOKUP(V32,Poängberäkning!$B$6:$B$97,Poängberäkning!$C$6:$C$97)","v":0},null,{"$f":"LOOKUP(X32,Poängberäkning!$B$6:$B$97,Poängberäkning!$C$6:$C$97)","v":0},null,{"$f":"LOOKUP(Z32,Poängberäkning!$B$6:$B$97,Poängberäkning!$C$6:$C$97)","v":0},null,{"$f":"LOOKUP(AB32,Poängberäkning!$B$6:$B$97,Poängberäkning!$C$6:$C$97)","v":0},null,{"$f":"LOOKUP(AD32,Poängberäkning!$B$6:$B$97,Poängberäkning!$C$6:$C$97)","v":0},null,{"$f":"LOOKUP(AF32,Poängberäkning!$B$6:$B$97,Poängberäkning!$C$6:$C$97)","v":0},null,{"$f":"LOOKUP(AH32,Poängberäkning!$B$6:$B$97,Poängberäkning!$C$6:$C$97)","v":0},null,{"$f":"LOOKUP(AJ32,Poängberäkning!$B$6:$B$97,Poängberäkning!$C$6:$C$97)","v":0},null,{"$f":"LOOKUP(AL32,Poängberäkning!$B$6:$B$97,Poängberäkning!$C$6:$C$97)","v":0},null,{"$f":"LOOKUP(AN32,Poängberäkning!$B$6:$B$97,Poängberäkning!$C$6:$C$97)","v":0},null,{"$f":"LOOKUP(AP32,Poängberäkning!$B$6:$B$97,Poängberäkning!$C$6:$C$97)","v":0},null,{"$f":"LOOKUP(AR32,Poängberäkning!$B$6:$B$97,Poängberäkning!$C$6:$C$97)","v":0},null,{"$f":"LOOKUP(AT32,Poängberäkning!$B$6:$B$97,Poängberäkning!$C$6:$C$97)","v":0},null,null,null,null,null,null,null,null,{"$f":"LARGE(($I32,$K32,$M32,$O32,$Q32,$S32,$U32,$W32,$Y32,$AA32,$AC32,$AE32,$AG32,$AI32,$AK32,$AM32,$AO32,$AQ32,$AS32,$AU32,$AW32,$AY32,$BA32,$BC32),1)","v":0},{"$f":"LARGE(($I32,$K32,$M32,$O32,$Q32,$S32,$U32,$W32,$Y32,$AA32,$AC32,$AE32,$AG32,$AI32,$AK32,$AM32,$AO32,$AQ32,$AS32,$AU32,$AW32,$AY32,$BA32,$BC32),2)","v":0},{"$f":"LARGE(($I32,$K32,$M32,$O32,$Q32,$S32,$U32,$W32,$Y32,$AA32,$AC32,$AE32,$AG32,$AI32,$AK32,$AM32,$AO32,$AQ32,$AS32,$AU32,$AW32,$AY32,$BA32,$BC32),3)","v":0},{"$f":"LARGE(($I32,$K32,$M32,$O32,$Q32,$S32,$U32,$W32,$Y32,$AA32,$AC32,$AE32,$AG32,$AI32,$AK32,$AM32,$AO32,$AQ32,$AS32,$AU32,$AW32,$AY32,$BA32,$BC32),4)","v":0},{"$f":"LARGE(($I32,$K32,$M32,$O32,$Q32,$S32,$U32,$W32,$Y32,$AA32,$AC32,$AE32,$AG32,$AI32,$AK32,$AM32,$AO32,$AQ32,$AS32,$AU32,$AW32,$AY32,$BA32,$BC32),5)","v":0},{"$f":"LARGE(($I32,$K32,$M32,$O32,$Q32,$S32,$U32,$W32,$Y32,$AA32,$AC32,$AE32,$AG32,$AI32,$AK32,$AM32,$AO32,$AQ32,$AS32,$AU32,$AW32,$AY32,$BA32,$BC32),6)","v":0},{"$f":"LARGE(($I32,$K32,$M32,$O32,$Q32,$S32,$U32,$W32,$Y32,$AA32,$AC32,$AE32,$AG32,$AI32,$AK32,$AM32,$AO32,$AQ32,$AS32,$AU32,$AW32,$AY32,$BA32,$BC32),7)","v":0},{"$f":"LARGE(($I32,$K32,$M32,$O32,$Q32,$S32,$U32,$W32,$Y32,$AA32,$AC32,$AE32,$AG32,$AI32,$AK32,$AM32,$AO32,$AQ32,$AS32,$AU32,$AW32,$AY32,$BA32,$BC32),8)","v":0},{"$f":"LARGE(($I32,$K32,$M32,$O32,$Q32,$S32,$U32,$W32,$Y32,$AA32,$AC32,$AE32,$AG32,$AI32,$AK32,$AM32,$AO32,$AQ32,$AS32,$AU32,$AW32,$AY32,$BA32,$BC32),9)","v":0},{"$f":"LARGE(($I32,$K32,$M32,$O32,$Q32,$S32,$U32,$W32,$Y32,$AA32,$AC32,$AE32,$AG32,$AI32,$AK32,$AM32,$AO32,$AQ32,$AS32,$AU32,$AW32,$AY32,$BA32,$BC32),10)","v":0}]
[29,null,null,null,{"$f":"SUM(BD33:BM33)","v":0},{"$f":"SUM(BD33:BK33)","v":0},{"$f":"I33+K33+M33+O33+Q33+S33+U33+W33+Y33+AA33+AC33+AE33+AG33+AI33+AK33+AM33+AO33+AQ33+AS33+AU33+AW33+AY33+BA33+BC33","v":0},null,{"$f":"LOOKUP(H33,Poängberäkning!$B$6:$B$97,Poängberäkning!$C$6:$C$97)","v":0},null,{"$f":"LOOKUP(J33,Poängberäkning!$B$6:$B$97,Poängberäkning!$C$6:$C$97)","v":0},null,{"$f":"LOOKUP(L33,Poängberäkning!$B$6:$B$97,Poängberäkning!$C$6:$C$97)","v":0},null,{"$f":"LOOKUP(N33,Poängberäkning!$B$6:$B$97,Poängberäkning!$C$6:$C$97)","v":0},null,{"$f":"LOOKUP(P33,Poängberäkning!$B$6:$B$97,Poängberäkning!$C$6:$C$97)","v":0},null,{"$f":"LOOKUP(R33,Poängberäkning!$B$6:$B$97,Poängberäkning!$C$6:$C$97)","v":0},null,{"$f":"LOOKUP(T33,Poängberäkning!$B$6:$B$97,Poängberäkning!$C$6:$C$97)","v":0},null,{"$f":"LOOKUP(V33,Poängberäkning!$B$6:$B$97,Poängberäkning!$C$6:$C$97)","v":0},null,{"$f":"LOOKUP(X33,Poängberäkning!$B$6:$B$97,Poängberäkning!$C$6:$C$97)","v":0},null,{"$f":"LOOKUP(Z33,Poängberäkning!$B$6:$B$97,Poängberäkning!$C$6:$C$97)","v":0},null,{"$f":"LOOKUP(AB33,Poängberäkning!$B$6:$B$97,Poängberäkning!$C$6:$C$97)","v":0},null,{"$f":"LOOKUP(AD33,Poängberäkning!$B$6:$B$97,Poängberäkning!$C$6:$C$97)","v":0},null,{"$f":"LOOKUP(AF33,Poängberäkning!$B$6:$B$97,Poängberäkning!$C$6:$C$97)","v":0},null,{"$f":"LOOKUP(AH33,Poängberäkning!$B$6:$B$97,Poängberäkning!$C$6:$C$97)","v":0},null,{"$f":"LOOKUP(AJ33,Poängberäkning!$B$6:$B$97,Poängberäkning!$C$6:$C$97)","v":0},null,{"$f":"LOOKUP(AL33,Poängberäkning!$B$6:$B$97,Poängberäkning!$C$6:$C$97)","v":0},null,{"$f":"LOOKUP(AN33,Poängberäkning!$B$6:$B$97,Poängberäkning!$C$6:$C$97)","v":0},null,{"$f":"LOOKUP(AP33,Poängberäkning!$B$6:$B$97,Poängberäkning!$C$6:$C$97)","v":0},null,{"$f":"LOOKUP(AR33,Poängberäkning!$B$6:$B$97,Poängberäkning!$C$6:$C$97)","v":0},null,{"$f":"LOOKUP(AT33,Poängberäkning!$B$6:$B$97,Poängberäkning!$C$6:$C$97)","v":0},null,null,null,null,null,null,null,null,{"$f":"LARGE(($I33,$K33,$M33,$O33,$Q33,$S33,$U33,$W33,$Y33,$AA33,$AC33,$AE33,$AG33,$AI33,$AK33,$AM33,$AO33,$AQ33,$AS33,$AU33,$AW33,$AY33,$BA33,$BC33),1)","v":0},{"$f":"LARGE(($I33,$K33,$M33,$O33,$Q33,$S33,$U33,$W33,$Y33,$AA33,$AC33,$AE33,$AG33,$AI33,$AK33,$AM33,$AO33,$AQ33,$AS33,$AU33,$AW33,$AY33,$BA33,$BC33),2)","v":0},{"$f":"LARGE(($I33,$K33,$M33,$O33,$Q33,$S33,$U33,$W33,$Y33,$AA33,$AC33,$AE33,$AG33,$AI33,$AK33,$AM33,$AO33,$AQ33,$AS33,$AU33,$AW33,$AY33,$BA33,$BC33),3)","v":0},{"$f":"LARGE(($I33,$K33,$M33,$O33,$Q33,$S33,$U33,$W33,$Y33,$AA33,$AC33,$AE33,$AG33,$AI33,$AK33,$AM33,$AO33,$AQ33,$AS33,$AU33,$AW33,$AY33,$BA33,$BC33),4)","v":0},{"$f":"LARGE(($I33,$K33,$M33,$O33,$Q33,$S33,$U33,$W33,$Y33,$AA33,$AC33,$AE33,$AG33,$AI33,$AK33,$AM33,$AO33,$AQ33,$AS33,$AU33,$AW33,$AY33,$BA33,$BC33),5)","v":0},{"$f":"LARGE(($I33,$K33,$M33,$O33,$Q33,$S33,$U33,$W33,$Y33,$AA33,$AC33,$AE33,$AG33,$AI33,$AK33,$AM33,$AO33,$AQ33,$AS33,$AU33,$AW33,$AY33,$BA33,$BC33),6)","v":0},{"$f":"LARGE(($I33,$K33,$M33,$O33,$Q33,$S33,$U33,$W33,$Y33,$AA33,$AC33,$AE33,$AG33,$AI33,$AK33,$AM33,$AO33,$AQ33,$AS33,$AU33,$AW33,$AY33,$BA33,$BC33),7)","v":0},{"$f":"LARGE(($I33,$K33,$M33,$O33,$Q33,$S33,$U33,$W33,$Y33,$AA33,$AC33,$AE33,$AG33,$AI33,$AK33,$AM33,$AO33,$AQ33,$AS33,$AU33,$AW33,$AY33,$BA33,$BC33),8)","v":0},{"$f":"LARGE(($I33,$K33,$M33,$O33,$Q33,$S33,$U33,$W33,$Y33,$AA33,$AC33,$AE33,$AG33,$AI33,$AK33,$AM33,$AO33,$AQ33,$AS33,$AU33,$AW33,$AY33,$BA33,$BC33),9)","v":0},{"$f":"LARGE(($I33,$K33,$M33,$O33,$Q33,$S33,$U33,$W33,$Y33,$AA33,$AC33,$AE33,$AG33,$AI33,$AK33,$AM33,$AO33,$AQ33,$AS33,$AU33,$AW33,$AY33,$BA33,$BC33),10)","v":0}]
[30,null,null,null,{"$f":"SUM(BD34:BM34)","v":0},{"$f":"SUM(BD34:BK34)","v":0},{"$f":"I34+K34+M34+O34+Q34+S34+U34+W34+Y34+AA34+AC34+AE34+AG34+AI34+AK34+AM34+AO34+AQ34+AS34+AU34+AW34+AY34+BA34+BC34","v":0},null,{"$f":"LOOKUP(H34,Poängberäkning!$B$6:$B$97,Poängberäkning!$C$6:$C$97)","v":0},null,{"$f":"LOOKUP(J34,Poängberäkning!$B$6:$B$97,Poängberäkning!$C$6:$C$97)","v":0},null,{"$f":"LOOKUP(L34,Poängberäkning!$B$6:$B$97,Poängberäkning!$C$6:$C$97)","v":0},null,{"$f":"LOOKUP(N34,Poängberäkning!$B$6:$B$97,Poängberäkning!$C$6:$C$97)","v":0},null,{"$f":"LOOKUP(P34,Poängberäkning!$B$6:$B$97,Poängberäkning!$C$6:$C$97)","v":0},null,{"$f":"LOOKUP(R34,Poängberäkning!$B$6:$B$97,Poängberäkning!$C$6:$C$97)","v":0},null,{"$f":"LOOKUP(T34,Poängberäkning!$B$6:$B$97,Poängberäkning!$C$6:$C$97)","v":0},null,{"$f":"LOOKUP(V34,Poängberäkning!$B$6:$B$97,Poängberäkning!$C$6:$C$97)","v":0},null,{"$f":"LOOKUP(X34,Poängberäkning!$B$6:$B$97,Poängberäkning!$C$6:$C$97)","v":0},null,{"$f":"LOOKUP(Z34,Poängberäkning!$B$6:$B$97,Poängberäkning!$C$6:$C$97)","v":0},null,{"$f":"LOOKUP(AB34,Poängberäkning!$B$6:$B$97,Poängberäkning!$C$6:$C$97)","v":0},null,{"$f":"LOOKUP(AD34,Poängberäkning!$B$6:$B$97,Poängberäkning!$C$6:$C$97)","v":0},null,{"$f":"LOOKUP(AF34,Poängberäkning!$B$6:$B$97,Poängberäkning!$C$6:$C$97)","v":0},null,{"$f":"LOOKUP(AH34,Poängberäkning!$B$6:$B$97,Poängberäkning!$C$6:$C$97)","v":0},null,{"$f":"LOOKUP(AJ34,Poängberäkning!$B$6:$B$97,Poängberäkning!$C$6:$C$97)","v":0},null,{"$f":"LOOKUP(AL34,Poängberäkning!$B$6:$B$97,Poängberäkning!$C$6:$C$97)","v":0},null,{"$f":"LOOKUP(AN34,Poängberäkning!$B$6:$B$97,Poängberäkning!$C$6:$C$97)","v":0},null,{"$f":"LOOKUP(AP34,Poängberäkning!$B$6:$B$97,Poängberäkning!$C$6:$C$97)","v":0},null,{"$f":"LOOKUP(AR34,Poängberäkning!$B$6:$B$97,Poängberäkning!$C$6:$C$97)","v":0},null,{"$f":"LOOKUP(AT34,Poängberäkning!$B$6:$B$97,Poängberäkning!$C$6:$C$97)","v":0},null,null,null,null,null,null,null,null,{"$f":"LARGE(($I34,$K34,$M34,$O34,$Q34,$S34,$U34,$W34,$Y34,$AA34,$AC34,$AE34,$AG34,$AI34,$AK34,$AM34,$AO34,$AQ34,$AS34,$AU34,$AW34,$AY34,$BA34,$BC34),1)","v":0},{"$f":"LARGE(($I34,$K34,$M34,$O34,$Q34,$S34,$U34,$W34,$Y34,$AA34,$AC34,$AE34,$AG34,$AI34,$AK34,$AM34,$AO34,$AQ34,$AS34,$AU34,$AW34,$AY34,$BA34,$BC34),2)","v":0},{"$f":"LARGE(($I34,$K34,$M34,$O34,$Q34,$S34,$U34,$W34,$Y34,$AA34,$AC34,$AE34,$AG34,$AI34,$AK34,$AM34,$AO34,$AQ34,$AS34,$AU34,$AW34,$AY34,$BA34,$BC34),3)","v":0},{"$f":"LARGE(($I34,$K34,$M34,$O34,$Q34,$S34,$U34,$W34,$Y34,$AA34,$AC34,$AE34,$AG34,$AI34,$AK34,$AM34,$AO34,$AQ34,$AS34,$AU34,$AW34,$AY34,$BA34,$BC34),4)","v":0},{"$f":"LARGE(($I34,$K34,$M34,$O34,$Q34,$S34,$U34,$W34,$Y34,$AA34,$AC34,$AE34,$AG34,$AI34,$AK34,$AM34,$AO34,$AQ34,$AS34,$AU34,$AW34,$AY34,$BA34,$BC34),5)","v":0},{"$f":"LARGE(($I34,$K34,$M34,$O34,$Q34,$S34,$U34,$W34,$Y34,$AA34,$AC34,$AE34,$AG34,$AI34,$AK34,$AM34,$AO34,$AQ34,$AS34,$AU34,$AW34,$AY34,$BA34,$BC34),6)","v":0},{"$f":"LARGE(($I34,$K34,$M34,$O34,$Q34,$S34,$U34,$W34,$Y34,$AA34,$AC34,$AE34,$AG34,$AI34,$AK34,$AM34,$AO34,$AQ34,$AS34,$AU34,$AW34,$AY34,$BA34,$BC34),7)","v":0},{"$f":"LARGE(($I34,$K34,$M34,$O34,$Q34,$S34,$U34,$W34,$Y34,$AA34,$AC34,$AE34,$AG34,$AI34,$AK34,$AM34,$AO34,$AQ34,$AS34,$AU34,$AW34,$AY34,$BA34,$BC34),8)","v":0},{"$f":"LARGE(($I34,$K34,$M34,$O34,$Q34,$S34,$U34,$W34,$Y34,$AA34,$AC34,$AE34,$AG34,$AI34,$AK34,$AM34,$AO34,$AQ34,$AS34,$AU34,$AW34,$AY34,$BA34,$BC34),9)","v":0},{"$f":"LARGE(($I34,$K34,$M34,$O34,$Q34,$S34,$U34,$W34,$Y34,$AA34,$AC34,$AE34,$AG34,$AI34,$AK34,$AM34,$AO34,$AQ34,$AS34,$AU34,$AW34,$AY34,$BA34,$BC34),10)","v":0}]
[31,null,null,null,{"$f":"SUM(BD35:BM35)","v":0},{"$f":"SUM(BD35:BK35)","v":0},{"$f":"I35+K35+M35+O35+Q35+S35+U35+W35+Y35+AA35+AC35+AE35+AG35+AI35+AK35+AM35+AO35+AQ35+AS35+AU35+AW35+AY35+BA35+BC35","v":0},null,{"$f":"LOOKUP(H35,Poängberäkning!$B$6:$B$97,Poängberäkning!$C$6:$C$97)","v":0},null,{"$f":"LOOKUP(J35,Poängberäkning!$B$6:$B$97,Poängberäkning!$C$6:$C$97)","v":0},null,{"$f":"LOOKUP(L35,Poängberäkning!$B$6:$B$97,Poängberäkning!$C$6:$C$97)","v":0},null,{"$f":"LOOKUP(N35,Poängberäkning!$B$6:$B$97,Poängberäkning!$C$6:$C$97)","v":0},null,{"$f":"LOOKUP(P35,Poängberäkning!$B$6:$B$97,Poängberäkning!$C$6:$C$97)","v":0},null,{"$f":"LOOKUP(R35,Poängberäkning!$B$6:$B$97,Poängberäkning!$C$6:$C$97)","v":0},null,{"$f":"LOOKUP(T35,Poängberäkning!$B$6:$B$97,Poängberäkning!$C$6:$C$97)","v":0},null,{"$f":"LOOKUP(V35,Poängberäkning!$B$6:$B$97,Poängberäkning!$C$6:$C$97)","v":0},null,{"$f":"LOOKUP(X35,Poängberäkning!$B$6:$B$97,Poängberäkning!$C$6:$C$97)","v":0},null,{"$f":"LOOKUP(Z35,Poängberäkning!$B$6:$B$97,Poängberäkning!$C$6:$C$97)","v":0},null,{"$f":"LOOKUP(AB35,Poängberäkning!$B$6:$B$97,Poängberäkning!$C$6:$C$97)","v":0},null,{"$f":"LOOKUP(AD35,Poängberäkning!$B$6:$B$97,Poängberäkning!$C$6:$C$97)","v":0},null,{"$f":"LOOKUP(AF35,Poängberäkning!$B$6:$B$97,Poängberäkning!$C$6:$C$97)","v":0},null,{"$f":"LOOKUP(AH35,Poängberäkning!$B$6:$B$97,Poängberäkning!$C$6:$C$97)","v":0},null,{"$f":"LOOKUP(AJ35,Poängberäkning!$B$6:$B$97,Poängberäkning!$C$6:$C$97)","v":0},null,{"$f":"LOOKUP(AL35,Poängberäkning!$B$6:$B$97,Poängberäkning!$C$6:$C$97)","v":0},null,{"$f":"LOOKUP(AN35,Poängberäkning!$B$6:$B$97,Poängberäkning!$C$6:$C$97)","v":0},null,{"$f":"LOOKUP(AP35,Poängberäkning!$B$6:$B$97,Poängberäkning!$C$6:$C$97)","v":0},null,{"$f":"LOOKUP(AR35,Poängberäkning!$B$6:$B$97,Poängberäkning!$C$6:$C$97)","v":0},null,{"$f":"LOOKUP(AT35,Poängberäkning!$B$6:$B$97,Poängberäkning!$C$6:$C$97)","v":0},null,null,null,null,null,null,null,null,{"$f":"LARGE(($I35,$K35,$M35,$O35,$Q35,$S35,$U35,$W35,$Y35,$AA35,$AC35,$AE35,$AG35,$AI35,$AK35,$AM35,$AO35,$AQ35,$AS35,$AU35,$AW35,$AY35,$BA35,$BC35),1)","v":0},{"$f":"LARGE(($I35,$K35,$M35,$O35,$Q35,$S35,$U35,$W35,$Y35,$AA35,$AC35,$AE35,$AG35,$AI35,$AK35,$AM35,$AO35,$AQ35,$AS35,$AU35,$AW35,$AY35,$BA35,$BC35),2)","v":0},{"$f":"LARGE(($I35,$K35,$M35,$O35,$Q35,$S35,$U35,$W35,$Y35,$AA35,$AC35,$AE35,$AG35,$AI35,$AK35,$AM35,$AO35,$AQ35,$AS35,$AU35,$AW35,$AY35,$BA35,$BC35),3)","v":0},{"$f":"LARGE(($I35,$K35,$M35,$O35,$Q35,$S35,$U35,$W35,$Y35,$AA35,$AC35,$AE35,$AG35,$AI35,$AK35,$AM35,$AO35,$AQ35,$AS35,$AU35,$AW35,$AY35,$BA35,$BC35),4)","v":0},{"$f":"LARGE(($I35,$K35,$M35,$O35,$Q35,$S35,$U35,$W35,$Y35,$AA35,$AC35,$AE35,$AG35,$AI35,$AK35,$AM35,$AO35,$AQ35,$AS35,$AU35,$AW35,$AY35,$BA35,$BC35),5)","v":0},{"$f":"LARGE(($I35,$K35,$M35,$O35,$Q35,$S35,$U35,$W35,$Y35,$AA35,$AC35,$AE35,$AG35,$AI35,$AK35,$AM35,$AO35,$AQ35,$AS35,$AU35,$AW35,$AY35,$BA35,$BC35),6)","v":0},{"$f":"LARGE(($I35,$K35,$M35,$O35,$Q35,$S35,$U35,$W35,$Y35,$AA35,$AC35,$AE35,$AG35,$AI35,$AK35,$AM35,$AO35,$AQ35,$AS35,$AU35,$AW35,$AY35,$BA35,$BC35),7)","v":0},{"$f":"LARGE(($I35,$K35,$M35,$O35,$Q35,$S35,$U35,$W35,$Y35,$AA35,$AC35,$AE35,$AG35,$AI35,$AK35,$AM35,$AO35,$AQ35,$AS35,$AU35,$AW35,$AY35,$BA35,$BC35),8)","v":0},{"$f":"LARGE(($I35,$K35,$M35,$O35,$Q35,$S35,$U35,$W35,$Y35,$AA35,$AC35,$AE35,$AG35,$AI35,$AK35,$AM35,$AO35,$AQ35,$AS35,$AU35,$AW35,$AY35,$BA35,$BC35),9)","v":0},{"$f":"LARGE(($I35,$K35,$M35,$O35,$Q35,$S35,$U35,$W35,$Y35,$AA35,$AC35,$AE35,$AG35,$AI35,$AK35,$AM35,$AO35,$AQ35,$AS35,$AU35,$AW35,$AY35,$BA35,$BC35),10)","v":0}]
[32,null,null,null,{"$f":"SUM(BD36:BM36)","v":0},{"$f":"SUM(BD36:BK36)","v":0},{"$f":"I36+K36+M36+O36+Q36+S36+U36+W36+Y36+AA36+AC36+AE36+AG36+AI36+AK36+AM36+AO36+AQ36+AS36+AU36+AW36+AY36+BA36+BC36","v":0},null,{"$f":"LOOKUP(H36,Poängberäkning!$B$6:$B$97,Poängberäkning!$C$6:$C$97)","v":0},null,{"$f":"LOOKUP(J36,Poängberäkning!$B$6:$B$97,Poängberäkning!$C$6:$C$97)","v":0},null,{"$f":"LOOKUP(L36,Poängberäkning!$B$6:$B$97,Poängberäkning!$C$6:$C$97)","v":0},null,{"$f":"LOOKUP(N36,Poängberäkning!$B$6:$B$97,Poängberäkning!$C$6:$C$97)","v":0},null,{"$f":"LOOKUP(P36,Poängberäkning!$B$6:$B$97,Poängberäkning!$C$6:$C$97)","v":0},null,{"$f":"LOOKUP(R36,Poängberäkning!$B$6:$B$97,Poängberäkning!$C$6:$C$97)","v":0},null,{"$f":"LOOKUP(T36,Poängberäkning!$B$6:$B$97,Poängberäkning!$C$6:$C$97)","v":0},null,{"$f":"LOOKUP(V36,Poängberäkning!$B$6:$B$97,Poängberäkning!$C$6:$C$97)","v":0},null,{"$f":"LOOKUP(X36,Poängberäkning!$B$6:$B$97,Poängberäkning!$C$6:$C$97)","v":0},null,{"$f":"LOOKUP(Z36,Poängberäkning!$B$6:$B$97,Poängberäkning!$C$6:$C$97)","v":0},null,{"$f":"LOOKUP(AB36,Poängberäkning!$B$6:$B$97,Poängberäkning!$C$6:$C$97)","v":0},null,{"$f":"LOOKUP(AD36,Poängberäkning!$B$6:$B$97,Poängberäkning!$C$6:$C$97)","v":0},null,{"$f":"LOOKUP(AF36,Poängberäkning!$B$6:$B$97,Poängberäkning!$C$6:$C$97)","v":0},null,{"$f":"LOOKUP(AH36,Poängberäkning!$B$6:$B$97,Poängberäkning!$C$6:$C$97)","v":0},null,{"$f":"LOOKUP(AJ36,Poängberäkning!$B$6:$B$97,Poängberäkning!$C$6:$C$97)","v":0},null,{"$f":"LOOKUP(AL36,Poängberäkning!$B$6:$B$97,Poängberäkning!$C$6:$C$97)","v":0},null,{"$f":"LOOKUP(AN36,Poängberäkning!$B$6:$B$97,Poängberäkning!$C$6:$C$97)","v":0},null,{"$f":"LOOKUP(AP36,Poängberäkning!$B$6:$B$97,Poängberäkning!$C$6:$C$97)","v":0},null,{"$f":"LOOKUP(AR36,Poängberäkning!$B$6:$B$97,Poängberäkning!$C$6:$C$97)","v":0},null,{"$f":"LOOKUP(AT36,Poängberäkning!$B$6:$B$97,Poängberäkning!$C$6:$C$97)","v":0},null,null,null,null,null,null,null,null,{"$f":"LARGE(($I36,$K36,$M36,$O36,$Q36,$S36,$U36,$W36,$Y36,$AA36,$AC36,$AE36,$AG36,$AI36,$AK36,$AM36,$AO36,$AQ36,$AS36,$AU36,$AW36,$AY36,$BA36,$BC36),1)","v":0},{"$f":"LARGE(($I36,$K36,$M36,$O36,$Q36,$S36,$U36,$W36,$Y36,$AA36,$AC36,$AE36,$AG36,$AI36,$AK36,$AM36,$AO36,$AQ36,$AS36,$AU36,$AW36,$AY36,$BA36,$BC36),2)","v":0},{"$f":"LARGE(($I36,$K36,$M36,$O36,$Q36,$S36,$U36,$W36,$Y36,$AA36,$AC36,$AE36,$AG36,$AI36,$AK36,$AM36,$AO36,$AQ36,$AS36,$AU36,$AW36,$AY36,$BA36,$BC36),3)","v":0},{"$f":"LARGE(($I36,$K36,$M36,$O36,$Q36,$S36,$U36,$W36,$Y36,$AA36,$AC36,$AE36,$AG36,$AI36,$AK36,$AM36,$AO36,$AQ36,$AS36,$AU36,$AW36,$AY36,$BA36,$BC36),4)","v":0},{"$f":"LARGE(($I36,$K36,$M36,$O36,$Q36,$S36,$U36,$W36,$Y36,$AA36,$AC36,$AE36,$AG36,$AI36,$AK36,$AM36,$AO36,$AQ36,$AS36,$AU36,$AW36,$AY36,$BA36,$BC36),5)","v":0},{"$f":"LARGE(($I36,$K36,$M36,$O36,$Q36,$S36,$U36,$W36,$Y36,$AA36,$AC36,$AE36,$AG36,$AI36,$AK36,$AM36,$AO36,$AQ36,$AS36,$AU36,$AW36,$AY36,$BA36,$BC36),6)","v":0},{"$f":"LARGE(($I36,$K36,$M36,$O36,$Q36,$S36,$U36,$W36,$Y36,$AA36,$AC36,$AE36,$AG36,$AI36,$AK36,$AM36,$AO36,$AQ36,$AS36,$AU36,$AW36,$AY36,$BA36,$BC36),7)","v":0},{"$f":"LARGE(($I36,$K36,$M36,$O36,$Q36,$S36,$U36,$W36,$Y36,$AA36,$AC36,$AE36,$AG36,$AI36,$AK36,$AM36,$AO36,$AQ36,$AS36,$AU36,$AW36,$AY36,$BA36,$BC36),8)","v":0},{"$f":"LARGE(($I36,$K36,$M36,$O36,$Q36,$S36,$U36,$W36,$Y36,$AA36,$AC36,$AE36,$AG36,$AI36,$AK36,$AM36,$AO36,$AQ36,$AS36,$AU36,$AW36,$AY36,$BA36,$BC36),9)","v":0},{"$f":"LARGE(($I36,$K36,$M36,$O36,$Q36,$S36,$U36,$W36,$Y36,$AA36,$AC36,$AE36,$AG36,$AI36,$AK36,$AM36,$AO36,$AQ36,$AS36,$AU36,$AW36,$AY36,$BA36,$BC36),10)","v":0}]
[33,null,null,null,{"$f":"SUM(BD37:BM37)","v":0},{"$f":"SUM(BD37:BK37)","v":0},{"$f":"I37+K37+M37+O37+Q37+S37+U37+W37+Y37+AA37+AC37+AE37+AG37+AI37+AK37+AM37+AO37+AQ37+AS37+AU37+AW37+AY37+BA37+BC37","v":0},null,{"$f":"LOOKUP(H37,Poängberäkning!$B$6:$B$97,Poängberäkning!$C$6:$C$97)","v":0},null,{"$f":"LOOKUP(J37,Poängberäkning!$B$6:$B$97,Poängberäkning!$C$6:$C$97)","v":0},null,{"$f":"LOOKUP(L37,Poängberäkning!$B$6:$B$97,Poängberäkning!$C$6:$C$97)","v":0},null,{"$f":"LOOKUP(N37,Poängberäkning!$B$6:$B$97,Poängberäkning!$C$6:$C$97)","v":0},null,{"$f":"LOOKUP(P37,Poängberäkning!$B$6:$B$97,Poängberäkning!$C$6:$C$97)","v":0},null,{"$f":"LOOKUP(R37,Poängberäkning!$B$6:$B$97,Poängberäkning!$C$6:$C$97)","v":0},null,{"$f":"LOOKUP(T37,Poängberäkning!$B$6:$B$97,Poängberäkning!$C$6:$C$97)","v":0},null,{"$f":"LOOKUP(V37,Poängberäkning!$B$6:$B$97,Poängberäkning!$C$6:$C$97)","v":0},null,{"$f":"LOOKUP(X37,Poängberäkning!$B$6:$B$97,Poängberäkning!$C$6:$C$97)","v":0},null,{"$f":"LOOKUP(Z37,Poängberäkning!$B$6:$B$97,Poängberäkning!$C$6:$C$97)","v":0},null,{"$f":"LOOKUP(AB37,Poängberäkning!$B$6:$B$97,Poängberäkning!$C$6:$C$97)","v":0},null,{"$f":"LOOKUP(AD37,Poängberäkning!$B$6:$B$97,Poängberäkning!$C$6:$C$97)","v":0},null,{"$f":"LOOKUP(AF37,Poängberäkning!$B$6:$B$97,Poängberäkning!$C$6:$C$97)","v":0},null,{"$f":"LOOKUP(AH37,Poängberäkning!$B$6:$B$97,Poängberäkning!$C$6:$C$97)","v":0},null,{"$f":"LOOKUP(AJ37,Poängberäkning!$B$6:$B$97,Poängberäkning!$C$6:$C$97)","v":0},null,{"$f":"LOOKUP(AL37,Poängberäkning!$B$6:$B$97,Poängberäkning!$C$6:$C$97)","v":0},null,{"$f":"LOOKUP(AN37,Poängberäkning!$B$6:$B$97,Poängberäkning!$C$6:$C$97)","v":0},null,{"$f":"LOOKUP(AP37,Poängberäkning!$B$6:$B$97,Poängberäkning!$C$6:$C$97)","v":0},null,{"$f":"LOOKUP(AR37,Poängberäkning!$B$6:$B$97,Poängberäkning!$C$6:$C$97)","v":0},null,{"$f":"LOOKUP(AT37,Poängberäkning!$B$6:$B$97,Poängberäkning!$C$6:$C$97)","v":0},null,null,null,null,null,null,null,null,{"$f":"LARGE(($I37,$K37,$M37,$O37,$Q37,$S37,$U37,$W37,$Y37,$AA37,$AC37,$AE37,$AG37,$AI37,$AK37,$AM37,$AO37,$AQ37,$AS37,$AU37,$AW37,$AY37,$BA37,$BC37),1)","v":0},{"$f":"LARGE(($I37,$K37,$M37,$O37,$Q37,$S37,$U37,$W37,$Y37,$AA37,$AC37,$AE37,$AG37,$AI37,$AK37,$AM37,$AO37,$AQ37,$AS37,$AU37,$AW37,$AY37,$BA37,$BC37),2)","v":0},{"$f":"LARGE(($I37,$K37,$M37,$O37,$Q37,$S37,$U37,$W37,$Y37,$AA37,$AC37,$AE37,$AG37,$AI37,$AK37,$AM37,$AO37,$AQ37,$AS37,$AU37,$AW37,$AY37,$BA37,$BC37),3)","v":0},{"$f":"LARGE(($I37,$K37,$M37,$O37,$Q37,$S37,$U37,$W37,$Y37,$AA37,$AC37,$AE37,$AG37,$AI37,$AK37,$AM37,$AO37,$AQ37,$AS37,$AU37,$AW37,$AY37,$BA37,$BC37),4)","v":0},{"$f":"LARGE(($I37,$K37,$M37,$O37,$Q37,$S37,$U37,$W37,$Y37,$AA37,$AC37,$AE37,$AG37,$AI37,$AK37,$AM37,$AO37,$AQ37,$AS37,$AU37,$AW37,$AY37,$BA37,$BC37),5)","v":0},{"$f":"LARGE(($I37,$K37,$M37,$O37,$Q37,$S37,$U37,$W37,$Y37,$AA37,$AC37,$AE37,$AG37,$AI37,$AK37,$AM37,$AO37,$AQ37,$AS37,$AU37,$AW37,$AY37,$BA37,$BC37),6)","v":0},{"$f":"LARGE(($I37,$K37,$M37,$O37,$Q37,$S37,$U37,$W37,$Y37,$AA37,$AC37,$AE37,$AG37,$AI37,$AK37,$AM37,$AO37,$AQ37,$AS37,$AU37,$AW37,$AY37,$BA37,$BC37),7)","v":0},{"$f":"LARGE(($I37,$K37,$M37,$O37,$Q37,$S37,$U37,$W37,$Y37,$AA37,$AC37,$AE37,$AG37,$AI37,$AK37,$AM37,$AO37,$AQ37,$AS37,$AU37,$AW37,$AY37,$BA37,$BC37),8)","v":0},{"$f":"LARGE(($I37,$K37,$M37,$O37,$Q37,$S37,$U37,$W37,$Y37,$AA37,$AC37,$AE37,$AG37,$AI37,$AK37,$AM37,$AO37,$AQ37,$AS37,$AU37,$AW37,$AY37,$BA37,$BC37),9)","v":0},{"$f":"LARGE(($I37,$K37,$M37,$O37,$Q37,$S37,$U37,$W37,$Y37,$AA37,$AC37,$AE37,$AG37,$AI37,$AK37,$AM37,$AO37,$AQ37,$AS37,$AU37,$AW37,$AY37,$BA37,$BC37),10)","v":0}]
[34,null,null,null,{"$f":"SUM(BD38:BM38)","v":0},{"$f":"SUM(BD38:BK38)","v":0},{"$f":"I38+K38+M38+O38+Q38+S38+U38+W38+Y38+AA38+AC38+AE38+AG38+AI38+AK38+AM38+AO38+AQ38+AS38+AU38+AW38+AY38+BA38+BC38","v":0},null,{"$f":"LOOKUP(H38,Poängberäkning!$B$6:$B$97,Poängberäkning!$C$6:$C$97)","v":0},null,{"$f":"LOOKUP(J38,Poängberäkning!$B$6:$B$97,Poängberäkning!$C$6:$C$97)","v":0},null,{"$f":"LOOKUP(L38,Poängberäkning!$B$6:$B$97,Poängberäkning!$C$6:$C$97)","v":0},null,{"$f":"LOOKUP(N38,Poängberäkning!$B$6:$B$97,Poängberäkning!$C$6:$C$97)","v":0},null,{"$f":"LOOKUP(P38,Poängberäkning!$B$6:$B$97,Poängberäkning!$C$6:$C$97)","v":0},null,{"$f":"LOOKUP(R38,Poängberäkning!$B$6:$B$97,Poängberäkning!$C$6:$C$97)","v":0},null,{"$f":"LOOKUP(T38,Poängberäkning!$B$6:$B$97,Poängberäkning!$C$6:$C$97)","v":0},null,{"$f":"LOOKUP(V38,Poängberäkning!$B$6:$B$97,Poängberäkning!$C$6:$C$97)","v":0},null,{"$f":"LOOKUP(X38,Poängberäkning!$B$6:$B$97,Poängberäkning!$C$6:$C$97)","v":0},null,{"$f":"LOOKUP(Z38,Poängberäkning!$B$6:$B$97,Poängberäkning!$C$6:$C$97)","v":0},null,{"$f":"LOOKUP(AB38,Poängberäkning!$B$6:$B$97,Poängberäkning!$C$6:$C$97)","v":0},null,{"$f":"LOOKUP(AD38,Poängberäkning!$B$6:$B$97,Poängberäkning!$C$6:$C$97)","v":0},null,{"$f":"LOOKUP(AF38,Poängberäkning!$B$6:$B$97,Poängberäkning!$C$6:$C$97)","v":0},null,{"$f":"LOOKUP(AH38,Poängberäkning!$B$6:$B$97,Poängberäkning!$C$6:$C$97)","v":0},null,{"$f":"LOOKUP(AJ38,Poängberäkning!$B$6:$B$97,Poängberäkning!$C$6:$C$97)","v":0},null,{"$f":"LOOKUP(AL38,Poängberäkning!$B$6:$B$97,Poängberäkning!$C$6:$C$97)","v":0},null,{"$f":"LOOKUP(AN38,Poängberäkning!$B$6:$B$97,Poängberäkning!$C$6:$C$97)","v":0},null,{"$f":"LOOKUP(AP38,Poängberäkning!$B$6:$B$97,Poängberäkning!$C$6:$C$97)","v":0},null,{"$f":"LOOKUP(AR38,Poängberäkning!$B$6:$B$97,Poängberäkning!$C$6:$C$97)","v":0},null,{"$f":"LOOKUP(AT38,Poängberäkning!$B$6:$B$97,Poängberäkning!$C$6:$C$97)","v":0},null,null,null,null,null,null,null,null,{"$f":"LARGE(($I38,$K38,$M38,$O38,$Q38,$S38,$U38,$W38,$Y38,$AA38,$AC38,$AE38,$AG38,$AI38,$AK38,$AM38,$AO38,$AQ38,$AS38,$AU38,$AW38,$AY38,$BA38,$BC38),1)","v":0},{"$f":"LARGE(($I38,$K38,$M38,$O38,$Q38,$S38,$U38,$W38,$Y38,$AA38,$AC38,$AE38,$AG38,$AI38,$AK38,$AM38,$AO38,$AQ38,$AS38,$AU38,$AW38,$AY38,$BA38,$BC38),2)","v":0},{"$f":"LARGE(($I38,$K38,$M38,$O38,$Q38,$S38,$U38,$W38,$Y38,$AA38,$AC38,$AE38,$AG38,$AI38,$AK38,$AM38,$AO38,$AQ38,$AS38,$AU38,$AW38,$AY38,$BA38,$BC38),3)","v":0},{"$f":"LARGE(($I38,$K38,$M38,$O38,$Q38,$S38,$U38,$W38,$Y38,$AA38,$AC38,$AE38,$AG38,$AI38,$AK38,$AM38,$AO38,$AQ38,$AS38,$AU38,$AW38,$AY38,$BA38,$BC38),4)","v":0},{"$f":"LARGE(($I38,$K38,$M38,$O38,$Q38,$S38,$U38,$W38,$Y38,$AA38,$AC38,$AE38,$AG38,$AI38,$AK38,$AM38,$AO38,$AQ38,$AS38,$AU38,$AW38,$AY38,$BA38,$BC38),5)","v":0},{"$f":"LARGE(($I38,$K38,$M38,$O38,$Q38,$S38,$U38,$W38,$Y38,$AA38,$AC38,$AE38,$AG38,$AI38,$AK38,$AM38,$AO38,$AQ38,$AS38,$AU38,$AW38,$AY38,$BA38,$BC38),6)","v":0},{"$f":"LARGE(($I38,$K38,$M38,$O38,$Q38,$S38,$U38,$W38,$Y38,$AA38,$AC38,$AE38,$AG38,$AI38,$AK38,$AM38,$AO38,$AQ38,$AS38,$AU38,$AW38,$AY38,$BA38,$BC38),7)","v":0},{"$f":"LARGE(($I38,$K38,$M38,$O38,$Q38,$S38,$U38,$W38,$Y38,$AA38,$AC38,$AE38,$AG38,$AI38,$AK38,$AM38,$AO38,$AQ38,$AS38,$AU38,$AW38,$AY38,$BA38,$BC38),8)","v":0},{"$f":"LARGE(($I38,$K38,$M38,$O38,$Q38,$S38,$U38,$W38,$Y38,$AA38,$AC38,$AE38,$AG38,$AI38,$AK38,$AM38,$AO38,$AQ38,$AS38,$AU38,$AW38,$AY38,$BA38,$BC38),9)","v":0},{"$f":"LARGE(($I38,$K38,$M38,$O38,$Q38,$S38,$U38,$W38,$Y38,$AA38,$AC38,$AE38,$AG38,$AI38,$AK38,$AM38,$AO38,$AQ38,$AS38,$AU38,$AW38,$AY38,$BA38,$BC38),10)","v":0}]
[35,null,null,null,{"$f":"SUM(BD39:BM39)","v":0},{"$f":"SUM(BD39:BK39)","v":0},{"$f":"I39+K39+M39+O39+Q39+S39+U39+W39+Y39+AA39+AC39+AE39+AG39+AI39+AK39+AM39+AO39+AQ39+AS39+AU39+AW39+AY39+BA39+BC39","v":0},null,{"$f":"LOOKUP(H39,Poängberäkning!$B$6:$B$97,Poängberäkning!$C$6:$C$97)","v":0},null,{"$f":"LOOKUP(J39,Poängberäkning!$B$6:$B$97,Poängberäkning!$C$6:$C$97)","v":0},null,{"$f":"LOOKUP(L39,Poängberäkning!$B$6:$B$97,Poängberäkning!$C$6:$C$97)","v":0},null,{"$f":"LOOKUP(N39,Poängberäkning!$B$6:$B$97,Poängberäkning!$C$6:$C$97)","v":0},null,{"$f":"LOOKUP(P39,Poängberäkning!$B$6:$B$97,Poängberäkning!$C$6:$C$97)","v":0},null,{"$f":"LOOKUP(R39,Poängberäkning!$B$6:$B$97,Poängberäkning!$C$6:$C$97)","v":0},null,{"$f":"LOOKUP(T39,Poängberäkning!$B$6:$B$97,Poängberäkning!$C$6:$C$97)","v":0},null,{"$f":"LOOKUP(V39,Poängberäkning!$B$6:$B$97,Poängberäkning!$C$6:$C$97)","v":0},null,{"$f":"LOOKUP(X39,Poängberäkning!$B$6:$B$97,Poängberäkning!$C$6:$C$97)","v":0},null,{"$f":"LOOKUP(Z39,Poängberäkning!$B$6:$B$97,Poängberäkning!$C$6:$C$97)","v":0},null,{"$f":"LOOKUP(AB39,Poängberäkning!$B$6:$B$97,Poängberäkning!$C$6:$C$97)","v":0},null,{"$f":"LOOKUP(AD39,Poängberäkning!$B$6:$B$97,Poängberäkning!$C$6:$C$97)","v":0},null,{"$f":"LOOKUP(AF39,Poängberäkning!$B$6:$B$97,Poängberäkning!$C$6:$C$97)","v":0},null,{"$f":"LOOKUP(AH39,Poängberäkning!$B$6:$B$97,Poängberäkning!$C$6:$C$97)","v":0},null,{"$f":"LOOKUP(AJ39,Poängberäkning!$B$6:$B$97,Poängberäkning!$C$6:$C$97)","v":0},null,{"$f":"LOOKUP(AL39,Poängberäkning!$B$6:$B$97,Poängberäkning!$C$6:$C$97)","v":0},null,{"$f":"LOOKUP(AN39,Poängberäkning!$B$6:$B$97,Poängberäkning!$C$6:$C$97)","v":0},null,{"$f":"LOOKUP(AP39,Poängberäkning!$B$6:$B$97,Poängberäkning!$C$6:$C$97)","v":0},null,{"$f":"LOOKUP(AR39,Poängberäkning!$B$6:$B$97,Poängberäkning!$C$6:$C$97)","v":0},null,{"$f":"LOOKUP(AT39,Poängberäkning!$B$6:$B$97,Poängberäkning!$C$6:$C$97)","v":0},null,null,null,null,null,null,null,null,{"$f":"LARGE(($I39,$K39,$M39,$O39,$Q39,$S39,$U39,$W39,$Y39,$AA39,$AC39,$AE39,$AG39,$AI39,$AK39,$AM39,$AO39,$AQ39,$AS39,$AU39,$AW39,$AY39,$BA39,$BC39),1)","v":0},{"$f":"LARGE(($I39,$K39,$M39,$O39,$Q39,$S39,$U39,$W39,$Y39,$AA39,$AC39,$AE39,$AG39,$AI39,$AK39,$AM39,$AO39,$AQ39,$AS39,$AU39,$AW39,$AY39,$BA39,$BC39),2)","v":0},{"$f":"LARGE(($I39,$K39,$M39,$O39,$Q39,$S39,$U39,$W39,$Y39,$AA39,$AC39,$AE39,$AG39,$AI39,$AK39,$AM39,$AO39,$AQ39,$AS39,$AU39,$AW39,$AY39,$BA39,$BC39),3)","v":0},{"$f":"LARGE(($I39,$K39,$M39,$O39,$Q39,$S39,$U39,$W39,$Y39,$AA39,$AC39,$AE39,$AG39,$AI39,$AK39,$AM39,$AO39,$AQ39,$AS39,$AU39,$AW39,$AY39,$BA39,$BC39),4)","v":0},{"$f":"LARGE(($I39,$K39,$M39,$O39,$Q39,$S39,$U39,$W39,$Y39,$AA39,$AC39,$AE39,$AG39,$AI39,$AK39,$AM39,$AO39,$AQ39,$AS39,$AU39,$AW39,$AY39,$BA39,$BC39),5)","v":0},{"$f":"LARGE(($I39,$K39,$M39,$O39,$Q39,$S39,$U39,$W39,$Y39,$AA39,$AC39,$AE39,$AG39,$AI39,$AK39,$AM39,$AO39,$AQ39,$AS39,$AU39,$AW39,$AY39,$BA39,$BC39),6)","v":0},{"$f":"LARGE(($I39,$K39,$M39,$O39,$Q39,$S39,$U39,$W39,$Y39,$AA39,$AC39,$AE39,$AG39,$AI39,$AK39,$AM39,$AO39,$AQ39,$AS39,$AU39,$AW39,$AY39,$BA39,$BC39),7)","v":0},{"$f":"LARGE(($I39,$K39,$M39,$O39,$Q39,$S39,$U39,$W39,$Y39,$AA39,$AC39,$AE39,$AG39,$AI39,$AK39,$AM39,$AO39,$AQ39,$AS39,$AU39,$AW39,$AY39,$BA39,$BC39),8)","v":0},{"$f":"LARGE(($I39,$K39,$M39,$O39,$Q39,$S39,$U39,$W39,$Y39,$AA39,$AC39,$AE39,$AG39,$AI39,$AK39,$AM39,$AO39,$AQ39,$AS39,$AU39,$AW39,$AY39,$BA39,$BC39),9)","v":0},{"$f":"LARGE(($I39,$K39,$M39,$O39,$Q39,$S39,$U39,$W39,$Y39,$AA39,$AC39,$AE39,$AG39,$AI39,$AK39,$AM39,$AO39,$AQ39,$AS39,$AU39,$AW39,$AY39,$BA39,$BC39),10)","v":0}]
[36,null,null,null,{"$f":"SUM(BD40:BM40)","v":0},{"$f":"SUM(BD40:BK40)","v":0},{"$f":"I40+K40+M40+O40+Q40+S40+U40+W40+Y40+AA40+AC40+AE40+AG40+AI40+AK40+AM40+AO40+AQ40+AS40+AU40+AW40+AY40+BA40+BC40","v":0},null,{"$f":"LOOKUP(H40,Poängberäkning!$B$6:$B$97,Poängberäkning!$C$6:$C$97)","v":0},null,{"$f":"LOOKUP(J40,Poängberäkning!$B$6:$B$97,Poängberäkning!$C$6:$C$97)","v":0},null,{"$f":"LOOKUP(L40,Poängberäkning!$B$6:$B$97,Poängberäkning!$C$6:$C$97)","v":0},null,{"$f":"LOOKUP(N40,Poängberäkning!$B$6:$B$97,Poängberäkning!$C$6:$C$97)","v":0},null,{"$f":"LOOKUP(P40,Poängberäkning!$B$6:$B$97,Poängberäkning!$C$6:$C$97)","v":0},null,{"$f":"LOOKUP(R40,Poängberäkning!$B$6:$B$97,Poängberäkning!$C$6:$C$97)","v":0},null,{"$f":"LOOKUP(T40,Poängberäkning!$B$6:$B$97,Poängberäkning!$C$6:$C$97)","v":0},null,{"$f":"LOOKUP(V40,Poängberäkning!$B$6:$B$97,Poängberäkning!$C$6:$C$97)","v":0},null,{"$f":"LOOKUP(X40,Poängberäkning!$B$6:$B$97,Poängberäkning!$C$6:$C$97)","v":0},null,{"$f":"LOOKUP(Z40,Poängberäkning!$B$6:$B$97,Poängberäkning!$C$6:$C$97)","v":0},null,{"$f":"LOOKUP(AB40,Poängberäkning!$B$6:$B$97,Poängberäkning!$C$6:$C$97)","v":0},null,{"$f":"LOOKUP(AD40,Poängberäkning!$B$6:$B$97,Poängberäkning!$C$6:$C$97)","v":0},null,{"$f":"LOOKUP(AF40,Poängberäkning!$B$6:$B$97,Poängberäkning!$C$6:$C$97)","v":0},null,{"$f":"LOOKUP(AH40,Poängberäkning!$B$6:$B$97,Poängberäkning!$C$6:$C$97)","v":0},null,{"$f":"LOOKUP(AJ40,Poängberäkning!$B$6:$B$97,Poängberäkning!$C$6:$C$97)","v":0},null,{"$f":"LOOKUP(AL40,Poängberäkning!$B$6:$B$97,Poängberäkning!$C$6:$C$97)","v":0},null,{"$f":"LOOKUP(AN40,Poängberäkning!$B$6:$B$97,Poängberäkning!$C$6:$C$97)","v":0},null,{"$f":"LOOKUP(AP40,Poängberäkning!$B$6:$B$97,Poängberäkning!$C$6:$C$97)","v":0},null,{"$f":"LOOKUP(AR40,Poängberäkning!$B$6:$B$97,Poängberäkning!$C$6:$C$97)","v":0},null,{"$f":"LOOKUP(AT40,Poängberäkning!$B$6:$B$97,Poängberäkning!$C$6:$C$97)","v":0},null,null,null,null,null,null,null,null,{"$f":"LARGE(($I40,$K40,$M40,$O40,$Q40,$S40,$U40,$W40,$Y40,$AA40,$AC40,$AE40,$AG40,$AI40,$AK40,$AM40,$AO40,$AQ40,$AS40,$AU40,$AW40,$AY40,$BA40,$BC40),1)","v":0},{"$f":"LARGE(($I40,$K40,$M40,$O40,$Q40,$S40,$U40,$W40,$Y40,$AA40,$AC40,$AE40,$AG40,$AI40,$AK40,$AM40,$AO40,$AQ40,$AS40,$AU40,$AW40,$AY40,$BA40,$BC40),2)","v":0},{"$f":"LARGE(($I40,$K40,$M40,$O40,$Q40,$S40,$U40,$W40,$Y40,$AA40,$AC40,$AE40,$AG40,$AI40,$AK40,$AM40,$AO40,$AQ40,$AS40,$AU40,$AW40,$AY40,$BA40,$BC40),3)","v":0},{"$f":"LARGE(($I40,$K40,$M40,$O40,$Q40,$S40,$U40,$W40,$Y40,$AA40,$AC40,$AE40,$AG40,$AI40,$AK40,$AM40,$AO40,$AQ40,$AS40,$AU40,$AW40,$AY40,$BA40,$BC40),4)","v":0},{"$f":"LARGE(($I40,$K40,$M40,$O40,$Q40,$S40,$U40,$W40,$Y40,$AA40,$AC40,$AE40,$AG40,$AI40,$AK40,$AM40,$AO40,$AQ40,$AS40,$AU40,$AW40,$AY40,$BA40,$BC40),5)","v":0},{"$f":"LARGE(($I40,$K40,$M40,$O40,$Q40,$S40,$U40,$W40,$Y40,$AA40,$AC40,$AE40,$AG40,$AI40,$AK40,$AM40,$AO40,$AQ40,$AS40,$AU40,$AW40,$AY40,$BA40,$BC40),6)","v":0},{"$f":"LARGE(($I40,$K40,$M40,$O40,$Q40,$S40,$U40,$W40,$Y40,$AA40,$AC40,$AE40,$AG40,$AI40,$AK40,$AM40,$AO40,$AQ40,$AS40,$AU40,$AW40,$AY40,$BA40,$BC40),7)","v":0},{"$f":"LARGE(($I40,$K40,$M40,$O40,$Q40,$S40,$U40,$W40,$Y40,$AA40,$AC40,$AE40,$AG40,$AI40,$AK40,$AM40,$AO40,$AQ40,$AS40,$AU40,$AW40,$AY40,$BA40,$BC40),8)","v":0},{"$f":"LARGE(($I40,$K40,$M40,$O40,$Q40,$S40,$U40,$W40,$Y40,$AA40,$AC40,$AE40,$AG40,$AI40,$AK40,$AM40,$AO40,$AQ40,$AS40,$AU40,$AW40,$AY40,$BA40,$BC40),9)","v":0},{"$f":"LARGE(($I40,$K40,$M40,$O40,$Q40,$S40,$U40,$W40,$Y40,$AA40,$AC40,$AE40,$AG40,$AI40,$AK40,$AM40,$AO40,$AQ40,$AS40,$AU40,$AW40,$AY40,$BA40,$BC40),10)","v":0}]
[37,null,null,null,{"$f":"SUM(BD41:BM41)","v":0},{"$f":"SUM(BD41:BK41)","v":0},{"$f":"I41+K41+M41+O41+Q41+S41+U41+W41+Y41+AA41+AC41+AE41+AG41+AI41+AK41+AM41+AO41+AQ41+AS41+AU41+AW41+AY41+BA41+BC41","v":0},null,{"$f":"LOOKUP(H41,Poängberäkning!$B$6:$B$97,Poängberäkning!$C$6:$C$97)","v":0},null,{"$f":"LOOKUP(J41,Poängberäkning!$B$6:$B$97,Poängberäkning!$C$6:$C$97)","v":0},null,{"$f":"LOOKUP(L41,Poängberäkning!$B$6:$B$97,Poängberäkning!$C$6:$C$97)","v":0},null,{"$f":"LOOKUP(N41,Poängberäkning!$B$6:$B$97,Poängberäkning!$C$6:$C$97)","v":0},null,{"$f":"LOOKUP(P41,Poängberäkning!$B$6:$B$97,Poängberäkning!$C$6:$C$97)","v":0},null,{"$f":"LOOKUP(R41,Poängberäkning!$B$6:$B$97,Poängberäkning!$C$6:$C$97)","v":0},null,{"$f":"LOOKUP(T41,Poängberäkning!$B$6:$B$97,Poängberäkning!$C$6:$C$97)","v":0},null,{"$f":"LOOKUP(V41,Poängberäkning!$B$6:$B$97,Poängberäkning!$C$6:$C$97)","v":0},null,{"$f":"LOOKUP(X41,Poängberäkning!$B$6:$B$97,Poängberäkning!$C$6:$C$97)","v":0},null,{"$f":"LOOKUP(Z41,Poängberäkning!$B$6:$B$97,Poängberäkning!$C$6:$C$97)","v":0},null,{"$f":"LOOKUP(AB41,Poängberäkning!$B$6:$B$97,Poängberäkning!$C$6:$C$97)","v":0},null,{"$f":"LOOKUP(AD41,Poängberäkning!$B$6:$B$97,Poängberäkning!$C$6:$C$97)","v":0},null,{"$f":"LOOKUP(AF41,Poängberäkning!$B$6:$B$97,Poängberäkning!$C$6:$C$97)","v":0},null,{"$f":"LOOKUP(AH41,Poängberäkning!$B$6:$B$97,Poängberäkning!$C$6:$C$97)","v":0},null,{"$f":"LOOKUP(AJ41,Poängberäkning!$B$6:$B$97,Poängberäkning!$C$6:$C$97)","v":0},null,{"$f":"LOOKUP(AL41,Poängberäkning!$B$6:$B$97,Poängberäkning!$C$6:$C$97)","v":0},null,{"$f":"LOOKUP(AN41,Poängberäkning!$B$6:$B$97,Poängberäkning!$C$6:$C$97)","v":0},null,{"$f":"LOOKUP(AP41,Poängberäkning!$B$6:$B$97,Poängberäkning!$C$6:$C$97)","v":0},null,{"$f":"LOOKUP(AR41,Poängberäkning!$B$6:$B$97,Poängberäkning!$C$6:$C$97)","v":0},null,{"$f":"LOOKUP(AT41,Poängberäkning!$B$6:$B$97,Poängberäkning!$C$6:$C$97)","v":0},null,null,null,null,null,null,null,null,{"$f":"LARGE(($I41,$K41,$M41,$O41,$Q41,$S41,$U41,$W41,$Y41,$AA41,$AC41,$AE41,$AG41,$AI41,$AK41,$AM41,$AO41,$AQ41,$AS41,$AU41,$AW41,$AY41,$BA41,$BC41),1)","v":0},{"$f":"LARGE(($I41,$K41,$M41,$O41,$Q41,$S41,$U41,$W41,$Y41,$AA41,$AC41,$AE41,$AG41,$AI41,$AK41,$AM41,$AO41,$AQ41,$AS41,$AU41,$AW41,$AY41,$BA41,$BC41),2)","v":0},{"$f":"LARGE(($I41,$K41,$M41,$O41,$Q41,$S41,$U41,$W41,$Y41,$AA41,$AC41,$AE41,$AG41,$AI41,$AK41,$AM41,$AO41,$AQ41,$AS41,$AU41,$AW41,$AY41,$BA41,$BC41),3)","v":0},{"$f":"LARGE(($I41,$K41,$M41,$O41,$Q41,$S41,$U41,$W41,$Y41,$AA41,$AC41,$AE41,$AG41,$AI41,$AK41,$AM41,$AO41,$AQ41,$AS41,$AU41,$AW41,$AY41,$BA41,$BC41),4)","v":0},{"$f":"LARGE(($I41,$K41,$M41,$O41,$Q41,$S41,$U41,$W41,$Y41,$AA41,$AC41,$AE41,$AG41,$AI41,$AK41,$AM41,$AO41,$AQ41,$AS41,$AU41,$AW41,$AY41,$BA41,$BC41),5)","v":0},{"$f":"LARGE(($I41,$K41,$M41,$O41,$Q41,$S41,$U41,$W41,$Y41,$AA41,$AC41,$AE41,$AG41,$AI41,$AK41,$AM41,$AO41,$AQ41,$AS41,$AU41,$AW41,$AY41,$BA41,$BC41),6)","v":0},{"$f":"LARGE(($I41,$K41,$M41,$O41,$Q41,$S41,$U41,$W41,$Y41,$AA41,$AC41,$AE41,$AG41,$AI41,$AK41,$AM41,$AO41,$AQ41,$AS41,$AU41,$AW41,$AY41,$BA41,$BC41),7)","v":0},{"$f":"LARGE(($I41,$K41,$M41,$O41,$Q41,$S41,$U41,$W41,$Y41,$AA41,$AC41,$AE41,$AG41,$AI41,$AK41,$AM41,$AO41,$AQ41,$AS41,$AU41,$AW41,$AY41,$BA41,$BC41),8)","v":0},{"$f":"LARGE(($I41,$K41,$M41,$O41,$Q41,$S41,$U41,$W41,$Y41,$AA41,$AC41,$AE41,$AG41,$AI41,$AK41,$AM41,$AO41,$AQ41,$AS41,$AU41,$AW41,$AY41,$BA41,$BC41),9)","v":0},{"$f":"LARGE(($I41,$K41,$M41,$O41,$Q41,$S41,$U41,$W41,$Y41,$AA41,$AC41,$AE41,$AG41,$AI41,$AK41,$AM41,$AO41,$AQ41,$AS41,$AU41,$AW41,$AY41,$BA41,$BC41),10)","v":0}]
[38,null,null,null,{"$f":"SUM(BD42:BM42)","v":0},{"$f":"SUM(BD42:BK42)","v":0},{"$f":"I42+K42+M42+O42+Q42+S42+U42+W42+Y42+AA42+AC42+AE42+AG42+AI42+AK42+AM42+AO42+AQ42+AS42+AU42+AW42+AY42+BA42+BC42","v":0},null,{"$f":"LOOKUP(H42,Poängberäkning!$B$6:$B$97,Poängberäkning!$C$6:$C$97)","v":0},null,{"$f":"LOOKUP(J42,Poängberäkning!$B$6:$B$97,Poängberäkning!$C$6:$C$97)","v":0},null,{"$f":"LOOKUP(L42,Poängberäkning!$B$6:$B$97,Poängberäkning!$C$6:$C$97)","v":0},null,{"$f":"LOOKUP(N42,Poängberäkning!$B$6:$B$97,Poängberäkning!$C$6:$C$97)","v":0},null,{"$f":"LOOKUP(P42,Poängberäkning!$B$6:$B$97,Poängberäkning!$C$6:$C$97)","v":0},null,{"$f":"LOOKUP(R42,Poängberäkning!$B$6:$B$97,Poängberäkning!$C$6:$C$97)","v":0},null,{"$f":"LOOKUP(T42,Poängberäkning!$B$6:$B$97,Poängberäkning!$C$6:$C$97)","v":0},null,{"$f":"LOOKUP(V42,Poängberäkning!$B$6:$B$97,Poängberäkning!$C$6:$C$97)","v":0},null,{"$f":"LOOKUP(X42,Poängberäkning!$B$6:$B$97,Poängberäkning!$C$6:$C$97)","v":0},null,{"$f":"LOOKUP(Z42,Poängberäkning!$B$6:$B$97,Poängberäkning!$C$6:$C$97)","v":0},null,{"$f":"LOOKUP(AB42,Poängberäkning!$B$6:$B$97,Poängberäkning!$C$6:$C$97)","v":0},null,{"$f":"LOOKUP(AD42,Poängberäkning!$B$6:$B$97,Poängberäkning!$C$6:$C$97)","v":0},null,{"$f":"LOOKUP(AF42,Poängberäkning!$B$6:$B$97,Poängberäkning!$C$6:$C$97)","v":0},null,{"$f":"LOOKUP(AH42,Poängberäkning!$B$6:$B$97,Poängberäkning!$C$6:$C$97)","v":0},null,{"$f":"LOOKUP(AJ42,Poängberäkning!$B$6:$B$97,Poängberäkning!$C$6:$C$97)","v":0},null,{"$f":"LOOKUP(AL42,Poängberäkning!$B$6:$B$97,Poängberäkning!$C$6:$C$97)","v":0},null,{"$f":"LOOKUP(AN42,Poängberäkning!$B$6:$B$97,Poängberäkning!$C$6:$C$97)","v":0},null,{"$f":"LOOKUP(AP42,Poängberäkning!$B$6:$B$97,Poängberäkning!$C$6:$C$97)","v":0},null,{"$f":"LOOKUP(AR42,Poängberäkning!$B$6:$B$97,Poängberäkning!$C$6:$C$97)","v":0},null,{"$f":"LOOKUP(AT42,Poängberäkning!$B$6:$B$97,Poängberäkning!$C$6:$C$97)","v":0},null,null,null,null,null,null,null,null,{"$f":"LARGE(($I42,$K42,$M42,$O42,$Q42,$S42,$U42,$W42,$Y42,$AA42,$AC42,$AE42,$AG42,$AI42,$AK42,$AM42,$AO42,$AQ42,$AS42,$AU42,$AW42,$AY42,$BA42,$BC42),1)","v":0},{"$f":"LARGE(($I42,$K42,$M42,$O42,$Q42,$S42,$U42,$W42,$Y42,$AA42,$AC42,$AE42,$AG42,$AI42,$AK42,$AM42,$AO42,$AQ42,$AS42,$AU42,$AW42,$AY42,$BA42,$BC42),2)","v":0},{"$f":"LARGE(($I42,$K42,$M42,$O42,$Q42,$S42,$U42,$W42,$Y42,$AA42,$AC42,$AE42,$AG42,$AI42,$AK42,$AM42,$AO42,$AQ42,$AS42,$AU42,$AW42,$AY42,$BA42,$BC42),3)","v":0},{"$f":"LARGE(($I42,$K42,$M42,$O42,$Q42,$S42,$U42,$W42,$Y42,$AA42,$AC42,$AE42,$AG42,$AI42,$AK42,$AM42,$AO42,$AQ42,$AS42,$AU42,$AW42,$AY42,$BA42,$BC42),4)","v":0},{"$f":"LARGE(($I42,$K42,$M42,$O42,$Q42,$S42,$U42,$W42,$Y42,$AA42,$AC42,$AE42,$AG42,$AI42,$AK42,$AM42,$AO42,$AQ42,$AS42,$AU42,$AW42,$AY42,$BA42,$BC42),5)","v":0},{"$f":"LARGE(($I42,$K42,$M42,$O42,$Q42,$S42,$U42,$W42,$Y42,$AA42,$AC42,$AE42,$AG42,$AI42,$AK42,$AM42,$AO42,$AQ42,$AS42,$AU42,$AW42,$AY42,$BA42,$BC42),6)","v":0},{"$f":"LARGE(($I42,$K42,$M42,$O42,$Q42,$S42,$U42,$W42,$Y42,$AA42,$AC42,$AE42,$AG42,$AI42,$AK42,$AM42,$AO42,$AQ42,$AS42,$AU42,$AW42,$AY42,$BA42,$BC42),7)","v":0},{"$f":"LARGE(($I42,$K42,$M42,$O42,$Q42,$S42,$U42,$W42,$Y42,$AA42,$AC42,$AE42,$AG42,$AI42,$AK42,$AM42,$AO42,$AQ42,$AS42,$AU42,$AW42,$AY42,$BA42,$BC42),8)","v":0},{"$f":"LARGE(($I42,$K42,$M42,$O42,$Q42,$S42,$U42,$W42,$Y42,$AA42,$AC42,$AE42,$AG42,$AI42,$AK42,$AM42,$AO42,$AQ42,$AS42,$AU42,$AW42,$AY42,$BA42,$BC42),9)","v":0},{"$f":"LARGE(($I42,$K42,$M42,$O42,$Q42,$S42,$U42,$W42,$Y42,$AA42,$AC42,$AE42,$AG42,$AI42,$AK42,$AM42,$AO42,$AQ42,$AS42,$AU42,$AW42,$AY42,$BA42,$BC42),10)","v":0}]
[39,null,null,null,{"$f":"SUM(BD43:BM43)","v":0},{"$f":"SUM(BD43:BK43)","v":0},{"$f":"I43+K43+M43+O43+Q43+S43+U43+W43+Y43+AA43+AC43+AE43+AG43+AI43+AK43+AM43+AO43+AQ43+AS43+AU43+AW43+AY43+BA43+BC43","v":0},null,{"$f":"LOOKUP(H43,Poängberäkning!$B$6:$B$97,Poängberäkning!$C$6:$C$97)","v":0},null,{"$f":"LOOKUP(J43,Poängberäkning!$B$6:$B$97,Poängberäkning!$C$6:$C$97)","v":0},null,{"$f":"LOOKUP(L43,Poängberäkning!$B$6:$B$97,Poängberäkning!$C$6:$C$97)","v":0},null,{"$f":"LOOKUP(N43,Poängberäkning!$B$6:$B$97,Poängberäkning!$C$6:$C$97)","v":0},null,{"$f":"LOOKUP(P43,Poängberäkning!$B$6:$B$97,Poängberäkning!$C$6:$C$97)","v":0},null,{"$f":"LOOKUP(R43,Poängberäkning!$B$6:$B$97,Poängberäkning!$C$6:$C$97)","v":0},null,{"$f":"LOOKUP(T43,Poängberäkning!$B$6:$B$97,Poängberäkning!$C$6:$C$97)","v":0},null,{"$f":"LOOKUP(V43,Poängberäkning!$B$6:$B$97,Poängberäkning!$C$6:$C$97)","v":0},null,{"$f":"LOOKUP(X43,Poängberäkning!$B$6:$B$97,Poängberäkning!$C$6:$C$97)","v":0},null,{"$f":"LOOKUP(Z43,Poängberäkning!$B$6:$B$97,Poängberäkning!$C$6:$C$97)","v":0},null,{"$f":"LOOKUP(AB43,Poängberäkning!$B$6:$B$97,Poängberäkning!$C$6:$C$97)","v":0},null,{"$f":"LOOKUP(AD43,Poängberäkning!$B$6:$B$97,Poängberäkning!$C$6:$C$97)","v":0},null,{"$f":"LOOKUP(AF43,Poängberäkning!$B$6:$B$97,Poängberäkning!$C$6:$C$97)","v":0},null,{"$f":"LOOKUP(AH43,Poängberäkning!$B$6:$B$97,Poängberäkning!$C$6:$C$97)","v":0},null,{"$f":"LOOKUP(AJ43,Poängberäkning!$B$6:$B$97,Poängberäkning!$C$6:$C$97)","v":0},null,{"$f":"LOOKUP(AL43,Poängberäkning!$B$6:$B$97,Poängberäkning!$C$6:$C$97)","v":0},null,{"$f":"LOOKUP(AN43,Poängberäkning!$B$6:$B$97,Poängberäkning!$C$6:$C$97)","v":0},null,{"$f":"LOOKUP(AP43,Poängberäkning!$B$6:$B$97,Poängberäkning!$C$6:$C$97)","v":0},null,{"$f":"LOOKUP(AR43,Poängberäkning!$B$6:$B$97,Poängberäkning!$C$6:$C$97)","v":0},null,{"$f":"LOOKUP(AT43,Poängberäkning!$B$6:$B$97,Poängberäkning!$C$6:$C$97)","v":0},null,null,null,null,null,null,null,null,{"$f":"LARGE(($I43,$K43,$M43,$O43,$Q43,$S43,$U43,$W43,$Y43,$AA43,$AC43,$AE43,$AG43,$AI43,$AK43,$AM43,$AO43,$AQ43,$AS43,$AU43,$AW43,$AY43,$BA43,$BC43),1)","v":0},{"$f":"LARGE(($I43,$K43,$M43,$O43,$Q43,$S43,$U43,$W43,$Y43,$AA43,$AC43,$AE43,$AG43,$AI43,$AK43,$AM43,$AO43,$AQ43,$AS43,$AU43,$AW43,$AY43,$BA43,$BC43),2)","v":0},{"$f":"LARGE(($I43,$K43,$M43,$O43,$Q43,$S43,$U43,$W43,$Y43,$AA43,$AC43,$AE43,$AG43,$AI43,$AK43,$AM43,$AO43,$AQ43,$AS43,$AU43,$AW43,$AY43,$BA43,$BC43),3)","v":0},{"$f":"LARGE(($I43,$K43,$M43,$O43,$Q43,$S43,$U43,$W43,$Y43,$AA43,$AC43,$AE43,$AG43,$AI43,$AK43,$AM43,$AO43,$AQ43,$AS43,$AU43,$AW43,$AY43,$BA43,$BC43),4)","v":0},{"$f":"LARGE(($I43,$K43,$M43,$O43,$Q43,$S43,$U43,$W43,$Y43,$AA43,$AC43,$AE43,$AG43,$AI43,$AK43,$AM43,$AO43,$AQ43,$AS43,$AU43,$AW43,$AY43,$BA43,$BC43),5)","v":0},{"$f":"LARGE(($I43,$K43,$M43,$O43,$Q43,$S43,$U43,$W43,$Y43,$AA43,$AC43,$AE43,$AG43,$AI43,$AK43,$AM43,$AO43,$AQ43,$AS43,$AU43,$AW43,$AY43,$BA43,$BC43),6)","v":0},{"$f":"LARGE(($I43,$K43,$M43,$O43,$Q43,$S43,$U43,$W43,$Y43,$AA43,$AC43,$AE43,$AG43,$AI43,$AK43,$AM43,$AO43,$AQ43,$AS43,$AU43,$AW43,$AY43,$BA43,$BC43),7)","v":0},{"$f":"LARGE(($I43,$K43,$M43,$O43,$Q43,$S43,$U43,$W43,$Y43,$AA43,$AC43,$AE43,$AG43,$AI43,$AK43,$AM43,$AO43,$AQ43,$AS43,$AU43,$AW43,$AY43,$BA43,$BC43),8)","v":0},{"$f":"LARGE(($I43,$K43,$M43,$O43,$Q43,$S43,$U43,$W43,$Y43,$AA43,$AC43,$AE43,$AG43,$AI43,$AK43,$AM43,$AO43,$AQ43,$AS43,$AU43,$AW43,$AY43,$BA43,$BC43),9)","v":0},{"$f":"LARGE(($I43,$K43,$M43,$O43,$Q43,$S43,$U43,$W43,$Y43,$AA43,$AC43,$AE43,$AG43,$AI43,$AK43,$AM43,$AO43,$AQ43,$AS43,$AU43,$AW43,$AY43,$BA43,$BC43),10)","v":0}]
[40,null,null,null,{"$f":"SUM(BD44:BM44)","v":0},{"$f":"SUM(BD44:BK44)","v":0},{"$f":"I44+K44+M44+O44+Q44+S44+U44+W44+Y44+AA44+AC44+AE44+AG44+AI44+AK44+AM44+AO44+AQ44+AS44+AU44+AW44+AY44+BA44+BC44","v":0},null,{"$f":"LOOKUP(H44,Poängberäkning!$B$6:$B$97,Poängberäkning!$C$6:$C$97)","v":0},null,{"$f":"LOOKUP(J44,Poängberäkning!$B$6:$B$97,Poängberäkning!$C$6:$C$97)","v":0},null,{"$f":"LOOKUP(L44,Poängberäkning!$B$6:$B$97,Poängberäkning!$C$6:$C$97)","v":0},null,{"$f":"LOOKUP(N44,Poängberäkning!$B$6:$B$97,Poängberäkning!$C$6:$C$97)","v":0},null,{"$f":"LOOKUP(P44,Poängberäkning!$B$6:$B$97,Poängberäkning!$C$6:$C$97)","v":0},null,{"$f":"LOOKUP(R44,Poängberäkning!$B$6:$B$97,Poängberäkning!$C$6:$C$97)","v":0},null,{"$f":"LOOKUP(T44,Poängberäkning!$B$6:$B$97,Poängberäkning!$C$6:$C$97)","v":0},null,{"$f":"LOOKUP(V44,Poängberäkning!$B$6:$B$97,Poängberäkning!$C$6:$C$97)","v":0},null,{"$f":"LOOKUP(X44,Poängberäkning!$B$6:$B$97,Poängberäkning!$C$6:$C$97)","v":0},null,{"$f":"LOOKUP(Z44,Poängberäkning!$B$6:$B$97,Poängberäkning!$C$6:$C$97)","v":0},null,{"$f":"LOOKUP(AB44,Poängberäkning!$B$6:$B$97,Poängberäkning!$C$6:$C$97)","v":0},null,{"$f":"LOOKUP(AD44,Poängberäkning!$B$6:$B$97,Poängberäkning!$C$6:$C$97)","v":0},null,{"$f":"LOOKUP(AF44,Poängberäkning!$B$6:$B$97,Poängberäkning!$C$6:$C$97)","v":0},null,{"$f":"LOOKUP(AH44,Poängberäkning!$B$6:$B$97,Poängberäkning!$C$6:$C$97)","v":0},null,{"$f":"LOOKUP(AJ44,Poängberäkning!$B$6:$B$97,Poängberäkning!$C$6:$C$97)","v":0},null,{"$f":"LOOKUP(AL44,Poängberäkning!$B$6:$B$97,Poängberäkning!$C$6:$C$97)","v":0},null,{"$f":"LOOKUP(AN44,Poängberäkning!$B$6:$B$97,Poängberäkning!$C$6:$C$97)","v":0},null,{"$f":"LOOKUP(AP44,Poängberäkning!$B$6:$B$97,Poängberäkning!$C$6:$C$97)","v":0},null,{"$f":"LOOKUP(AR44,Poängberäkning!$B$6:$B$97,Poängberäkning!$C$6:$C$97)","v":0},null,{"$f":"LOOKUP(AT44,Poängberäkning!$B$6:$B$97,Poängberäkning!$C$6:$C$97)","v":0},null,null,null,null,null,null,null,null,{"$f":"LARGE(($I44,$K44,$M44,$O44,$Q44,$S44,$U44,$W44,$Y44,$AA44,$AC44,$AE44,$AG44,$AI44,$AK44,$AM44,$AO44,$AQ44,$AS44,$AU44,$AW44,$AY44,$BA44,$BC44),1)","v":0},{"$f":"LARGE(($I44,$K44,$M44,$O44,$Q44,$S44,$U44,$W44,$Y44,$AA44,$AC44,$AE44,$AG44,$AI44,$AK44,$AM44,$AO44,$AQ44,$AS44,$AU44,$AW44,$AY44,$BA44,$BC44),2)","v":0},{"$f":"LARGE(($I44,$K44,$M44,$O44,$Q44,$S44,$U44,$W44,$Y44,$AA44,$AC44,$AE44,$AG44,$AI44,$AK44,$AM44,$AO44,$AQ44,$AS44,$AU44,$AW44,$AY44,$BA44,$BC44),3)","v":0},{"$f":"LARGE(($I44,$K44,$M44,$O44,$Q44,$S44,$U44,$W44,$Y44,$AA44,$AC44,$AE44,$AG44,$AI44,$AK44,$AM44,$AO44,$AQ44,$AS44,$AU44,$AW44,$AY44,$BA44,$BC44),4)","v":0},{"$f":"LARGE(($I44,$K44,$M44,$O44,$Q44,$S44,$U44,$W44,$Y44,$AA44,$AC44,$AE44,$AG44,$AI44,$AK44,$AM44,$AO44,$AQ44,$AS44,$AU44,$AW44,$AY44,$BA44,$BC44),5)","v":0},{"$f":"LARGE(($I44,$K44,$M44,$O44,$Q44,$S44,$U44,$W44,$Y44,$AA44,$AC44,$AE44,$AG44,$AI44,$AK44,$AM44,$AO44,$AQ44,$AS44,$AU44,$AW44,$AY44,$BA44,$BC44),6)","v":0},{"$f":"LARGE(($I44,$K44,$M44,$O44,$Q44,$S44,$U44,$W44,$Y44,$AA44,$AC44,$AE44,$AG44,$AI44,$AK44,$AM44,$AO44,$AQ44,$AS44,$AU44,$AW44,$AY44,$BA44,$BC44),7)","v":0},{"$f":"LARGE(($I44,$K44,$M44,$O44,$Q44,$S44,$U44,$W44,$Y44,$AA44,$AC44,$AE44,$AG44,$AI44,$AK44,$AM44,$AO44,$AQ44,$AS44,$AU44,$AW44,$AY44,$BA44,$BC44),8)","v":0},{"$f":"LARGE(($I44,$K44,$M44,$O44,$Q44,$S44,$U44,$W44,$Y44,$AA44,$AC44,$AE44,$AG44,$AI44,$AK44,$AM44,$AO44,$AQ44,$AS44,$AU44,$AW44,$AY44,$BA44,$BC44),9)","v":0},{"$f":"LARGE(($I44,$K44,$M44,$O44,$Q44,$S44,$U44,$W44,$Y44,$AA44,$AC44,$AE44,$AG44,$AI44,$AK44,$AM44,$AO44,$AQ44,$AS44,$AU44,$AW44,$AY44,$BA44,$BC44),10)","v":0}]
[41,null,null,null,{"$f":"SUM(BD45:BM45)","v":0},{"$f":"SUM(BD45:BK45)","v":0},{"$f":"I45+K45+M45+O45+Q45+S45+U45+W45+Y45+AA45+AC45+AE45+AG45+AI45+AK45+AM45+AO45+AQ45+AS45+AU45+AW45+AY45+BA45+BC45","v":0},null,{"$f":"LOOKUP(H45,Poängberäkning!$B$6:$B$97,Poängberäkning!$C$6:$C$97)","v":0},null,{"$f":"LOOKUP(J45,Poängberäkning!$B$6:$B$97,Poängberäkning!$C$6:$C$97)","v":0},null,{"$f":"LOOKUP(L45,Poängberäkning!$B$6:$B$97,Poängberäkning!$C$6:$C$97)","v":0},null,{"$f":"LOOKUP(N45,Poängberäkning!$B$6:$B$97,Poängberäkning!$C$6:$C$97)","v":0},null,{"$f":"LOOKUP(P45,Poängberäkning!$B$6:$B$97,Poängberäkning!$C$6:$C$97)","v":0},null,{"$f":"LOOKUP(R45,Poängberäkning!$B$6:$B$97,Poängberäkning!$C$6:$C$97)","v":0},null,{"$f":"LOOKUP(T45,Poängberäkning!$B$6:$B$97,Poängberäkning!$C$6:$C$97)","v":0},null,{"$f":"LOOKUP(V45,Poängberäkning!$B$6:$B$97,Poängberäkning!$C$6:$C$97)","v":0},null,{"$f":"LOOKUP(X45,Poängberäkning!$B$6:$B$97,Poängberäkning!$C$6:$C$97)","v":0},null,{"$f":"LOOKUP(Z45,Poängberäkning!$B$6:$B$97,Poängberäkning!$C$6:$C$97)","v":0},null,{"$f":"LOOKUP(AB45,Poängberäkning!$B$6:$B$97,Poängberäkning!$C$6:$C$97)","v":0},null,{"$f":"LOOKUP(AD45,Poängberäkning!$B$6:$B$97,Poängberäkning!$C$6:$C$97)","v":0},null,{"$f":"LOOKUP(AF45,Poängberäkning!$B$6:$B$97,Poängberäkning!$C$6:$C$97)","v":0},null,{"$f":"LOOKUP(AH45,Poängberäkning!$B$6:$B$97,Poängberäkning!$C$6:$C$97)","v":0},null,{"$f":"LOOKUP(AJ45,Poängberäkning!$B$6:$B$97,Poängberäkning!$C$6:$C$97)","v":0},null,{"$f":"LOOKUP(AL45,Poängberäkning!$B$6:$B$97,Poängberäkning!$C$6:$C$97)","v":0},null,{"$f":"LOOKUP(AN45,Poängberäkning!$B$6:$B$97,Poängberäkning!$C$6:$C$97)","v":0},null,{"$f":"LOOKUP(AP45,Poängberäkning!$B$6:$B$97,Poängberäkning!$C$6:$C$97)","v":0},null,{"$f":"LOOKUP(AR45,Poängberäkning!$B$6:$B$97,Poängberäkning!$C$6:$C$97)","v":0},null,{"$f":"LOOKUP(AT45,Poängberäkning!$B$6:$B$97,Poängberäkning!$C$6:$C$97)","v":0},null,null,null,null,null,null,null,null,{"$f":"LARGE(($I45,$K45,$M45,$O45,$Q45,$S45,$U45,$W45,$Y45,$AA45,$AC45,$AE45,$AG45,$AI45,$AK45,$AM45,$AO45,$AQ45,$AS45,$AU45,$AW45,$AY45,$BA45,$BC45),1)","v":0},{"$f":"LARGE(($I45,$K45,$M45,$O45,$Q45,$S45,$U45,$W45,$Y45,$AA45,$AC45,$AE45,$AG45,$AI45,$AK45,$AM45,$AO45,$AQ45,$AS45,$AU45,$AW45,$AY45,$BA45,$BC45),2)","v":0},{"$f":"LARGE(($I45,$K45,$M45,$O45,$Q45,$S45,$U45,$W45,$Y45,$AA45,$AC45,$AE45,$AG45,$AI45,$AK45,$AM45,$AO45,$AQ45,$AS45,$AU45,$AW45,$AY45,$BA45,$BC45),3)","v":0},{"$f":"LARGE(($I45,$K45,$M45,$O45,$Q45,$S45,$U45,$W45,$Y45,$AA45,$AC45,$AE45,$AG45,$AI45,$AK45,$AM45,$AO45,$AQ45,$AS45,$AU45,$AW45,$AY45,$BA45,$BC45),4)","v":0},{"$f":"LARGE(($I45,$K45,$M45,$O45,$Q45,$S45,$U45,$W45,$Y45,$AA45,$AC45,$AE45,$AG45,$AI45,$AK45,$AM45,$AO45,$AQ45,$AS45,$AU45,$AW45,$AY45,$BA45,$BC45),5)","v":0},{"$f":"LARGE(($I45,$K45,$M45,$O45,$Q45,$S45,$U45,$W45,$Y45,$AA45,$AC45,$AE45,$AG45,$AI45,$AK45,$AM45,$AO45,$AQ45,$AS45,$AU45,$AW45,$AY45,$BA45,$BC45),6)","v":0},{"$f":"LARGE(($I45,$K45,$M45,$O45,$Q45,$S45,$U45,$W45,$Y45,$AA45,$AC45,$AE45,$AG45,$AI45,$AK45,$AM45,$AO45,$AQ45,$AS45,$AU45,$AW45,$AY45,$BA45,$BC45),7)","v":0},{"$f":"LARGE(($I45,$K45,$M45,$O45,$Q45,$S45,$U45,$W45,$Y45,$AA45,$AC45,$AE45,$AG45,$AI45,$AK45,$AM45,$AO45,$AQ45,$AS45,$AU45,$AW45,$AY45,$BA45,$BC45),8)","v":0},{"$f":"LARGE(($I45,$K45,$M45,$O45,$Q45,$S45,$U45,$W45,$Y45,$AA45,$AC45,$AE45,$AG45,$AI45,$AK45,$AM45,$AO45,$AQ45,$AS45,$AU45,$AW45,$AY45,$BA45,$BC45),9)","v":0},{"$f":"LARGE(($I45,$K45,$M45,$O45,$Q45,$S45,$U45,$W45,$Y45,$AA45,$AC45,$AE45,$AG45,$AI45,$AK45,$AM45,$AO45,$AQ45,$AS45,$AU45,$AW45,$AY45,$BA45,$BC45),10)","v":0}]
[42,null,null,null,{"$f":"SUM(BD46:BM46)","v":0},{"$f":"SUM(BD46:BK46)","v":0},{"$f":"I46+K46+M46+O46+Q46+S46+U46+W46+Y46+AA46+AC46+AE46+AG46+AI46+AK46+AM46+AO46+AQ46+AS46+AU46+AW46+AY46+BA46+BC46","v":0},null,{"$f":"LOOKUP(H46,Poängberäkning!$B$6:$B$97,Poängberäkning!$C$6:$C$97)","v":0},null,{"$f":"LOOKUP(J46,Poängberäkning!$B$6:$B$97,Poängberäkning!$C$6:$C$97)","v":0},null,{"$f":"LOOKUP(L46,Poängberäkning!$B$6:$B$97,Poängberäkning!$C$6:$C$97)","v":0},null,{"$f":"LOOKUP(N46,Poängberäkning!$B$6:$B$97,Poängberäkning!$C$6:$C$97)","v":0},null,{"$f":"LOOKUP(P46,Poängberäkning!$B$6:$B$97,Poängberäkning!$C$6:$C$97)","v":0},null,{"$f":"LOOKUP(R46,Poängberäkning!$B$6:$B$97,Poängberäkning!$C$6:$C$97)","v":0},null,{"$f":"LOOKUP(T46,Poängberäkning!$B$6:$B$97,Poängberäkning!$C$6:$C$97)","v":0},null,{"$f":"LOOKUP(V46,Poängberäkning!$B$6:$B$97,Poängberäkning!$C$6:$C$97)","v":0},null,{"$f":"LOOKUP(X46,Poängberäkning!$B$6:$B$97,Poängberäkning!$C$6:$C$97)","v":0},null,{"$f":"LOOKUP(Z46,Poängberäkning!$B$6:$B$97,Poängberäkning!$C$6:$C$97)","v":0},null,{"$f":"LOOKUP(AB46,Poängberäkning!$B$6:$B$97,Poängberäkning!$C$6:$C$97)","v":0},null,{"$f":"LOOKUP(AD46,Poängberäkning!$B$6:$B$97,Poängberäkning!$C$6:$C$97)","v":0},null,{"$f":"LOOKUP(AF46,Poängberäkning!$B$6:$B$97,Poängberäkning!$C$6:$C$97)","v":0},null,{"$f":"LOOKUP(AH46,Poängberäkning!$B$6:$B$97,Poängberäkning!$C$6:$C$97)","v":0},null,{"$f":"LOOKUP(AJ46,Poängberäkning!$B$6:$B$97,Poängberäkning!$C$6:$C$97)","v":0},null,{"$f":"LOOKUP(AL46,Poängberäkning!$B$6:$B$97,Poängberäkning!$C$6:$C$97)","v":0},null,{"$f":"LOOKUP(AN46,Poängberäkning!$B$6:$B$97,Poängberäkning!$C$6:$C$97)","v":0},null,{"$f":"LOOKUP(AP46,Poängberäkning!$B$6:$B$97,Poängberäkning!$C$6:$C$97)","v":0},null,{"$f":"LOOKUP(AR46,Poängberäkning!$B$6:$B$97,Poängberäkning!$C$6:$C$97)","v":0},null,{"$f":"LOOKUP(AT46,Poängberäkning!$B$6:$B$97,Poängberäkning!$C$6:$C$97)","v":0},null,null,null,null,null,null,null,null,{"$f":"LARGE(($I46,$K46,$M46,$O46,$Q46,$S46,$U46,$W46,$Y46,$AA46,$AC46,$AE46,$AG46,$AI46,$AK46,$AM46,$AO46,$AQ46,$AS46,$AU46,$AW46,$AY46,$BA46,$BC46),1)","v":0},{"$f":"LARGE(($I46,$K46,$M46,$O46,$Q46,$S46,$U46,$W46,$Y46,$AA46,$AC46,$AE46,$AG46,$AI46,$AK46,$AM46,$AO46,$AQ46,$AS46,$AU46,$AW46,$AY46,$BA46,$BC46),2)","v":0},{"$f":"LARGE(($I46,$K46,$M46,$O46,$Q46,$S46,$U46,$W46,$Y46,$AA46,$AC46,$AE46,$AG46,$AI46,$AK46,$AM46,$AO46,$AQ46,$AS46,$AU46,$AW46,$AY46,$BA46,$BC46),3)","v":0},{"$f":"LARGE(($I46,$K46,$M46,$O46,$Q46,$S46,$U46,$W46,$Y46,$AA46,$AC46,$AE46,$AG46,$AI46,$AK46,$AM46,$AO46,$AQ46,$AS46,$AU46,$AW46,$AY46,$BA46,$BC46),4)","v":0},{"$f":"LARGE(($I46,$K46,$M46,$O46,$Q46,$S46,$U46,$W46,$Y46,$AA46,$AC46,$AE46,$AG46,$AI46,$AK46,$AM46,$AO46,$AQ46,$AS46,$AU46,$AW46,$AY46,$BA46,$BC46),5)","v":0},{"$f":"LARGE(($I46,$K46,$M46,$O46,$Q46,$S46,$U46,$W46,$Y46,$AA46,$AC46,$AE46,$AG46,$AI46,$AK46,$AM46,$AO46,$AQ46,$AS46,$AU46,$AW46,$AY46,$BA46,$BC46),6)","v":0},{"$f":"LARGE(($I46,$K46,$M46,$O46,$Q46,$S46,$U46,$W46,$Y46,$AA46,$AC46,$AE46,$AG46,$AI46,$AK46,$AM46,$AO46,$AQ46,$AS46,$AU46,$AW46,$AY46,$BA46,$BC46),7)","v":0},{"$f":"LARGE(($I46,$K46,$M46,$O46,$Q46,$S46,$U46,$W46,$Y46,$AA46,$AC46,$AE46,$AG46,$AI46,$AK46,$AM46,$AO46,$AQ46,$AS46,$AU46,$AW46,$AY46,$BA46,$BC46),8)","v":0},{"$f":"LARGE(($I46,$K46,$M46,$O46,$Q46,$S46,$U46,$W46,$Y46,$AA46,$AC46,$AE46,$AG46,$AI46,$AK46,$AM46,$AO46,$AQ46,$AS46,$AU46,$AW46,$AY46,$BA46,$BC46),9)","v":0},{"$f":"LARGE(($I46,$K46,$M46,$O46,$Q46,$S46,$U46,$W46,$Y46,$AA46,$AC46,$AE46,$AG46,$AI46,$AK46,$AM46,$AO46,$AQ46,$AS46,$AU46,$AW46,$AY46,$BA46,$BC46),10)","v":0}]
[43,null,null,null,{"$f":"SUM(BD47:BM47)","v":0},{"$f":"SUM(BD47:BK47)","v":0},{"$f":"I47+K47+M47+O47+Q47+S47+U47+W47+Y47+AA47+AC47+AE47+AG47+AI47+AK47+AM47+AO47+AQ47+AS47+AU47+AW47+AY47+BA47+BC47","v":0},null,{"$f":"LOOKUP(H47,Poängberäkning!$B$6:$B$97,Poängberäkning!$C$6:$C$97)","v":0},null,{"$f":"LOOKUP(J47,Poängberäkning!$B$6:$B$97,Poängberäkning!$C$6:$C$97)","v":0},null,{"$f":"LOOKUP(L47,Poängberäkning!$B$6:$B$97,Poängberäkning!$C$6:$C$97)","v":0},null,{"$f":"LOOKUP(N47,Poängberäkning!$B$6:$B$97,Poängberäkning!$C$6:$C$97)","v":0},null,{"$f":"LOOKUP(P47,Poängberäkning!$B$6:$B$97,Poängberäkning!$C$6:$C$97)","v":0},null,{"$f":"LOOKUP(R47,Poängberäkning!$B$6:$B$97,Poängberäkning!$C$6:$C$97)","v":0},null,{"$f":"LOOKUP(T47,Poängberäkning!$B$6:$B$97,Poängberäkning!$C$6:$C$97)","v":0},null,{"$f":"LOOKUP(V47,Poängberäkning!$B$6:$B$97,Poängberäkning!$C$6:$C$97)","v":0},null,{"$f":"LOOKUP(X47,Poängberäkning!$B$6:$B$97,Poängberäkning!$C$6:$C$97)","v":0},null,{"$f":"LOOKUP(Z47,Poängberäkning!$B$6:$B$97,Poängberäkning!$C$6:$C$97)","v":0},null,{"$f":"LOOKUP(AB47,Poängberäkning!$B$6:$B$97,Poängberäkning!$C$6:$C$97)","v":0},null,{"$f":"LOOKUP(AD47,Poängberäkning!$B$6:$B$97,Poängberäkning!$C$6:$C$97)","v":0},null,{"$f":"LOOKUP(AF47,Poängberäkning!$B$6:$B$97,Poängberäkning!$C$6:$C$97)","v":0},null,{"$f":"LOOKUP(AH47,Poängberäkning!$B$6:$B$97,Poängberäkning!$C$6:$C$97)","v":0},null,{"$f":"LOOKUP(AJ47,Poängberäkning!$B$6:$B$97,Poängberäkning!$C$6:$C$97)","v":0},null,{"$f":"LOOKUP(AL47,Poängberäkning!$B$6:$B$97,Poängberäkning!$C$6:$C$97)","v":0},null,{"$f":"LOOKUP(AN47,Poängberäkning!$B$6:$B$97,Poängberäkning!$C$6:$C$97)","v":0},null,{"$f":"LOOKUP(AP47,Poängberäkning!$B$6:$B$97,Poängberäkning!$C$6:$C$97)","v":0},null,{"$f":"LOOKUP(AR47,Poängberäkning!$B$6:$B$97,Poängberäkning!$C$6:$C$97)","v":0},null,{"$f":"LOOKUP(AT47,Poängberäkning!$B$6:$B$97,Poängberäkning!$C$6:$C$97)","v":0},null,null,null,null,null,null,null,null,{"$f":"LARGE(($I47,$K47,$M47,$O47,$Q47,$S47,$U47,$W47,$Y47,$AA47,$AC47,$AE47,$AG47,$AI47,$AK47,$AM47,$AO47,$AQ47,$AS47,$AU47,$AW47,$AY47,$BA47,$BC47),1)","v":0},{"$f":"LARGE(($I47,$K47,$M47,$O47,$Q47,$S47,$U47,$W47,$Y47,$AA47,$AC47,$AE47,$AG47,$AI47,$AK47,$AM47,$AO47,$AQ47,$AS47,$AU47,$AW47,$AY47,$BA47,$BC47),2)","v":0},{"$f":"LARGE(($I47,$K47,$M47,$O47,$Q47,$S47,$U47,$W47,$Y47,$AA47,$AC47,$AE47,$AG47,$AI47,$AK47,$AM47,$AO47,$AQ47,$AS47,$AU47,$AW47,$AY47,$BA47,$BC47),3)","v":0},{"$f":"LARGE(($I47,$K47,$M47,$O47,$Q47,$S47,$U47,$W47,$Y47,$AA47,$AC47,$AE47,$AG47,$AI47,$AK47,$AM47,$AO47,$AQ47,$AS47,$AU47,$AW47,$AY47,$BA47,$BC47),4)","v":0},{"$f":"LARGE(($I47,$K47,$M47,$O47,$Q47,$S47,$U47,$W47,$Y47,$AA47,$AC47,$AE47,$AG47,$AI47,$AK47,$AM47,$AO47,$AQ47,$AS47,$AU47,$AW47,$AY47,$BA47,$BC47),5)","v":0},{"$f":"LARGE(($I47,$K47,$M47,$O47,$Q47,$S47,$U47,$W47,$Y47,$AA47,$AC47,$AE47,$AG47,$AI47,$AK47,$AM47,$AO47,$AQ47,$AS47,$AU47,$AW47,$AY47,$BA47,$BC47),6)","v":0},{"$f":"LARGE(($I47,$K47,$M47,$O47,$Q47,$S47,$U47,$W47,$Y47,$AA47,$AC47,$AE47,$AG47,$AI47,$AK47,$AM47,$AO47,$AQ47,$AS47,$AU47,$AW47,$AY47,$BA47,$BC47),7)","v":0},{"$f":"LARGE(($I47,$K47,$M47,$O47,$Q47,$S47,$U47,$W47,$Y47,$AA47,$AC47,$AE47,$AG47,$AI47,$AK47,$AM47,$AO47,$AQ47,$AS47,$AU47,$AW47,$AY47,$BA47,$BC47),8)","v":0},{"$f":"LARGE(($I47,$K47,$M47,$O47,$Q47,$S47,$U47,$W47,$Y47,$AA47,$AC47,$AE47,$AG47,$AI47,$AK47,$AM47,$AO47,$AQ47,$AS47,$AU47,$AW47,$AY47,$BA47,$BC47),9)","v":0},{"$f":"LARGE(($I47,$K47,$M47,$O47,$Q47,$S47,$U47,$W47,$Y47,$AA47,$AC47,$AE47,$AG47,$AI47,$AK47,$AM47,$AO47,$AQ47,$AS47,$AU47,$AW47,$AY47,$BA47,$BC47),10)","v":0}]
[44,null,null,null,{"$f":"SUM(BD48:BM48)","v":0},{"$f":"SUM(BD48:BK48)","v":0},{"$f":"I48+K48+M48+O48+Q48+S48+U48+W48+Y48+AA48+AC48+AE48+AG48+AI48+AK48+AM48+AO48+AQ48+AS48+AU48+AW48+AY48+BA48+BC48","v":0},null,{"$f":"LOOKUP(H48,Poängberäkning!$B$6:$B$97,Poängberäkning!$C$6:$C$97)","v":0},null,{"$f":"LOOKUP(J48,Poängberäkning!$B$6:$B$97,Poängberäkning!$C$6:$C$97)","v":0},null,{"$f":"LOOKUP(L48,Poängberäkning!$B$6:$B$97,Poängberäkning!$C$6:$C$97)","v":0},null,{"$f":"LOOKUP(N48,Poängberäkning!$B$6:$B$97,Poängberäkning!$C$6:$C$97)","v":0},null,{"$f":"LOOKUP(P48,Poängberäkning!$B$6:$B$97,Poängberäkning!$C$6:$C$97)","v":0},null,{"$f":"LOOKUP(R48,Poängberäkning!$B$6:$B$97,Poängberäkning!$C$6:$C$97)","v":0},null,{"$f":"LOOKUP(T48,Poängberäkning!$B$6:$B$97,Poängberäkning!$C$6:$C$97)","v":0},null,{"$f":"LOOKUP(V48,Poängberäkning!$B$6:$B$97,Poängberäkning!$C$6:$C$97)","v":0},null,{"$f":"LOOKUP(X48,Poängberäkning!$B$6:$B$97,Poängberäkning!$C$6:$C$97)","v":0},null,{"$f":"LOOKUP(Z48,Poängberäkning!$B$6:$B$97,Poängberäkning!$C$6:$C$97)","v":0},null,{"$f":"LOOKUP(AB48,Poängberäkning!$B$6:$B$97,Poängberäkning!$C$6:$C$97)","v":0},null,{"$f":"LOOKUP(AD48,Poängberäkning!$B$6:$B$97,Poängberäkning!$C$6:$C$97)","v":0},null,{"$f":"LOOKUP(AF48,Poängberäkning!$B$6:$B$97,Poängberäkning!$C$6:$C$97)","v":0},null,{"$f":"LOOKUP(AH48,Poängberäkning!$B$6:$B$97,Poängberäkning!$C$6:$C$97)","v":0},null,{"$f":"LOOKUP(AJ48,Poängberäkning!$B$6:$B$97,Poängberäkning!$C$6:$C$97)","v":0},null,{"$f":"LOOKUP(AL48,Poängberäkning!$B$6:$B$97,Poängberäkning!$C$6:$C$97)","v":0},null,{"$f":"LOOKUP(AN48,Poängberäkning!$B$6:$B$97,Poängberäkning!$C$6:$C$97)","v":0},null,{"$f":"LOOKUP(AP48,Poängberäkning!$B$6:$B$97,Poängberäkning!$C$6:$C$97)","v":0},null,{"$f":"LOOKUP(AR48,Poängberäkning!$B$6:$B$97,Poängberäkning!$C$6:$C$97)","v":0},null,{"$f":"LOOKUP(AT48,Poängberäkning!$B$6:$B$97,Poängberäkning!$C$6:$C$97)","v":0},null,null,null,null,null,null,null,null,{"$f":"LARGE(($I48,$K48,$M48,$O48,$Q48,$S48,$U48,$W48,$Y48,$AA48,$AC48,$AE48,$AG48,$AI48,$AK48,$AM48,$AO48,$AQ48,$AS48,$AU48,$AW48,$AY48,$BA48,$BC48),1)","v":0},{"$f":"LARGE(($I48,$K48,$M48,$O48,$Q48,$S48,$U48,$W48,$Y48,$AA48,$AC48,$AE48,$AG48,$AI48,$AK48,$AM48,$AO48,$AQ48,$AS48,$AU48,$AW48,$AY48,$BA48,$BC48),2)","v":0},{"$f":"LARGE(($I48,$K48,$M48,$O48,$Q48,$S48,$U48,$W48,$Y48,$AA48,$AC48,$AE48,$AG48,$AI48,$AK48,$AM48,$AO48,$AQ48,$AS48,$AU48,$AW48,$AY48,$BA48,$BC48),3)","v":0},{"$f":"LARGE(($I48,$K48,$M48,$O48,$Q48,$S48,$U48,$W48,$Y48,$AA48,$AC48,$AE48,$AG48,$AI48,$AK48,$AM48,$AO48,$AQ48,$AS48,$AU48,$AW48,$AY48,$BA48,$BC48),4)","v":0},{"$f":"LARGE(($I48,$K48,$M48,$O48,$Q48,$S48,$U48,$W48,$Y48,$AA48,$AC48,$AE48,$AG48,$AI48,$AK48,$AM48,$AO48,$AQ48,$AS48,$AU48,$AW48,$AY48,$BA48,$BC48),5)","v":0},{"$f":"LARGE(($I48,$K48,$M48,$O48,$Q48,$S48,$U48,$W48,$Y48,$AA48,$AC48,$AE48,$AG48,$AI48,$AK48,$AM48,$AO48,$AQ48,$AS48,$AU48,$AW48,$AY48,$BA48,$BC48),6)","v":0},{"$f":"LARGE(($I48,$K48,$M48,$O48,$Q48,$S48,$U48,$W48,$Y48,$AA48,$AC48,$AE48,$AG48,$AI48,$AK48,$AM48,$AO48,$AQ48,$AS48,$AU48,$AW48,$AY48,$BA48,$BC48),7)","v":0},{"$f":"LARGE(($I48,$K48,$M48,$O48,$Q48,$S48,$U48,$W48,$Y48,$AA48,$AC48,$AE48,$AG48,$AI48,$AK48,$AM48,$AO48,$AQ48,$AS48,$AU48,$AW48,$AY48,$BA48,$BC48),8)","v":0},{"$f":"LARGE(($I48,$K48,$M48,$O48,$Q48,$S48,$U48,$W48,$Y48,$AA48,$AC48,$AE48,$AG48,$AI48,$AK48,$AM48,$AO48,$AQ48,$AS48,$AU48,$AW48,$AY48,$BA48,$BC48),9)","v":0},{"$f":"LARGE(($I48,$K48,$M48,$O48,$Q48,$S48,$U48,$W48,$Y48,$AA48,$AC48,$AE48,$AG48,$AI48,$AK48,$AM48,$AO48,$AQ48,$AS48,$AU48,$AW48,$AY48,$BA48,$BC48),10)","v":0}]
[45,null,null,null,{"$f":"SUM(BD49:BM49)","v":0},{"$f":"SUM(BD49:BK49)","v":0},{"$f":"I49+K49+M49+O49+Q49+S49+U49+W49+Y49+AA49+AC49+AE49+AG49+AI49+AK49+AM49+AO49+AQ49+AS49+AU49+AW49+AY49+BA49+BC49","v":0},null,{"$f":"LOOKUP(H49,Poängberäkning!$B$6:$B$97,Poängberäkning!$C$6:$C$97)","v":0},null,{"$f":"LOOKUP(J49,Poängberäkning!$B$6:$B$97,Poängberäkning!$C$6:$C$97)","v":0},null,{"$f":"LOOKUP(L49,Poängberäkning!$B$6:$B$97,Poängberäkning!$C$6:$C$97)","v":0},null,{"$f":"LOOKUP(N49,Poängberäkning!$B$6:$B$97,Poängberäkning!$C$6:$C$97)","v":0},null,{"$f":"LOOKUP(P49,Poängberäkning!$B$6:$B$97,Poängberäkning!$C$6:$C$97)","v":0},null,{"$f":"LOOKUP(R49,Poängberäkning!$B$6:$B$97,Poängberäkning!$C$6:$C$97)","v":0},null,{"$f":"LOOKUP(T49,Poängberäkning!$B$6:$B$97,Poängberäkning!$C$6:$C$97)","v":0},null,{"$f":"LOOKUP(V49,Poängberäkning!$B$6:$B$97,Poängberäkning!$C$6:$C$97)","v":0},null,{"$f":"LOOKUP(X49,Poängberäkning!$B$6:$B$97,Poängberäkning!$C$6:$C$97)","v":0},null,{"$f":"LOOKUP(Z49,Poängberäkning!$B$6:$B$97,Poängberäkning!$C$6:$C$97)","v":0},null,{"$f":"LOOKUP(AB49,Poängberäkning!$B$6:$B$97,Poängberäkning!$C$6:$C$97)","v":0},null,{"$f":"LOOKUP(AD49,Poängberäkning!$B$6:$B$97,Poängberäkning!$C$6:$C$97)","v":0},null,{"$f":"LOOKUP(AF49,Poängberäkning!$B$6:$B$97,Poängberäkning!$C$6:$C$97)","v":0},null,{"$f":"LOOKUP(AH49,Poängberäkning!$B$6:$B$97,Poängberäkning!$C$6:$C$97)","v":0},null,{"$f":"LOOKUP(AJ49,Poängberäkning!$B$6:$B$97,Poängberäkning!$C$6:$C$97)","v":0},null,{"$f":"LOOKUP(AL49,Poängberäkning!$B$6:$B$97,Poängberäkning!$C$6:$C$97)","v":0},null,{"$f":"LOOKUP(AN49,Poängberäkning!$B$6:$B$97,Poängberäkning!$C$6:$C$97)","v":0},null,{"$f":"LOOKUP(AP49,Poängberäkning!$B$6:$B$97,Poängberäkning!$C$6:$C$97)","v":0},null,{"$f":"LOOKUP(AR49,Poängberäkning!$B$6:$B$97,Poängberäkning!$C$6:$C$97)","v":0},null,{"$f":"LOOKUP(AT49,Poängberäkning!$B$6:$B$97,Poängberäkning!$C$6:$C$97)","v":0},null,null,null,null,null,null,null,null,{"$f":"LARGE(($I49,$K49,$M49,$O49,$Q49,$S49,$U49,$W49,$Y49,$AA49,$AC49,$AE49,$AG49,$AI49,$AK49,$AM49,$AO49,$AQ49,$AS49,$AU49,$AW49,$AY49,$BA49,$BC49),1)","v":0},{"$f":"LARGE(($I49,$K49,$M49,$O49,$Q49,$S49,$U49,$W49,$Y49,$AA49,$AC49,$AE49,$AG49,$AI49,$AK49,$AM49,$AO49,$AQ49,$AS49,$AU49,$AW49,$AY49,$BA49,$BC49),2)","v":0},{"$f":"LARGE(($I49,$K49,$M49,$O49,$Q49,$S49,$U49,$W49,$Y49,$AA49,$AC49,$AE49,$AG49,$AI49,$AK49,$AM49,$AO49,$AQ49,$AS49,$AU49,$AW49,$AY49,$BA49,$BC49),3)","v":0},{"$f":"LARGE(($I49,$K49,$M49,$O49,$Q49,$S49,$U49,$W49,$Y49,$AA49,$AC49,$AE49,$AG49,$AI49,$AK49,$AM49,$AO49,$AQ49,$AS49,$AU49,$AW49,$AY49,$BA49,$BC49),4)","v":0},{"$f":"LARGE(($I49,$K49,$M49,$O49,$Q49,$S49,$U49,$W49,$Y49,$AA49,$AC49,$AE49,$AG49,$AI49,$AK49,$AM49,$AO49,$AQ49,$AS49,$AU49,$AW49,$AY49,$BA49,$BC49),5)","v":0},{"$f":"LARGE(($I49,$K49,$M49,$O49,$Q49,$S49,$U49,$W49,$Y49,$AA49,$AC49,$AE49,$AG49,$AI49,$AK49,$AM49,$AO49,$AQ49,$AS49,$AU49,$AW49,$AY49,$BA49,$BC49),6)","v":0},{"$f":"LARGE(($I49,$K49,$M49,$O49,$Q49,$S49,$U49,$W49,$Y49,$AA49,$AC49,$AE49,$AG49,$AI49,$AK49,$AM49,$AO49,$AQ49,$AS49,$AU49,$AW49,$AY49,$BA49,$BC49),7)","v":0},{"$f":"LARGE(($I49,$K49,$M49,$O49,$Q49,$S49,$U49,$W49,$Y49,$AA49,$AC49,$AE49,$AG49,$AI49,$AK49,$AM49,$AO49,$AQ49,$AS49,$AU49,$AW49,$AY49,$BA49,$BC49),8)","v":0},{"$f":"LARGE(($I49,$K49,$M49,$O49,$Q49,$S49,$U49,$W49,$Y49,$AA49,$AC49,$AE49,$AG49,$AI49,$AK49,$AM49,$AO49,$AQ49,$AS49,$AU49,$AW49,$AY49,$BA49,$BC49),9)","v":0},{"$f":"LARGE(($I49,$K49,$M49,$O49,$Q49,$S49,$U49,$W49,$Y49,$AA49,$AC49,$AE49,$AG49,$AI49,$AK49,$AM49,$AO49,$AQ49,$AS49,$AU49,$AW49,$AY49,$BA49,$BC49),10)","v":0}]
[46,null,null,null,{"$f":"SUM(BD50:BM50)","v":0},{"$f":"SUM(BD50:BK50)","v":0},{"$f":"I50+K50+M50+O50+Q50+S50+U50+W50+Y50+AA50+AC50+AE50+AG50+AI50+AK50+AM50+AO50+AQ50+AS50+AU50+AW50+AY50+BA50+BC50","v":0},null,{"$f":"LOOKUP(H50,Poängberäkning!$B$6:$B$97,Poängberäkning!$C$6:$C$97)","v":0},null,{"$f":"LOOKUP(J50,Poängberäkning!$B$6:$B$97,Poängberäkning!$C$6:$C$97)","v":0},null,{"$f":"LOOKUP(L50,Poängberäkning!$B$6:$B$97,Poängberäkning!$C$6:$C$97)","v":0},null,{"$f":"LOOKUP(N50,Poängberäkning!$B$6:$B$97,Poängberäkning!$C$6:$C$97)","v":0},null,{"$f":"LOOKUP(P50,Poängberäkning!$B$6:$B$97,Poängberäkning!$C$6:$C$97)","v":0},null,{"$f":"LOOKUP(R50,Poängberäkning!$B$6:$B$97,Poängberäkning!$C$6:$C$97)","v":0},null,{"$f":"LOOKUP(T50,Poängberäkning!$B$6:$B$97,Poängberäkning!$C$6:$C$97)","v":0},null,{"$f":"LOOKUP(V50,Poängberäkning!$B$6:$B$97,Poängberäkning!$C$6:$C$97)","v":0},null,{"$f":"LOOKUP(X50,Poängberäkning!$B$6:$B$97,Poängberäkning!$C$6:$C$97)","v":0},null,{"$f":"LOOKUP(Z50,Poängberäkning!$B$6:$B$97,Poängberäkning!$C$6:$C$97)","v":0},null,{"$f":"LOOKUP(AB50,Poängberäkning!$B$6:$B$97,Poängberäkning!$C$6:$C$97)","v":0},null,{"$f":"LOOKUP(AD50,Poängberäkning!$B$6:$B$97,Poängberäkning!$C$6:$C$97)","v":0},null,{"$f":"LOOKUP(AF50,Poängberäkning!$B$6:$B$97,Poängberäkning!$C$6:$C$97)","v":0},null,{"$f":"LOOKUP(AH50,Poängberäkning!$B$6:$B$97,Poängberäkning!$C$6:$C$97)","v":0},null,{"$f":"LOOKUP(AJ50,Poängberäkning!$B$6:$B$97,Poängberäkning!$C$6:$C$97)","v":0},null,{"$f":"LOOKUP(AL50,Poängberäkning!$B$6:$B$97,Poängberäkning!$C$6:$C$97)","v":0},null,{"$f":"LOOKUP(AN50,Poängberäkning!$B$6:$B$97,Poängberäkning!$C$6:$C$97)","v":0},null,{"$f":"LOOKUP(AP50,Poängberäkning!$B$6:$B$97,Poängberäkning!$C$6:$C$97)","v":0},null,{"$f":"LOOKUP(AR50,Poängberäkning!$B$6:$B$97,Poängberäkning!$C$6:$C$97)","v":0},null,{"$f":"LOOKUP(AT50,Poängberäkning!$B$6:$B$97,Poängberäkning!$C$6:$C$97)","v":0},null,null,null,null,null,null,null,null,{"$f":"LARGE(($I50,$K50,$M50,$O50,$Q50,$S50,$U50,$W50,$Y50,$AA50,$AC50,$AE50,$AG50,$AI50,$AK50,$AM50,$AO50,$AQ50,$AS50,$AU50,$AW50,$AY50,$BA50,$BC50),1)","v":0},{"$f":"LARGE(($I50,$K50,$M50,$O50,$Q50,$S50,$U50,$W50,$Y50,$AA50,$AC50,$AE50,$AG50,$AI50,$AK50,$AM50,$AO50,$AQ50,$AS50,$AU50,$AW50,$AY50,$BA50,$BC50),2)","v":0},{"$f":"LARGE(($I50,$K50,$M50,$O50,$Q50,$S50,$U50,$W50,$Y50,$AA50,$AC50,$AE50,$AG50,$AI50,$AK50,$AM50,$AO50,$AQ50,$AS50,$AU50,$AW50,$AY50,$BA50,$BC50),3)","v":0},{"$f":"LARGE(($I50,$K50,$M50,$O50,$Q50,$S50,$U50,$W50,$Y50,$AA50,$AC50,$AE50,$AG50,$AI50,$AK50,$AM50,$AO50,$AQ50,$AS50,$AU50,$AW50,$AY50,$BA50,$BC50),4)","v":0},{"$f":"LARGE(($I50,$K50,$M50,$O50,$Q50,$S50,$U50,$W50,$Y50,$AA50,$AC50,$AE50,$AG50,$AI50,$AK50,$AM50,$AO50,$AQ50,$AS50,$AU50,$AW50,$AY50,$BA50,$BC50),5)","v":0},{"$f":"LARGE(($I50,$K50,$M50,$O50,$Q50,$S50,$U50,$W50,$Y50,$AA50,$AC50,$AE50,$AG50,$AI50,$AK50,$AM50,$AO50,$AQ50,$AS50,$AU50,$AW50,$AY50,$BA50,$BC50),6)","v":0},{"$f":"LARGE(($I50,$K50,$M50,$O50,$Q50,$S50,$U50,$W50,$Y50,$AA50,$AC50,$AE50,$AG50,$AI50,$AK50,$AM50,$AO50,$AQ50,$AS50,$AU50,$AW50,$AY50,$BA50,$BC50),7)","v":0},{"$f":"LARGE(($I50,$K50,$M50,$O50,$Q50,$S50,$U50,$W50,$Y50,$AA50,$AC50,$AE50,$AG50,$AI50,$AK50,$AM50,$AO50,$AQ50,$AS50,$AU50,$AW50,$AY50,$BA50,$BC50),8)","v":0},{"$f":"LARGE(($I50,$K50,$M50,$O50,$Q50,$S50,$U50,$W50,$Y50,$AA50,$AC50,$AE50,$AG50,$AI50,$AK50,$AM50,$AO50,$AQ50,$AS50,$AU50,$AW50,$AY50,$BA50,$BC50),9)","v":0},{"$f":"LARGE(($I50,$K50,$M50,$O50,$Q50,$S50,$U50,$W50,$Y50,$AA50,$AC50,$AE50,$AG50,$AI50,$AK50,$AM50,$AO50,$AQ50,$AS50,$AU50,$AW50,$AY50,$BA50,$BC50),10)","v":0}]
[47,null,null,null,{"$f":"SUM(BD51:BM51)","v":0},{"$f":"SUM(BD51:BK51)","v":0},{"$f":"I51+K51+M51+O51+Q51+S51+U51+W51+Y51+AA51+AC51+AE51+AG51+AI51+AK51+AM51+AO51+AQ51+AS51+AU51+AW51+AY51+BA51+BC51","v":0},null,{"$f":"LOOKUP(H51,Poängberäkning!$B$6:$B$97,Poängberäkning!$C$6:$C$97)","v":0},null,{"$f":"LOOKUP(J51,Poängberäkning!$B$6:$B$97,Poängberäkning!$C$6:$C$97)","v":0},null,{"$f":"LOOKUP(L51,Poängberäkning!$B$6:$B$97,Poängberäkning!$C$6:$C$97)","v":0},null,{"$f":"LOOKUP(N51,Poängberäkning!$B$6:$B$97,Poängberäkning!$C$6:$C$97)","v":0},null,{"$f":"LOOKUP(P51,Poängberäkning!$B$6:$B$97,Poängberäkning!$C$6:$C$97)","v":0},null,{"$f":"LOOKUP(R51,Poängberäkning!$B$6:$B$97,Poängberäkning!$C$6:$C$97)","v":0},null,{"$f":"LOOKUP(T51,Poängberäkning!$B$6:$B$97,Poängberäkning!$C$6:$C$97)","v":0},null,{"$f":"LOOKUP(V51,Poängberäkning!$B$6:$B$97,Poängberäkning!$C$6:$C$97)","v":0},null,{"$f":"LOOKUP(X51,Poängberäkning!$B$6:$B$97,Poängberäkning!$C$6:$C$97)","v":0},null,{"$f":"LOOKUP(Z51,Poängberäkning!$B$6:$B$97,Poängberäkning!$C$6:$C$97)","v":0},null,{"$f":"LOOKUP(AB51,Poängberäkning!$B$6:$B$97,Poängberäkning!$C$6:$C$97)","v":0},null,{"$f":"LOOKUP(AD51,Poängberäkning!$B$6:$B$97,Poängberäkning!$C$6:$C$97)","v":0},null,{"$f":"LOOKUP(AF51,Poängberäkning!$B$6:$B$97,Poängberäkning!$C$6:$C$97)","v":0},null,{"$f":"LOOKUP(AH51,Poängberäkning!$B$6:$B$97,Poängberäkning!$C$6:$C$97)","v":0},null,{"$f":"LOOKUP(AJ51,Poängberäkning!$B$6:$B$97,Poängberäkning!$C$6:$C$97)","v":0},null,{"$f":"LOOKUP(AL51,Poängberäkning!$B$6:$B$97,Poängberäkning!$C$6:$C$97)","v":0},null,{"$f":"LOOKUP(AN51,Poängberäkning!$B$6:$B$97,Poängberäkning!$C$6:$C$97)","v":0},null,{"$f":"LOOKUP(AP51,Poängberäkning!$B$6:$B$97,Poängberäkning!$C$6:$C$97)","v":0},null,{"$f":"LOOKUP(AR51,Poängberäkning!$B$6:$B$97,Poängberäkning!$C$6:$C$97)","v":0},null,{"$f":"LOOKUP(AT51,Poängberäkning!$B$6:$B$97,Poängberäkning!$C$6:$C$97)","v":0},null,null,null,null,null,null,null,null,{"$f":"LARGE(($I51,$K51,$M51,$O51,$Q51,$S51,$U51,$W51,$Y51,$AA51,$AC51,$AE51,$AG51,$AI51,$AK51,$AM51,$AO51,$AQ51,$AS51,$AU51,$AW51,$AY51,$BA51,$BC51),1)","v":0},{"$f":"LARGE(($I51,$K51,$M51,$O51,$Q51,$S51,$U51,$W51,$Y51,$AA51,$AC51,$AE51,$AG51,$AI51,$AK51,$AM51,$AO51,$AQ51,$AS51,$AU51,$AW51,$AY51,$BA51,$BC51),2)","v":0},{"$f":"LARGE(($I51,$K51,$M51,$O51,$Q51,$S51,$U51,$W51,$Y51,$AA51,$AC51,$AE51,$AG51,$AI51,$AK51,$AM51,$AO51,$AQ51,$AS51,$AU51,$AW51,$AY51,$BA51,$BC51),3)","v":0},{"$f":"LARGE(($I51,$K51,$M51,$O51,$Q51,$S51,$U51,$W51,$Y51,$AA51,$AC51,$AE51,$AG51,$AI51,$AK51,$AM51,$AO51,$AQ51,$AS51,$AU51,$AW51,$AY51,$BA51,$BC51),4)","v":0},{"$f":"LARGE(($I51,$K51,$M51,$O51,$Q51,$S51,$U51,$W51,$Y51,$AA51,$AC51,$AE51,$AG51,$AI51,$AK51,$AM51,$AO51,$AQ51,$AS51,$AU51,$AW51,$AY51,$BA51,$BC51),5)","v":0},{"$f":"LARGE(($I51,$K51,$M51,$O51,$Q51,$S51,$U51,$W51,$Y51,$AA51,$AC51,$AE51,$AG51,$AI51,$AK51,$AM51,$AO51,$AQ51,$AS51,$AU51,$AW51,$AY51,$BA51,$BC51),6)","v":0},{"$f":"LARGE(($I51,$K51,$M51,$O51,$Q51,$S51,$U51,$W51,$Y51,$AA51,$AC51,$AE51,$AG51,$AI51,$AK51,$AM51,$AO51,$AQ51,$AS51,$AU51,$AW51,$AY51,$BA51,$BC51),7)","v":0},{"$f":"LARGE(($I51,$K51,$M51,$O51,$Q51,$S51,$U51,$W51,$Y51,$AA51,$AC51,$AE51,$AG51,$AI51,$AK51,$AM51,$AO51,$AQ51,$AS51,$AU51,$AW51,$AY51,$BA51,$BC51),8)","v":0},{"$f":"LARGE(($I51,$K51,$M51,$O51,$Q51,$S51,$U51,$W51,$Y51,$AA51,$AC51,$AE51,$AG51,$AI51,$AK51,$AM51,$AO51,$AQ51,$AS51,$AU51,$AW51,$AY51,$BA51,$BC51),9)","v":0},{"$f":"LARGE(($I51,$K51,$M51,$O51,$Q51,$S51,$U51,$W51,$Y51,$AA51,$AC51,$AE51,$AG51,$AI51,$AK51,$AM51,$AO51,$AQ51,$AS51,$AU51,$AW51,$AY51,$BA51,$BC51),10)","v":0}]
[48,null,null,null,{"$f":"SUM(BD52:BM52)","v":0},{"$f":"SUM(BD52:BK52)","v":0},{"$f":"I52+K52+M52+O52+Q52+S52+U52+W52+Y52+AA52+AC52+AE52+AG52+AI52+AK52+AM52+AO52+AQ52+AS52+AU52+AW52+AY52+BA52+BC52","v":0},null,{"$f":"LOOKUP(H52,Poängberäkning!$B$6:$B$97,Poängberäkning!$C$6:$C$97)","v":0},null,{"$f":"LOOKUP(J52,Poängberäkning!$B$6:$B$97,Poängberäkning!$C$6:$C$97)","v":0},null,{"$f":"LOOKUP(L52,Poängberäkning!$B$6:$B$97,Poängberäkning!$C$6:$C$97)","v":0},null,{"$f":"LOOKUP(N52,Poängberäkning!$B$6:$B$97,Poängberäkning!$C$6:$C$97)","v":0},null,{"$f":"LOOKUP(P52,Poängberäkning!$B$6:$B$97,Poängberäkning!$C$6:$C$97)","v":0},null,{"$f":"LOOKUP(R52,Poängberäkning!$B$6:$B$97,Poängberäkning!$C$6:$C$97)","v":0},null,{"$f":"LOOKUP(T52,Poängberäkning!$B$6:$B$97,Poängberäkning!$C$6:$C$97)","v":0},null,{"$f":"LOOKUP(V52,Poängberäkning!$B$6:$B$97,Poängberäkning!$C$6:$C$97)","v":0},null,{"$f":"LOOKUP(X52,Poängberäkning!$B$6:$B$97,Poängberäkning!$C$6:$C$97)","v":0},null,{"$f":"LOOKUP(Z52,Poängberäkning!$B$6:$B$97,Poängberäkning!$C$6:$C$97)","v":0},null,{"$f":"LOOKUP(AB52,Poängberäkning!$B$6:$B$97,Poängberäkning!$C$6:$C$97)","v":0},null,{"$f":"LOOKUP(AD52,Poängberäkning!$B$6:$B$97,Poängberäkning!$C$6:$C$97)","v":0},null,{"$f":"LOOKUP(AF52,Poängberäkning!$B$6:$B$97,Poängberäkning!$C$6:$C$97)","v":0},null,{"$f":"LOOKUP(AH52,Poängberäkning!$B$6:$B$97,Poängberäkning!$C$6:$C$97)","v":0},null,{"$f":"LOOKUP(AJ52,Poängberäkning!$B$6:$B$97,Poängberäkning!$C$6:$C$97)","v":0},null,{"$f":"LOOKUP(AL52,Poängberäkning!$B$6:$B$97,Poängberäkning!$C$6:$C$97)","v":0},null,{"$f":"LOOKUP(AN52,Poängberäkning!$B$6:$B$97,Poängberäkning!$C$6:$C$97)","v":0},null,{"$f":"LOOKUP(AP52,Poängberäkning!$B$6:$B$97,Poängberäkning!$C$6:$C$97)","v":0},null,{"$f":"LOOKUP(AR52,Poängberäkning!$B$6:$B$97,Poängberäkning!$C$6:$C$97)","v":0},null,{"$f":"LOOKUP(AT52,Poängberäkning!$B$6:$B$97,Poängberäkning!$C$6:$C$97)","v":0},null,null,null,null,null,null,null,null,{"$f":"LARGE(($I52,$K52,$M52,$O52,$Q52,$S52,$U52,$W52,$Y52,$AA52,$AC52,$AE52,$AG52,$AI52,$AK52,$AM52,$AO52,$AQ52,$AS52,$AU52,$AW52,$AY52,$BA52,$BC52),1)","v":0},{"$f":"LARGE(($I52,$K52,$M52,$O52,$Q52,$S52,$U52,$W52,$Y52,$AA52,$AC52,$AE52,$AG52,$AI52,$AK52,$AM52,$AO52,$AQ52,$AS52,$AU52,$AW52,$AY52,$BA52,$BC52),2)","v":0},{"$f":"LARGE(($I52,$K52,$M52,$O52,$Q52,$S52,$U52,$W52,$Y52,$AA52,$AC52,$AE52,$AG52,$AI52,$AK52,$AM52,$AO52,$AQ52,$AS52,$AU52,$AW52,$AY52,$BA52,$BC52),3)","v":0},{"$f":"LARGE(($I52,$K52,$M52,$O52,$Q52,$S52,$U52,$W52,$Y52,$AA52,$AC52,$AE52,$AG52,$AI52,$AK52,$AM52,$AO52,$AQ52,$AS52,$AU52,$AW52,$AY52,$BA52,$BC52),4)","v":0},{"$f":"LARGE(($I52,$K52,$M52,$O52,$Q52,$S52,$U52,$W52,$Y52,$AA52,$AC52,$AE52,$AG52,$AI52,$AK52,$AM52,$AO52,$AQ52,$AS52,$AU52,$AW52,$AY52,$BA52,$BC52),5)","v":0},{"$f":"LARGE(($I52,$K52,$M52,$O52,$Q52,$S52,$U52,$W52,$Y52,$AA52,$AC52,$AE52,$AG52,$AI52,$AK52,$AM52,$AO52,$AQ52,$AS52,$AU52,$AW52,$AY52,$BA52,$BC52),6)","v":0},{"$f":"LARGE(($I52,$K52,$M52,$O52,$Q52,$S52,$U52,$W52,$Y52,$AA52,$AC52,$AE52,$AG52,$AI52,$AK52,$AM52,$AO52,$AQ52,$AS52,$AU52,$AW52,$AY52,$BA52,$BC52),7)","v":0},{"$f":"LARGE(($I52,$K52,$M52,$O52,$Q52,$S52,$U52,$W52,$Y52,$AA52,$AC52,$AE52,$AG52,$AI52,$AK52,$AM52,$AO52,$AQ52,$AS52,$AU52,$AW52,$AY52,$BA52,$BC52),8)","v":0},{"$f":"LARGE(($I52,$K52,$M52,$O52,$Q52,$S52,$U52,$W52,$Y52,$AA52,$AC52,$AE52,$AG52,$AI52,$AK52,$AM52,$AO52,$AQ52,$AS52,$AU52,$AW52,$AY52,$BA52,$BC52),9)","v":0},{"$f":"LARGE(($I52,$K52,$M52,$O52,$Q52,$S52,$U52,$W52,$Y52,$AA52,$AC52,$AE52,$AG52,$AI52,$AK52,$AM52,$AO52,$AQ52,$AS52,$AU52,$AW52,$AY52,$BA52,$BC52),10)","v":0}]
[49,null,null,null,{"$f":"SUM(BD53:BM53)","v":0},{"$f":"SUM(BD53:BK53)","v":0},{"$f":"I53+K53+M53+O53+Q53+S53+U53+W53+Y53+AA53+AC53+AE53+AG53+AI53+AK53+AM53+AO53+AQ53+AS53+AU53+AW53+AY53+BA53+BC53","v":0},null,{"$f":"LOOKUP(H53,Poängberäkning!$B$6:$B$97,Poängberäkning!$C$6:$C$97)","v":0},null,{"$f":"LOOKUP(J53,Poängberäkning!$B$6:$B$97,Poängberäkning!$C$6:$C$97)","v":0},null,{"$f":"LOOKUP(L53,Poängberäkning!$B$6:$B$97,Poängberäkning!$C$6:$C$97)","v":0},null,{"$f":"LOOKUP(N53,Poängberäkning!$B$6:$B$97,Poängberäkning!$C$6:$C$97)","v":0},null,{"$f":"LOOKUP(P53,Poängberäkning!$B$6:$B$97,Poängberäkning!$C$6:$C$97)","v":0},null,{"$f":"LOOKUP(R53,Poängberäkning!$B$6:$B$97,Poängberäkning!$C$6:$C$97)","v":0},null,{"$f":"LOOKUP(T53,Poängberäkning!$B$6:$B$97,Poängberäkning!$C$6:$C$97)","v":0},null,{"$f":"LOOKUP(V53,Poängberäkning!$B$6:$B$97,Poängberäkning!$C$6:$C$97)","v":0},null,{"$f":"LOOKUP(X53,Poängberäkning!$B$6:$B$97,Poängberäkning!$C$6:$C$97)","v":0},null,{"$f":"LOOKUP(Z53,Poängberäkning!$B$6:$B$97,Poängberäkning!$C$6:$C$97)","v":0},null,{"$f":"LOOKUP(AB53,Poängberäkning!$B$6:$B$97,Poängberäkning!$C$6:$C$97)","v":0},null,{"$f":"LOOKUP(AD53,Poängberäkning!$B$6:$B$97,Poängberäkning!$C$6:$C$97)","v":0},null,{"$f":"LOOKUP(AF53,Poängberäkning!$B$6:$B$97,Poängberäkning!$C$6:$C$97)","v":0},null,{"$f":"LOOKUP(AH53,Poängberäkning!$B$6:$B$97,Poängberäkning!$C$6:$C$97)","v":0},null,{"$f":"LOOKUP(AJ53,Poängberäkning!$B$6:$B$97,Poängberäkning!$C$6:$C$97)","v":0},null,{"$f":"LOOKUP(AL53,Poängberäkning!$B$6:$B$97,Poängberäkning!$C$6:$C$97)","v":0},null,{"$f":"LOOKUP(AN53,Poängberäkning!$B$6:$B$97,Poängberäkning!$C$6:$C$97)","v":0},null,{"$f":"LOOKUP(AP53,Poängberäkning!$B$6:$B$97,Poängberäkning!$C$6:$C$97)","v":0},null,{"$f":"LOOKUP(AR53,Poängberäkning!$B$6:$B$97,Poängberäkning!$C$6:$C$97)","v":0},null,{"$f":"LOOKUP(AT53,Poängberäkning!$B$6:$B$97,Poängberäkning!$C$6:$C$97)","v":0},null,null,null,null,null,null,null,null,{"$f":"LARGE(($I53,$K53,$M53,$O53,$Q53,$S53,$U53,$W53,$Y53,$AA53,$AC53,$AE53,$AG53,$AI53,$AK53,$AM53,$AO53,$AQ53,$AS53,$AU53,$AW53,$AY53,$BA53,$BC53),1)","v":0},{"$f":"LARGE(($I53,$K53,$M53,$O53,$Q53,$S53,$U53,$W53,$Y53,$AA53,$AC53,$AE53,$AG53,$AI53,$AK53,$AM53,$AO53,$AQ53,$AS53,$AU53,$AW53,$AY53,$BA53,$BC53),2)","v":0},{"$f":"LARGE(($I53,$K53,$M53,$O53,$Q53,$S53,$U53,$W53,$Y53,$AA53,$AC53,$AE53,$AG53,$AI53,$AK53,$AM53,$AO53,$AQ53,$AS53,$AU53,$AW53,$AY53,$BA53,$BC53),3)","v":0},{"$f":"LARGE(($I53,$K53,$M53,$O53,$Q53,$S53,$U53,$W53,$Y53,$AA53,$AC53,$AE53,$AG53,$AI53,$AK53,$AM53,$AO53,$AQ53,$AS53,$AU53,$AW53,$AY53,$BA53,$BC53),4)","v":0},{"$f":"LARGE(($I53,$K53,$M53,$O53,$Q53,$S53,$U53,$W53,$Y53,$AA53,$AC53,$AE53,$AG53,$AI53,$AK53,$AM53,$AO53,$AQ53,$AS53,$AU53,$AW53,$AY53,$BA53,$BC53),5)","v":0},{"$f":"LARGE(($I53,$K53,$M53,$O53,$Q53,$S53,$U53,$W53,$Y53,$AA53,$AC53,$AE53,$AG53,$AI53,$AK53,$AM53,$AO53,$AQ53,$AS53,$AU53,$AW53,$AY53,$BA53,$BC53),6)","v":0},{"$f":"LARGE(($I53,$K53,$M53,$O53,$Q53,$S53,$U53,$W53,$Y53,$AA53,$AC53,$AE53,$AG53,$AI53,$AK53,$AM53,$AO53,$AQ53,$AS53,$AU53,$AW53,$AY53,$BA53,$BC53),7)","v":0},{"$f":"LARGE(($I53,$K53,$M53,$O53,$Q53,$S53,$U53,$W53,$Y53,$AA53,$AC53,$AE53,$AG53,$AI53,$AK53,$AM53,$AO53,$AQ53,$AS53,$AU53,$AW53,$AY53,$BA53,$BC53),8)","v":0},{"$f":"LARGE(($I53,$K53,$M53,$O53,$Q53,$S53,$U53,$W53,$Y53,$AA53,$AC53,$AE53,$AG53,$AI53,$AK53,$AM53,$AO53,$AQ53,$AS53,$AU53,$AW53,$AY53,$BA53,$BC53),9)","v":0},{"$f":"LARGE(($I53,$K53,$M53,$O53,$Q53,$S53,$U53,$W53,$Y53,$AA53,$AC53,$AE53,$AG53,$AI53,$AK53,$AM53,$AO53,$AQ53,$AS53,$AU53,$AW53,$AY53,$BA53,$BC53),10)","v":0}]
[50,null,null,null,{"$f":"SUM(BD54:BM54)","v":0},{"$f":"SUM(BD54:BK54)","v":0},{"$f":"I54+K54+M54+O54+Q54+S54+U54+W54+Y54+AA54+AC54+AE54+AG54+AI54+AK54+AM54+AO54+AQ54+AS54+AU54+AW54+AY54+BA54+BC54","v":0},null,{"$f":"LOOKUP(H54,Poängberäkning!$B$6:$B$97,Poängberäkning!$C$6:$C$97)","v":0},null,{"$f":"LOOKUP(J54,Poängberäkning!$B$6:$B$97,Poängberäkning!$C$6:$C$97)","v":0},null,{"$f":"LOOKUP(L54,Poängberäkning!$B$6:$B$97,Poängberäkning!$C$6:$C$97)","v":0},null,{"$f":"LOOKUP(N54,Poängberäkning!$B$6:$B$97,Poängberäkning!$C$6:$C$97)","v":0},null,{"$f":"LOOKUP(P54,Poängberäkning!$B$6:$B$97,Poängberäkning!$C$6:$C$97)","v":0},null,{"$f":"LOOKUP(R54,Poängberäkning!$B$6:$B$97,Poängberäkning!$C$6:$C$97)","v":0},null,{"$f":"LOOKUP(T54,Poängberäkning!$B$6:$B$97,Poängberäkning!$C$6:$C$97)","v":0},null,{"$f":"LOOKUP(V54,Poängberäkning!$B$6:$B$97,Poängberäkning!$C$6:$C$97)","v":0},null,{"$f":"LOOKUP(X54,Poängberäkning!$B$6:$B$97,Poängberäkning!$C$6:$C$97)","v":0},null,{"$f":"LOOKUP(Z54,Poängberäkning!$B$6:$B$97,Poängberäkning!$C$6:$C$97)","v":0},null,{"$f":"LOOKUP(AB54,Poängberäkning!$B$6:$B$97,Poängberäkning!$C$6:$C$97)","v":0},null,{"$f":"LOOKUP(AD54,Poängberäkning!$B$6:$B$97,Poängberäkning!$C$6:$C$97)","v":0},null,{"$f":"LOOKUP(AF54,Poängberäkning!$B$6:$B$97,Poängberäkning!$C$6:$C$97)","v":0},null,{"$f":"LOOKUP(AH54,Poängberäkning!$B$6:$B$97,Poängberäkning!$C$6:$C$97)","v":0},null,{"$f":"LOOKUP(AJ54,Poängberäkning!$B$6:$B$97,Poängberäkning!$C$6:$C$97)","v":0},null,{"$f":"LOOKUP(AL54,Poängberäkning!$B$6:$B$97,Poängberäkning!$C$6:$C$97)","v":0},null,{"$f":"LOOKUP(AN54,Poängberäkning!$B$6:$B$97,Poängberäkning!$C$6:$C$97)","v":0},null,{"$f":"LOOKUP(AP54,Poängberäkning!$B$6:$B$97,Poängberäkning!$C$6:$C$97)","v":0},null,{"$f":"LOOKUP(AR54,Poängberäkning!$B$6:$B$97,Poängberäkning!$C$6:$C$97)","v":0},null,{"$f":"LOOKUP(AT54,Poängberäkning!$B$6:$B$97,Poängberäkning!$C$6:$C$97)","v":0},null,null,null,null,null,null,null,null,{"$f":"LARGE(($I54,$K54,$M54,$O54,$Q54,$S54,$U54,$W54,$Y54,$AA54,$AC54,$AE54,$AG54,$AI54,$AK54,$AM54,$AO54,$AQ54,$AS54,$AU54,$AW54,$AY54,$BA54,$BC54),1)","v":0},{"$f":"LARGE(($I54,$K54,$M54,$O54,$Q54,$S54,$U54,$W54,$Y54,$AA54,$AC54,$AE54,$AG54,$AI54,$AK54,$AM54,$AO54,$AQ54,$AS54,$AU54,$AW54,$AY54,$BA54,$BC54),2)","v":0},{"$f":"LARGE(($I54,$K54,$M54,$O54,$Q54,$S54,$U54,$W54,$Y54,$AA54,$AC54,$AE54,$AG54,$AI54,$AK54,$AM54,$AO54,$AQ54,$AS54,$AU54,$AW54,$AY54,$BA54,$BC54),3)","v":0},{"$f":"LARGE(($I54,$K54,$M54,$O54,$Q54,$S54,$U54,$W54,$Y54,$AA54,$AC54,$AE54,$AG54,$AI54,$AK54,$AM54,$AO54,$AQ54,$AS54,$AU54,$AW54,$AY54,$BA54,$BC54),4)","v":0},{"$f":"LARGE(($I54,$K54,$M54,$O54,$Q54,$S54,$U54,$W54,$Y54,$AA54,$AC54,$AE54,$AG54,$AI54,$AK54,$AM54,$AO54,$AQ54,$AS54,$AU54,$AW54,$AY54,$BA54,$BC54),5)","v":0},{"$f":"LARGE(($I54,$K54,$M54,$O54,$Q54,$S54,$U54,$W54,$Y54,$AA54,$AC54,$AE54,$AG54,$AI54,$AK54,$AM54,$AO54,$AQ54,$AS54,$AU54,$AW54,$AY54,$BA54,$BC54),6)","v":0},{"$f":"LARGE(($I54,$K54,$M54,$O54,$Q54,$S54,$U54,$W54,$Y54,$AA54,$AC54,$AE54,$AG54,$AI54,$AK54,$AM54,$AO54,$AQ54,$AS54,$AU54,$AW54,$AY54,$BA54,$BC54),7)","v":0},{"$f":"LARGE(($I54,$K54,$M54,$O54,$Q54,$S54,$U54,$W54,$Y54,$AA54,$AC54,$AE54,$AG54,$AI54,$AK54,$AM54,$AO54,$AQ54,$AS54,$AU54,$AW54,$AY54,$BA54,$BC54),8)","v":0},{"$f":"LARGE(($I54,$K54,$M54,$O54,$Q54,$S54,$U54,$W54,$Y54,$AA54,$AC54,$AE54,$AG54,$AI54,$AK54,$AM54,$AO54,$AQ54,$AS54,$AU54,$AW54,$AY54,$BA54,$BC54),9)","v":0},{"$f":"LARGE(($I54,$K54,$M54,$O54,$Q54,$S54,$U54,$W54,$Y54,$AA54,$AC54,$AE54,$AG54,$AI54,$AK54,$AM54,$AO54,$AQ54,$AS54,$AU54,$AW54,$AY54,$BA54,$BC54),10)","v":0}]
[51,null,null,null,{"$f":"SUM(BD55:BM55)","v":0},{"$f":"SUM(BD55:BK55)","v":0},{"$f":"I55+K55+M55+O55+Q55+S55+U55+W55+Y55+AA55+AC55+AE55+AG55+AI55+AK55+AM55+AO55+AQ55+AS55+AU55+AW55+AY55+BA55+BC55","v":0},null,{"$f":"LOOKUP(H55,Poängberäkning!$B$6:$B$97,Poängberäkning!$C$6:$C$97)","v":0},null,{"$f":"LOOKUP(J55,Poängberäkning!$B$6:$B$97,Poängberäkning!$C$6:$C$97)","v":0},null,{"$f":"LOOKUP(L55,Poängberäkning!$B$6:$B$97,Poängberäkning!$C$6:$C$97)","v":0},null,{"$f":"LOOKUP(N55,Poängberäkning!$B$6:$B$97,Poängberäkning!$C$6:$C$97)","v":0},null,{"$f":"LOOKUP(P55,Poängberäkning!$B$6:$B$97,Poängberäkning!$C$6:$C$97)","v":0},null,{"$f":"LOOKUP(R55,Poängberäkning!$B$6:$B$97,Poängberäkning!$C$6:$C$97)","v":0},null,{"$f":"LOOKUP(T55,Poängberäkning!$B$6:$B$97,Poängberäkning!$C$6:$C$97)","v":0},null,{"$f":"LOOKUP(V55,Poängberäkning!$B$6:$B$97,Poängberäkning!$C$6:$C$97)","v":0},null,{"$f":"LOOKUP(X55,Poängberäkning!$B$6:$B$97,Poängberäkning!$C$6:$C$97)","v":0},null,{"$f":"LOOKUP(Z55,Poängberäkning!$B$6:$B$97,Poängberäkning!$C$6:$C$97)","v":0},null,{"$f":"LOOKUP(AB55,Poängberäkning!$B$6:$B$97,Poängberäkning!$C$6:$C$97)","v":0},null,{"$f":"LOOKUP(AD55,Poängberäkning!$B$6:$B$97,Poängberäkning!$C$6:$C$97)","v":0},null,{"$f":"LOOKUP(AF55,Poängberäkning!$B$6:$B$97,Poängberäkning!$C$6:$C$97)","v":0},null,{"$f":"LOOKUP(AH55,Poängberäkning!$B$6:$B$97,Poängberäkning!$C$6:$C$97)","v":0},null,{"$f":"LOOKUP(AJ55,Poängberäkning!$B$6:$B$97,Poängberäkning!$C$6:$C$97)","v":0},null,{"$f":"LOOKUP(AL55,Poängberäkning!$B$6:$B$97,Poängberäkning!$C$6:$C$97)","v":0},null,{"$f":"LOOKUP(AN55,Poängberäkning!$B$6:$B$97,Poängberäkning!$C$6:$C$97)","v":0},null,{"$f":"LOOKUP(AP55,Poängberäkning!$B$6:$B$97,Poängberäkning!$C$6:$C$97)","v":0},null,{"$f":"LOOKUP(AR55,Poängberäkning!$B$6:$B$97,Poängberäkning!$C$6:$C$97)","v":0},null,{"$f":"LOOKUP(AT55,Poängberäkning!$B$6:$B$97,Poängberäkning!$C$6:$C$97)","v":0},null,null,null,null,null,null,null,null,{"$f":"LARGE(($I55,$K55,$M55,$O55,$Q55,$S55,$U55,$W55,$Y55,$AA55,$AC55,$AE55,$AG55,$AI55,$AK55,$AM55,$AO55,$AQ55,$AS55,$AU55,$AW55,$AY55,$BA55,$BC55),1)","v":0},{"$f":"LARGE(($I55,$K55,$M55,$O55,$Q55,$S55,$U55,$W55,$Y55,$AA55,$AC55,$AE55,$AG55,$AI55,$AK55,$AM55,$AO55,$AQ55,$AS55,$AU55,$AW55,$AY55,$BA55,$BC55),2)","v":0},{"$f":"LARGE(($I55,$K55,$M55,$O55,$Q55,$S55,$U55,$W55,$Y55,$AA55,$AC55,$AE55,$AG55,$AI55,$AK55,$AM55,$AO55,$AQ55,$AS55,$AU55,$AW55,$AY55,$BA55,$BC55),3)","v":0},{"$f":"LARGE(($I55,$K55,$M55,$O55,$Q55,$S55,$U55,$W55,$Y55,$AA55,$AC55,$AE55,$AG55,$AI55,$AK55,$AM55,$AO55,$AQ55,$AS55,$AU55,$AW55,$AY55,$BA55,$BC55),4)","v":0},{"$f":"LARGE(($I55,$K55,$M55,$O55,$Q55,$S55,$U55,$W55,$Y55,$AA55,$AC55,$AE55,$AG55,$AI55,$AK55,$AM55,$AO55,$AQ55,$AS55,$AU55,$AW55,$AY55,$BA55,$BC55),5)","v":0},{"$f":"LARGE(($I55,$K55,$M55,$O55,$Q55,$S55,$U55,$W55,$Y55,$AA55,$AC55,$AE55,$AG55,$AI55,$AK55,$AM55,$AO55,$AQ55,$AS55,$AU55,$AW55,$AY55,$BA55,$BC55),6)","v":0},{"$f":"LARGE(($I55,$K55,$M55,$O55,$Q55,$S55,$U55,$W55,$Y55,$AA55,$AC55,$AE55,$AG55,$AI55,$AK55,$AM55,$AO55,$AQ55,$AS55,$AU55,$AW55,$AY55,$BA55,$BC55),7)","v":0},{"$f":"LARGE(($I55,$K55,$M55,$O55,$Q55,$S55,$U55,$W55,$Y55,$AA55,$AC55,$AE55,$AG55,$AI55,$AK55,$AM55,$AO55,$AQ55,$AS55,$AU55,$AW55,$AY55,$BA55,$BC55),8)","v":0},{"$f":"LARGE(($I55,$K55,$M55,$O55,$Q55,$S55,$U55,$W55,$Y55,$AA55,$AC55,$AE55,$AG55,$AI55,$AK55,$AM55,$AO55,$AQ55,$AS55,$AU55,$AW55,$AY55,$BA55,$BC55),9)","v":0},{"$f":"LARGE(($I55,$K55,$M55,$O55,$Q55,$S55,$U55,$W55,$Y55,$AA55,$AC55,$AE55,$AG55,$AI55,$AK55,$AM55,$AO55,$AQ55,$AS55,$AU55,$AW55,$AY55,$BA55,$BC55),10)","v":0}]
[52,null,null,null,{"$f":"SUM(BD56:BM56)","v":0},{"$f":"SUM(BD56:BK56)","v":0},{"$f":"I56+K56+M56+O56+Q56+S56+U56+W56+Y56+AA56+AC56+AE56+AG56+AI56+AK56+AM56+AO56+AQ56+AS56+AU56+AW56+AY56+BA56+BC56","v":0},null,{"$f":"LOOKUP(H56,Poängberäkning!$B$6:$B$97,Poängberäkning!$C$6:$C$97)","v":0},null,{"$f":"LOOKUP(J56,Poängberäkning!$B$6:$B$97,Poängberäkning!$C$6:$C$97)","v":0},null,{"$f":"LOOKUP(L56,Poängberäkning!$B$6:$B$97,Poängberäkning!$C$6:$C$97)","v":0},null,{"$f":"LOOKUP(N56,Poängberäkning!$B$6:$B$97,Poängberäkning!$C$6:$C$97)","v":0},null,{"$f":"LOOKUP(P56,Poängberäkning!$B$6:$B$97,Poängberäkning!$C$6:$C$97)","v":0},null,{"$f":"LOOKUP(R56,Poängberäkning!$B$6:$B$97,Poängberäkning!$C$6:$C$97)","v":0},null,{"$f":"LOOKUP(T56,Poängberäkning!$B$6:$B$97,Poängberäkning!$C$6:$C$97)","v":0},null,{"$f":"LOOKUP(V56,Poängberäkning!$B$6:$B$97,Poängberäkning!$C$6:$C$97)","v":0},null,{"$f":"LOOKUP(X56,Poängberäkning!$B$6:$B$97,Poängberäkning!$C$6:$C$97)","v":0},null,{"$f":"LOOKUP(Z56,Poängberäkning!$B$6:$B$97,Poängberäkning!$C$6:$C$97)","v":0},null,{"$f":"LOOKUP(AB56,Poängberäkning!$B$6:$B$97,Poängberäkning!$C$6:$C$97)","v":0},null,{"$f":"LOOKUP(AD56,Poängberäkning!$B$6:$B$97,Poängberäkning!$C$6:$C$97)","v":0},null,{"$f":"LOOKUP(AF56,Poängberäkning!$B$6:$B$97,Poängberäkning!$C$6:$C$97)","v":0},null,{"$f":"LOOKUP(AH56,Poängberäkning!$B$6:$B$97,Poängberäkning!$C$6:$C$97)","v":0},null,{"$f":"LOOKUP(AJ56,Poängberäkning!$B$6:$B$97,Poängberäkning!$C$6:$C$97)","v":0},null,{"$f":"LOOKUP(AL56,Poängberäkning!$B$6:$B$97,Poängberäkning!$C$6:$C$97)","v":0},null,{"$f":"LOOKUP(AN56,Poängberäkning!$B$6:$B$97,Poängberäkning!$C$6:$C$97)","v":0},null,{"$f":"LOOKUP(AP56,Poängberäkning!$B$6:$B$97,Poängberäkning!$C$6:$C$97)","v":0},null,{"$f":"LOOKUP(AR56,Poängberäkning!$B$6:$B$97,Poängberäkning!$C$6:$C$97)","v":0},null,{"$f":"LOOKUP(AT56,Poängberäkning!$B$6:$B$97,Poängberäkning!$C$6:$C$97)","v":0},null,null,null,null,null,null,null,null,{"$f":"LARGE(($I56,$K56,$M56,$O56,$Q56,$S56,$U56,$W56,$Y56,$AA56,$AC56,$AE56,$AG56,$AI56,$AK56,$AM56,$AO56,$AQ56,$AS56,$AU56,$AW56,$AY56,$BA56,$BC56),1)","v":0},{"$f":"LARGE(($I56,$K56,$M56,$O56,$Q56,$S56,$U56,$W56,$Y56,$AA56,$AC56,$AE56,$AG56,$AI56,$AK56,$AM56,$AO56,$AQ56,$AS56,$AU56,$AW56,$AY56,$BA56,$BC56),2)","v":0},{"$f":"LARGE(($I56,$K56,$M56,$O56,$Q56,$S56,$U56,$W56,$Y56,$AA56,$AC56,$AE56,$AG56,$AI56,$AK56,$AM56,$AO56,$AQ56,$AS56,$AU56,$AW56,$AY56,$BA56,$BC56),3)","v":0},{"$f":"LARGE(($I56,$K56,$M56,$O56,$Q56,$S56,$U56,$W56,$Y56,$AA56,$AC56,$AE56,$AG56,$AI56,$AK56,$AM56,$AO56,$AQ56,$AS56,$AU56,$AW56,$AY56,$BA56,$BC56),4)","v":0},{"$f":"LARGE(($I56,$K56,$M56,$O56,$Q56,$S56,$U56,$W56,$Y56,$AA56,$AC56,$AE56,$AG56,$AI56,$AK56,$AM56,$AO56,$AQ56,$AS56,$AU56,$AW56,$AY56,$BA56,$BC56),5)","v":0},{"$f":"LARGE(($I56,$K56,$M56,$O56,$Q56,$S56,$U56,$W56,$Y56,$AA56,$AC56,$AE56,$AG56,$AI56,$AK56,$AM56,$AO56,$AQ56,$AS56,$AU56,$AW56,$AY56,$BA56,$BC56),6)","v":0},{"$f":"LARGE(($I56,$K56,$M56,$O56,$Q56,$S56,$U56,$W56,$Y56,$AA56,$AC56,$AE56,$AG56,$AI56,$AK56,$AM56,$AO56,$AQ56,$AS56,$AU56,$AW56,$AY56,$BA56,$BC56),7)","v":0},{"$f":"LARGE(($I56,$K56,$M56,$O56,$Q56,$S56,$U56,$W56,$Y56,$AA56,$AC56,$AE56,$AG56,$AI56,$AK56,$AM56,$AO56,$AQ56,$AS56,$AU56,$AW56,$AY56,$BA56,$BC56),8)","v":0},{"$f":"LARGE(($I56,$K56,$M56,$O56,$Q56,$S56,$U56,$W56,$Y56,$AA56,$AC56,$AE56,$AG56,$AI56,$AK56,$AM56,$AO56,$AQ56,$AS56,$AU56,$AW56,$AY56,$BA56,$BC56),9)","v":0},{"$f":"LARGE(($I56,$K56,$M56,$O56,$Q56,$S56,$U56,$W56,$Y56,$AA56,$AC56,$AE56,$AG56,$AI56,$AK56,$AM56,$AO56,$AQ56,$AS56,$AU56,$AW56,$AY56,$BA56,$BC56),10)","v":0}]
[53,null,null,null,{"$f":"SUM(BD57:BM57)","v":0},{"$f":"SUM(BD57:BK57)","v":0},{"$f":"I57+K57+M57+O57+Q57+S57+U57+W57+Y57+AA57+AC57+AE57+AG57+AI57+AK57+AM57+AO57+AQ57+AS57+AU57+AW57+AY57+BA57+BC57","v":0},null,{"$f":"LOOKUP(H57,Poängberäkning!$B$6:$B$97,Poängberäkning!$C$6:$C$97)","v":0},null,{"$f":"LOOKUP(J57,Poängberäkning!$B$6:$B$97,Poängberäkning!$C$6:$C$97)","v":0},null,{"$f":"LOOKUP(L57,Poängberäkning!$B$6:$B$97,Poängberäkning!$C$6:$C$97)","v":0},null,{"$f":"LOOKUP(N57,Poängberäkning!$B$6:$B$97,Poängberäkning!$C$6:$C$97)","v":0},null,{"$f":"LOOKUP(P57,Poängberäkning!$B$6:$B$97,Poängberäkning!$C$6:$C$97)","v":0},null,{"$f":"LOOKUP(R57,Poängberäkning!$B$6:$B$97,Poängberäkning!$C$6:$C$97)","v":0},null,{"$f":"LOOKUP(T57,Poängberäkning!$B$6:$B$97,Poängberäkning!$C$6:$C$97)","v":0},null,{"$f":"LOOKUP(V57,Poängberäkning!$B$6:$B$97,Poängberäkning!$C$6:$C$97)","v":0},null,{"$f":"LOOKUP(X57,Poängberäkning!$B$6:$B$97,Poängberäkning!$C$6:$C$97)","v":0},null,{"$f":"LOOKUP(Z57,Poängberäkning!$B$6:$B$97,Poängberäkning!$C$6:$C$97)","v":0},null,{"$f":"LOOKUP(AB57,Poängberäkning!$B$6:$B$97,Poängberäkning!$C$6:$C$97)","v":0},null,{"$f":"LOOKUP(AD57,Poängberäkning!$B$6:$B$97,Poängberäkning!$C$6:$C$97)","v":0},null,{"$f":"LOOKUP(AF57,Poängberäkning!$B$6:$B$97,Poängberäkning!$C$6:$C$97)","v":0},null,{"$f":"LOOKUP(AH57,Poängberäkning!$B$6:$B$97,Poängberäkning!$C$6:$C$97)","v":0},null,{"$f":"LOOKUP(AJ57,Poängberäkning!$B$6:$B$97,Poängberäkning!$C$6:$C$97)","v":0},null,{"$f":"LOOKUP(AL57,Poängberäkning!$B$6:$B$97,Poängberäkning!$C$6:$C$97)","v":0},null,{"$f":"LOOKUP(AN57,Poängberäkning!$B$6:$B$97,Poängberäkning!$C$6:$C$97)","v":0},null,{"$f":"LOOKUP(AP57,Poängberäkning!$B$6:$B$97,Poängberäkning!$C$6:$C$97)","v":0},null,{"$f":"LOOKUP(AR57,Poängberäkning!$B$6:$B$97,Poängberäkning!$C$6:$C$97)","v":0},null,{"$f":"LOOKUP(AT57,Poängberäkning!$B$6:$B$97,Poängberäkning!$C$6:$C$97)","v":0},null,null,null,null,null,null,null,null,{"$f":"LARGE(($I57,$K57,$M57,$O57,$Q57,$S57,$U57,$W57,$Y57,$AA57,$AC57,$AE57,$AG57,$AI57,$AK57,$AM57,$AO57,$AQ57,$AS57,$AU57,$AW57,$AY57,$BA57,$BC57),1)","v":0},{"$f":"LARGE(($I57,$K57,$M57,$O57,$Q57,$S57,$U57,$W57,$Y57,$AA57,$AC57,$AE57,$AG57,$AI57,$AK57,$AM57,$AO57,$AQ57,$AS57,$AU57,$AW57,$AY57,$BA57,$BC57),2)","v":0},{"$f":"LARGE(($I57,$K57,$M57,$O57,$Q57,$S57,$U57,$W57,$Y57,$AA57,$AC57,$AE57,$AG57,$AI57,$AK57,$AM57,$AO57,$AQ57,$AS57,$AU57,$AW57,$AY57,$BA57,$BC57),3)","v":0},{"$f":"LARGE(($I57,$K57,$M57,$O57,$Q57,$S57,$U57,$W57,$Y57,$AA57,$AC57,$AE57,$AG57,$AI57,$AK57,$AM57,$AO57,$AQ57,$AS57,$AU57,$AW57,$AY57,$BA57,$BC57),4)","v":0},{"$f":"LARGE(($I57,$K57,$M57,$O57,$Q57,$S57,$U57,$W57,$Y57,$AA57,$AC57,$AE57,$AG57,$AI57,$AK57,$AM57,$AO57,$AQ57,$AS57,$AU57,$AW57,$AY57,$BA57,$BC57),5)","v":0},{"$f":"LARGE(($I57,$K57,$M57,$O57,$Q57,$S57,$U57,$W57,$Y57,$AA57,$AC57,$AE57,$AG57,$AI57,$AK57,$AM57,$AO57,$AQ57,$AS57,$AU57,$AW57,$AY57,$BA57,$BC57),6)","v":0},{"$f":"LARGE(($I57,$K57,$M57,$O57,$Q57,$S57,$U57,$W57,$Y57,$AA57,$AC57,$AE57,$AG57,$AI57,$AK57,$AM57,$AO57,$AQ57,$AS57,$AU57,$AW57,$AY57,$BA57,$BC57),7)","v":0},{"$f":"LARGE(($I57,$K57,$M57,$O57,$Q57,$S57,$U57,$W57,$Y57,$AA57,$AC57,$AE57,$AG57,$AI57,$AK57,$AM57,$AO57,$AQ57,$AS57,$AU57,$AW57,$AY57,$BA57,$BC57),8)","v":0},{"$f":"LARGE(($I57,$K57,$M57,$O57,$Q57,$S57,$U57,$W57,$Y57,$AA57,$AC57,$AE57,$AG57,$AI57,$AK57,$AM57,$AO57,$AQ57,$AS57,$AU57,$AW57,$AY57,$BA57,$BC57),9)","v":0},{"$f":"LARGE(($I57,$K57,$M57,$O57,$Q57,$S57,$U57,$W57,$Y57,$AA57,$AC57,$AE57,$AG57,$AI57,$AK57,$AM57,$AO57,$AQ57,$AS57,$AU57,$AW57,$AY57,$BA57,$BC57),10)","v":0}]
[54,null,null,null,{"$f":"SUM(BD58:BM58)","v":0},{"$f":"SUM(BD58:BK58)","v":0},{"$f":"I58+K58+M58+O58+Q58+S58+U58+W58+Y58+AA58+AC58+AE58+AG58+AI58+AK58+AM58+AO58+AQ58+AS58+AU58+AW58+AY58+BA58+BC58","v":0},null,{"$f":"LOOKUP(H58,Poängberäkning!$B$6:$B$97,Poängberäkning!$C$6:$C$97)","v":0},null,{"$f":"LOOKUP(J58,Poängberäkning!$B$6:$B$97,Poängberäkning!$C$6:$C$97)","v":0},null,{"$f":"LOOKUP(L58,Poängberäkning!$B$6:$B$97,Poängberäkning!$C$6:$C$97)","v":0},null,{"$f":"LOOKUP(N58,Poängberäkning!$B$6:$B$97,Poängberäkning!$C$6:$C$97)","v":0},null,{"$f":"LOOKUP(P58,Poängberäkning!$B$6:$B$97,Poängberäkning!$C$6:$C$97)","v":0},null,{"$f":"LOOKUP(R58,Poängberäkning!$B$6:$B$97,Poängberäkning!$C$6:$C$97)","v":0},null,{"$f":"LOOKUP(T58,Poängberäkning!$B$6:$B$97,Poängberäkning!$C$6:$C$97)","v":0},null,{"$f":"LOOKUP(V58,Poängberäkning!$B$6:$B$97,Poängberäkning!$C$6:$C$97)","v":0},null,{"$f":"LOOKUP(X58,Poängberäkning!$B$6:$B$97,Poängberäkning!$C$6:$C$97)","v":0},null,{"$f":"LOOKUP(Z58,Poängberäkning!$B$6:$B$97,Poängberäkning!$C$6:$C$97)","v":0},null,{"$f":"LOOKUP(AB58,Poängberäkning!$B$6:$B$97,Poängberäkning!$C$6:$C$97)","v":0},null,{"$f":"LOOKUP(AD58,Poängberäkning!$B$6:$B$97,Poängberäkning!$C$6:$C$97)","v":0},null,{"$f":"LOOKUP(AF58,Poängberäkning!$B$6:$B$97,Poängberäkning!$C$6:$C$97)","v":0},null,{"$f":"LOOKUP(AH58,Poängberäkning!$B$6:$B$97,Poängberäkning!$C$6:$C$97)","v":0},null,{"$f":"LOOKUP(AJ58,Poängberäkning!$B$6:$B$97,Poängberäkning!$C$6:$C$97)","v":0},null,{"$f":"LOOKUP(AL58,Poängberäkning!$B$6:$B$97,Poängberäkning!$C$6:$C$97)","v":0},null,{"$f":"LOOKUP(AN58,Poängberäkning!$B$6:$B$97,Poängberäkning!$C$6:$C$97)","v":0},null,{"$f":"LOOKUP(AP58,Poängberäkning!$B$6:$B$97,Poängberäkning!$C$6:$C$97)","v":0},null,{"$f":"LOOKUP(AR58,Poängberäkning!$B$6:$B$97,Poängberäkning!$C$6:$C$97)","v":0},null,{"$f":"LOOKUP(AT58,Poängberäkning!$B$6:$B$97,Poängberäkning!$C$6:$C$97)","v":0},null,null,null,null,null,null,null,null,{"$f":"LARGE(($I58,$K58,$M58,$O58,$Q58,$S58,$U58,$W58,$Y58,$AA58,$AC58,$AE58,$AG58,$AI58,$AK58,$AM58,$AO58,$AQ58,$AS58,$AU58,$AW58,$AY58,$BA58,$BC58),1)","v":0},{"$f":"LARGE(($I58,$K58,$M58,$O58,$Q58,$S58,$U58,$W58,$Y58,$AA58,$AC58,$AE58,$AG58,$AI58,$AK58,$AM58,$AO58,$AQ58,$AS58,$AU58,$AW58,$AY58,$BA58,$BC58),2)","v":0},{"$f":"LARGE(($I58,$K58,$M58,$O58,$Q58,$S58,$U58,$W58,$Y58,$AA58,$AC58,$AE58,$AG58,$AI58,$AK58,$AM58,$AO58,$AQ58,$AS58,$AU58,$AW58,$AY58,$BA58,$BC58),3)","v":0},{"$f":"LARGE(($I58,$K58,$M58,$O58,$Q58,$S58,$U58,$W58,$Y58,$AA58,$AC58,$AE58,$AG58,$AI58,$AK58,$AM58,$AO58,$AQ58,$AS58,$AU58,$AW58,$AY58,$BA58,$BC58),4)","v":0},{"$f":"LARGE(($I58,$K58,$M58,$O58,$Q58,$S58,$U58,$W58,$Y58,$AA58,$AC58,$AE58,$AG58,$AI58,$AK58,$AM58,$AO58,$AQ58,$AS58,$AU58,$AW58,$AY58,$BA58,$BC58),5)","v":0},{"$f":"LARGE(($I58,$K58,$M58,$O58,$Q58,$S58,$U58,$W58,$Y58,$AA58,$AC58,$AE58,$AG58,$AI58,$AK58,$AM58,$AO58,$AQ58,$AS58,$AU58,$AW58,$AY58,$BA58,$BC58),6)","v":0},{"$f":"LARGE(($I58,$K58,$M58,$O58,$Q58,$S58,$U58,$W58,$Y58,$AA58,$AC58,$AE58,$AG58,$AI58,$AK58,$AM58,$AO58,$AQ58,$AS58,$AU58,$AW58,$AY58,$BA58,$BC58),7)","v":0},{"$f":"LARGE(($I58,$K58,$M58,$O58,$Q58,$S58,$U58,$W58,$Y58,$AA58,$AC58,$AE58,$AG58,$AI58,$AK58,$AM58,$AO58,$AQ58,$AS58,$AU58,$AW58,$AY58,$BA58,$BC58),8)","v":0},{"$f":"LARGE(($I58,$K58,$M58,$O58,$Q58,$S58,$U58,$W58,$Y58,$AA58,$AC58,$AE58,$AG58,$AI58,$AK58,$AM58,$AO58,$AQ58,$AS58,$AU58,$AW58,$AY58,$BA58,$BC58),9)","v":0},{"$f":"LARGE(($I58,$K58,$M58,$O58,$Q58,$S58,$U58,$W58,$Y58,$AA58,$AC58,$AE58,$AG58,$AI58,$AK58,$AM58,$AO58,$AQ58,$AS58,$AU58,$AW58,$AY58,$BA58,$BC58),10)","v":0}]
[55,null,null,null,{"$f":"SUM(BD59:BM59)","v":0},{"$f":"SUM(BD59:BK59)","v":0},{"$f":"I59+K59+M59+O59+Q59+S59+U59+W59+Y59+AA59+AC59+AE59+AG59+AI59+AK59+AM59+AO59+AQ59+AS59+AU59+AW59+AY59+BA59+BC59","v":0},null,{"$f":"LOOKUP(H59,Poängberäkning!$B$6:$B$97,Poängberäkning!$C$6:$C$97)","v":0},null,{"$f":"LOOKUP(J59,Poängberäkning!$B$6:$B$97,Poängberäkning!$C$6:$C$97)","v":0},null,{"$f":"LOOKUP(L59,Poängberäkning!$B$6:$B$97,Poängberäkning!$C$6:$C$97)","v":0},null,{"$f":"LOOKUP(N59,Poängberäkning!$B$6:$B$97,Poängberäkning!$C$6:$C$97)","v":0},null,{"$f":"LOOKUP(P59,Poängberäkning!$B$6:$B$97,Poängberäkning!$C$6:$C$97)","v":0},null,{"$f":"LOOKUP(R59,Poängberäkning!$B$6:$B$97,Poängberäkning!$C$6:$C$97)","v":0},null,{"$f":"LOOKUP(T59,Poängberäkning!$B$6:$B$97,Poängberäkning!$C$6:$C$97)","v":0},null,{"$f":"LOOKUP(V59,Poängberäkning!$B$6:$B$97,Poängberäkning!$C$6:$C$97)","v":0},null,{"$f":"LOOKUP(X59,Poängberäkning!$B$6:$B$97,Poängberäkning!$C$6:$C$97)","v":0},null,{"$f":"LOOKUP(Z59,Poängberäkning!$B$6:$B$97,Poängberäkning!$C$6:$C$97)","v":0},null,{"$f":"LOOKUP(AB59,Poängberäkning!$B$6:$B$97,Poängberäkning!$C$6:$C$97)","v":0},null,{"$f":"LOOKUP(AD59,Poängberäkning!$B$6:$B$97,Poängberäkning!$C$6:$C$97)","v":0},null,{"$f":"LOOKUP(AF59,Poängberäkning!$B$6:$B$97,Poängberäkning!$C$6:$C$97)","v":0},null,{"$f":"LOOKUP(AH59,Poängberäkning!$B$6:$B$97,Poängberäkning!$C$6:$C$97)","v":0},null,{"$f":"LOOKUP(AJ59,Poängberäkning!$B$6:$B$97,Poängberäkning!$C$6:$C$97)","v":0},null,{"$f":"LOOKUP(AL59,Poängberäkning!$B$6:$B$97,Poängberäkning!$C$6:$C$97)","v":0},null,{"$f":"LOOKUP(AN59,Poängberäkning!$B$6:$B$97,Poängberäkning!$C$6:$C$97)","v":0},null,{"$f":"LOOKUP(AP59,Poängberäkning!$B$6:$B$97,Poängberäkning!$C$6:$C$97)","v":0},null,{"$f":"LOOKUP(AR59,Poängberäkning!$B$6:$B$97,Poängberäkning!$C$6:$C$97)","v":0},null,{"$f":"LOOKUP(AT59,Poängberäkning!$B$6:$B$97,Poängberäkning!$C$6:$C$97)","v":0},null,null,null,null,null,null,null,null,{"$f":"LARGE(($I59,$K59,$M59,$O59,$Q59,$S59,$U59,$W59,$Y59,$AA59,$AC59,$AE59,$AG59,$AI59,$AK59,$AM59,$AO59,$AQ59,$AS59,$AU59,$AW59,$AY59,$BA59,$BC59),1)","v":0},{"$f":"LARGE(($I59,$K59,$M59,$O59,$Q59,$S59,$U59,$W59,$Y59,$AA59,$AC59,$AE59,$AG59,$AI59,$AK59,$AM59,$AO59,$AQ59,$AS59,$AU59,$AW59,$AY59,$BA59,$BC59),2)","v":0},{"$f":"LARGE(($I59,$K59,$M59,$O59,$Q59,$S59,$U59,$W59,$Y59,$AA59,$AC59,$AE59,$AG59,$AI59,$AK59,$AM59,$AO59,$AQ59,$AS59,$AU59,$AW59,$AY59,$BA59,$BC59),3)","v":0},{"$f":"LARGE(($I59,$K59,$M59,$O59,$Q59,$S59,$U59,$W59,$Y59,$AA59,$AC59,$AE59,$AG59,$AI59,$AK59,$AM59,$AO59,$AQ59,$AS59,$AU59,$AW59,$AY59,$BA59,$BC59),4)","v":0},{"$f":"LARGE(($I59,$K59,$M59,$O59,$Q59,$S59,$U59,$W59,$Y59,$AA59,$AC59,$AE59,$AG59,$AI59,$AK59,$AM59,$AO59,$AQ59,$AS59,$AU59,$AW59,$AY59,$BA59,$BC59),5)","v":0},{"$f":"LARGE(($I59,$K59,$M59,$O59,$Q59,$S59,$U59,$W59,$Y59,$AA59,$AC59,$AE59,$AG59,$AI59,$AK59,$AM59,$AO59,$AQ59,$AS59,$AU59,$AW59,$AY59,$BA59,$BC59),6)","v":0},{"$f":"LARGE(($I59,$K59,$M59,$O59,$Q59,$S59,$U59,$W59,$Y59,$AA59,$AC59,$AE59,$AG59,$AI59,$AK59,$AM59,$AO59,$AQ59,$AS59,$AU59,$AW59,$AY59,$BA59,$BC59),7)","v":0},{"$f":"LARGE(($I59,$K59,$M59,$O59,$Q59,$S59,$U59,$W59,$Y59,$AA59,$AC59,$AE59,$AG59,$AI59,$AK59,$AM59,$AO59,$AQ59,$AS59,$AU59,$AW59,$AY59,$BA59,$BC59),8)","v":0},{"$f":"LARGE(($I59,$K59,$M59,$O59,$Q59,$S59,$U59,$W59,$Y59,$AA59,$AC59,$AE59,$AG59,$AI59,$AK59,$AM59,$AO59,$AQ59,$AS59,$AU59,$AW59,$AY59,$BA59,$BC59),9)","v":0},{"$f":"LARGE(($I59,$K59,$M59,$O59,$Q59,$S59,$U59,$W59,$Y59,$AA59,$AC59,$AE59,$AG59,$AI59,$AK59,$AM59,$AO59,$AQ59,$AS59,$AU59,$AW59,$AY59,$BA59,$BC59),10)","v":0}]
[56,null,null,null,{"$f":"SUM(BD60:BM60)","v":0},{"$f":"SUM(BD60:BK60)","v":0},{"$f":"I60+K60+M60+O60+Q60+S60+U60+W60+Y60+AA60+AC60+AE60+AG60+AI60+AK60+AM60+AO60+AQ60+AS60+AU60+AW60+AY60+BA60+BC60","v":0},null,{"$f":"LOOKUP(H60,Poängberäkning!$B$6:$B$97,Poängberäkning!$C$6:$C$97)","v":0},null,{"$f":"LOOKUP(J60,Poängberäkning!$B$6:$B$97,Poängberäkning!$C$6:$C$97)","v":0},null,{"$f":"LOOKUP(L60,Poängberäkning!$B$6:$B$97,Poängberäkning!$C$6:$C$97)","v":0},null,{"$f":"LOOKUP(N60,Poängberäkning!$B$6:$B$97,Poängberäkning!$C$6:$C$97)","v":0},null,{"$f":"LOOKUP(P60,Poängberäkning!$B$6:$B$97,Poängberäkning!$C$6:$C$97)","v":0},null,{"$f":"LOOKUP(R60,Poängberäkning!$B$6:$B$97,Poängberäkning!$C$6:$C$97)","v":0},null,{"$f":"LOOKUP(T60,Poängberäkning!$B$6:$B$97,Poängberäkning!$C$6:$C$97)","v":0},null,{"$f":"LOOKUP(V60,Poängberäkning!$B$6:$B$97,Poängberäkning!$C$6:$C$97)","v":0},null,{"$f":"LOOKUP(X60,Poängberäkning!$B$6:$B$97,Poängberäkning!$C$6:$C$97)","v":0},null,{"$f":"LOOKUP(Z60,Poängberäkning!$B$6:$B$97,Poängberäkning!$C$6:$C$97)","v":0},null,{"$f":"LOOKUP(AB60,Poängberäkning!$B$6:$B$97,Poängberäkning!$C$6:$C$97)","v":0},null,{"$f":"LOOKUP(AD60,Poängberäkning!$B$6:$B$97,Poängberäkning!$C$6:$C$97)","v":0},null,{"$f":"LOOKUP(AF60,Poängberäkning!$B$6:$B$97,Poängberäkning!$C$6:$C$97)","v":0},null,{"$f":"LOOKUP(AH60,Poängberäkning!$B$6:$B$97,Poängberäkning!$C$6:$C$97)","v":0},null,{"$f":"LOOKUP(AJ60,Poängberäkning!$B$6:$B$97,Poängberäkning!$C$6:$C$97)","v":0},null,{"$f":"LOOKUP(AL60,Poängberäkning!$B$6:$B$97,Poängberäkning!$C$6:$C$97)","v":0},null,{"$f":"LOOKUP(AN60,Poängberäkning!$B$6:$B$97,Poängberäkning!$C$6:$C$97)","v":0},null,{"$f":"LOOKUP(AP60,Poängberäkning!$B$6:$B$97,Poängberäkning!$C$6:$C$97)","v":0},null,{"$f":"LOOKUP(AR60,Poängberäkning!$B$6:$B$97,Poängberäkning!$C$6:$C$97)","v":0},null,{"$f":"LOOKUP(AT60,Poängberäkning!$B$6:$B$97,Poängberäkning!$C$6:$C$97)","v":0},null,null,null,null,null,null,null,null,{"$f":"LARGE(($I60,$K60,$M60,$O60,$Q60,$S60,$U60,$W60,$Y60,$AA60,$AC60,$AE60,$AG60,$AI60,$AK60,$AM60,$AO60,$AQ60,$AS60,$AU60,$AW60,$AY60,$BA60,$BC60),1)","v":0},{"$f":"LARGE(($I60,$K60,$M60,$O60,$Q60,$S60,$U60,$W60,$Y60,$AA60,$AC60,$AE60,$AG60,$AI60,$AK60,$AM60,$AO60,$AQ60,$AS60,$AU60,$AW60,$AY60,$BA60,$BC60),2)","v":0},{"$f":"LARGE(($I60,$K60,$M60,$O60,$Q60,$S60,$U60,$W60,$Y60,$AA60,$AC60,$AE60,$AG60,$AI60,$AK60,$AM60,$AO60,$AQ60,$AS60,$AU60,$AW60,$AY60,$BA60,$BC60),3)","v":0},{"$f":"LARGE(($I60,$K60,$M60,$O60,$Q60,$S60,$U60,$W60,$Y60,$AA60,$AC60,$AE60,$AG60,$AI60,$AK60,$AM60,$AO60,$AQ60,$AS60,$AU60,$AW60,$AY60,$BA60,$BC60),4)","v":0},{"$f":"LARGE(($I60,$K60,$M60,$O60,$Q60,$S60,$U60,$W60,$Y60,$AA60,$AC60,$AE60,$AG60,$AI60,$AK60,$AM60,$AO60,$AQ60,$AS60,$AU60,$AW60,$AY60,$BA60,$BC60),5)","v":0},{"$f":"LARGE(($I60,$K60,$M60,$O60,$Q60,$S60,$U60,$W60,$Y60,$AA60,$AC60,$AE60,$AG60,$AI60,$AK60,$AM60,$AO60,$AQ60,$AS60,$AU60,$AW60,$AY60,$BA60,$BC60),6)","v":0},{"$f":"LARGE(($I60,$K60,$M60,$O60,$Q60,$S60,$U60,$W60,$Y60,$AA60,$AC60,$AE60,$AG60,$AI60,$AK60,$AM60,$AO60,$AQ60,$AS60,$AU60,$AW60,$AY60,$BA60,$BC60),7)","v":0},{"$f":"LARGE(($I60,$K60,$M60,$O60,$Q60,$S60,$U60,$W60,$Y60,$AA60,$AC60,$AE60,$AG60,$AI60,$AK60,$AM60,$AO60,$AQ60,$AS60,$AU60,$AW60,$AY60,$BA60,$BC60),8)","v":0},{"$f":"LARGE(($I60,$K60,$M60,$O60,$Q60,$S60,$U60,$W60,$Y60,$AA60,$AC60,$AE60,$AG60,$AI60,$AK60,$AM60,$AO60,$AQ60,$AS60,$AU60,$AW60,$AY60,$BA60,$BC60),9)","v":0},{"$f":"LARGE(($I60,$K60,$M60,$O60,$Q60,$S60,$U60,$W60,$Y60,$AA60,$AC60,$AE60,$AG60,$AI60,$AK60,$AM60,$AO60,$AQ60,$AS60,$AU60,$AW60,$AY60,$BA60,$BC60),10)","v":0}]
[57,null,null,null,{"$f":"SUM(BD61:BM61)","v":0},{"$f":"SUM(BD61:BK61)","v":0},{"$f":"I61+K61+M61+O61+Q61+S61+U61+W61+Y61+AA61+AC61+AE61+AG61+AI61+AK61+AM61+AO61+AQ61+AS61+AU61+AW61+AY61+BA61+BC61","v":0},null,{"$f":"LOOKUP(H61,Poängberäkning!$B$6:$B$97,Poängberäkning!$C$6:$C$97)","v":0},null,{"$f":"LOOKUP(J61,Poängberäkning!$B$6:$B$97,Poängberäkning!$C$6:$C$97)","v":0},null,{"$f":"LOOKUP(L61,Poängberäkning!$B$6:$B$97,Poängberäkning!$C$6:$C$97)","v":0},null,{"$f":"LOOKUP(N61,Poängberäkning!$B$6:$B$97,Poängberäkning!$C$6:$C$97)","v":0},null,{"$f":"LOOKUP(P61,Poängberäkning!$B$6:$B$97,Poängberäkning!$C$6:$C$97)","v":0},null,{"$f":"LOOKUP(R61,Poängberäkning!$B$6:$B$97,Poängberäkning!$C$6:$C$97)","v":0},null,{"$f":"LOOKUP(T61,Poängberäkning!$B$6:$B$97,Poängberäkning!$C$6:$C$97)","v":0},null,{"$f":"LOOKUP(V61,Poängberäkning!$B$6:$B$97,Poängberäkning!$C$6:$C$97)","v":0},null,{"$f":"LOOKUP(X61,Poängberäkning!$B$6:$B$97,Poängberäkning!$C$6:$C$97)","v":0},null,{"$f":"LOOKUP(Z61,Poängberäkning!$B$6:$B$97,Poängberäkning!$C$6:$C$97)","v":0},null,{"$f":"LOOKUP(AB61,Poängberäkning!$B$6:$B$97,Poängberäkning!$C$6:$C$97)","v":0},null,{"$f":"LOOKUP(AD61,Poängberäkning!$B$6:$B$97,Poängberäkning!$C$6:$C$97)","v":0},null,{"$f":"LOOKUP(AF61,Poängberäkning!$B$6:$B$97,Poängberäkning!$C$6:$C$97)","v":0},null,{"$f":"LOOKUP(AH61,Poängberäkning!$B$6:$B$97,Poängberäkning!$C$6:$C$97)","v":0},null,{"$f":"LOOKUP(AJ61,Poängberäkning!$B$6:$B$97,Poängberäkning!$C$6:$C$97)","v":0},null,{"$f":"LOOKUP(AL61,Poängberäkning!$B$6:$B$97,Poängberäkning!$C$6:$C$97)","v":0},null,{"$f":"LOOKUP(AN61,Poängberäkning!$B$6:$B$97,Poängberäkning!$C$6:$C$97)","v":0},null,{"$f":"LOOKUP(AP61,Poängberäkning!$B$6:$B$97,Poängberäkning!$C$6:$C$97)","v":0},null,{"$f":"LOOKUP(AR61,Poängberäkning!$B$6:$B$97,Poängberäkning!$C$6:$C$97)","v":0},null,{"$f":"LOOKUP(AT61,Poängberäkning!$B$6:$B$97,Poängberäkning!$C$6:$C$97)","v":0},null,null,null,null,null,null,null,null,{"$f":"LARGE(($I61,$K61,$M61,$O61,$Q61,$S61,$U61,$W61,$Y61,$AA61,$AC61,$AE61,$AG61,$AI61,$AK61,$AM61,$AO61,$AQ61,$AS61,$AU61,$AW61,$AY61,$BA61,$BC61),1)","v":0},{"$f":"LARGE(($I61,$K61,$M61,$O61,$Q61,$S61,$U61,$W61,$Y61,$AA61,$AC61,$AE61,$AG61,$AI61,$AK61,$AM61,$AO61,$AQ61,$AS61,$AU61,$AW61,$AY61,$BA61,$BC61),2)","v":0},{"$f":"LARGE(($I61,$K61,$M61,$O61,$Q61,$S61,$U61,$W61,$Y61,$AA61,$AC61,$AE61,$AG61,$AI61,$AK61,$AM61,$AO61,$AQ61,$AS61,$AU61,$AW61,$AY61,$BA61,$BC61),3)","v":0},{"$f":"LARGE(($I61,$K61,$M61,$O61,$Q61,$S61,$U61,$W61,$Y61,$AA61,$AC61,$AE61,$AG61,$AI61,$AK61,$AM61,$AO61,$AQ61,$AS61,$AU61,$AW61,$AY61,$BA61,$BC61),4)","v":0},{"$f":"LARGE(($I61,$K61,$M61,$O61,$Q61,$S61,$U61,$W61,$Y61,$AA61,$AC61,$AE61,$AG61,$AI61,$AK61,$AM61,$AO61,$AQ61,$AS61,$AU61,$AW61,$AY61,$BA61,$BC61),5)","v":0},{"$f":"LARGE(($I61,$K61,$M61,$O61,$Q61,$S61,$U61,$W61,$Y61,$AA61,$AC61,$AE61,$AG61,$AI61,$AK61,$AM61,$AO61,$AQ61,$AS61,$AU61,$AW61,$AY61,$BA61,$BC61),6)","v":0},{"$f":"LARGE(($I61,$K61,$M61,$O61,$Q61,$S61,$U61,$W61,$Y61,$AA61,$AC61,$AE61,$AG61,$AI61,$AK61,$AM61,$AO61,$AQ61,$AS61,$AU61,$AW61,$AY61,$BA61,$BC61),7)","v":0},{"$f":"LARGE(($I61,$K61,$M61,$O61,$Q61,$S61,$U61,$W61,$Y61,$AA61,$AC61,$AE61,$AG61,$AI61,$AK61,$AM61,$AO61,$AQ61,$AS61,$AU61,$AW61,$AY61,$BA61,$BC61),8)","v":0},{"$f":"LARGE(($I61,$K61,$M61,$O61,$Q61,$S61,$U61,$W61,$Y61,$AA61,$AC61,$AE61,$AG61,$AI61,$AK61,$AM61,$AO61,$AQ61,$AS61,$AU61,$AW61,$AY61,$BA61,$BC61),9)","v":0},{"$f":"LARGE(($I61,$K61,$M61,$O61,$Q61,$S61,$U61,$W61,$Y61,$AA61,$AC61,$AE61,$AG61,$AI61,$AK61,$AM61,$AO61,$AQ61,$AS61,$AU61,$AW61,$AY61,$BA61,$BC61),10)","v":0}]
[58,null,null,null,{"$f":"SUM(BD62:BM62)","v":0},{"$f":"SUM(BD62:BK62)","v":0},{"$f":"I62+K62+M62+O62+Q62+S62+U62+W62+Y62+AA62+AC62+AE62+AG62+AI62+AK62+AM62+AO62+AQ62+AS62+AU62+AW62+AY62+BA62+BC62","v":0},null,{"$f":"LOOKUP(H62,Poängberäkning!$B$6:$B$97,Poängberäkning!$C$6:$C$97)","v":0},null,{"$f":"LOOKUP(J62,Poängberäkning!$B$6:$B$97,Poängberäkning!$C$6:$C$97)","v":0},null,{"$f":"LOOKUP(L62,Poängberäkning!$B$6:$B$97,Poängberäkning!$C$6:$C$97)","v":0},null,{"$f":"LOOKUP(N62,Poängberäkning!$B$6:$B$97,Poängberäkning!$C$6:$C$97)","v":0},null,{"$f":"LOOKUP(P62,Poängberäkning!$B$6:$B$97,Poängberäkning!$C$6:$C$97)","v":0},null,{"$f":"LOOKUP(R62,Poängberäkning!$B$6:$B$97,Poängberäkning!$C$6:$C$97)","v":0},null,{"$f":"LOOKUP(T62,Poängberäkning!$B$6:$B$97,Poängberäkning!$C$6:$C$97)","v":0},null,{"$f":"LOOKUP(V62,Poängberäkning!$B$6:$B$97,Poängberäkning!$C$6:$C$97)","v":0},null,{"$f":"LOOKUP(X62,Poängberäkning!$B$6:$B$97,Poängberäkning!$C$6:$C$97)","v":0},null,{"$f":"LOOKUP(Z62,Poängberäkning!$B$6:$B$97,Poängberäkning!$C$6:$C$97)","v":0},null,{"$f":"LOOKUP(AB62,Poängberäkning!$B$6:$B$97,Poängberäkning!$C$6:$C$97)","v":0},null,{"$f":"LOOKUP(AD62,Poängberäkning!$B$6:$B$97,Poängberäkning!$C$6:$C$97)","v":0},null,{"$f":"LOOKUP(AF62,Poängberäkning!$B$6:$B$97,Poängberäkning!$C$6:$C$97)","v":0},null,{"$f":"LOOKUP(AH62,Poängberäkning!$B$6:$B$97,Poängberäkning!$C$6:$C$97)","v":0},null,{"$f":"LOOKUP(AJ62,Poängberäkning!$B$6:$B$97,Poängberäkning!$C$6:$C$97)","v":0},null,{"$f":"LOOKUP(AL62,Poängberäkning!$B$6:$B$97,Poängberäkning!$C$6:$C$97)","v":0},null,{"$f":"LOOKUP(AN62,Poängberäkning!$B$6:$B$97,Poängberäkning!$C$6:$C$97)","v":0},null,{"$f":"LOOKUP(AP62,Poängberäkning!$B$6:$B$97,Poängberäkning!$C$6:$C$97)","v":0},null,{"$f":"LOOKUP(AR62,Poängberäkning!$B$6:$B$97,Poängberäkning!$C$6:$C$97)","v":0},null,{"$f":"LOOKUP(AT62,Poängberäkning!$B$6:$B$97,Poängberäkning!$C$6:$C$97)","v":0},null,null,null,null,null,null,null,null,{"$f":"LARGE(($I62,$K62,$M62,$O62,$Q62,$S62,$U62,$W62,$Y62,$AA62,$AC62,$AE62,$AG62,$AI62,$AK62,$AM62,$AO62,$AQ62,$AS62,$AU62,$AW62,$AY62,$BA62,$BC62),1)","v":0},{"$f":"LARGE(($I62,$K62,$M62,$O62,$Q62,$S62,$U62,$W62,$Y62,$AA62,$AC62,$AE62,$AG62,$AI62,$AK62,$AM62,$AO62,$AQ62,$AS62,$AU62,$AW62,$AY62,$BA62,$BC62),2)","v":0},{"$f":"LARGE(($I62,$K62,$M62,$O62,$Q62,$S62,$U62,$W62,$Y62,$AA62,$AC62,$AE62,$AG62,$AI62,$AK62,$AM62,$AO62,$AQ62,$AS62,$AU62,$AW62,$AY62,$BA62,$BC62),3)","v":0},{"$f":"LARGE(($I62,$K62,$M62,$O62,$Q62,$S62,$U62,$W62,$Y62,$AA62,$AC62,$AE62,$AG62,$AI62,$AK62,$AM62,$AO62,$AQ62,$AS62,$AU62,$AW62,$AY62,$BA62,$BC62),4)","v":0},{"$f":"LARGE(($I62,$K62,$M62,$O62,$Q62,$S62,$U62,$W62,$Y62,$AA62,$AC62,$AE62,$AG62,$AI62,$AK62,$AM62,$AO62,$AQ62,$AS62,$AU62,$AW62,$AY62,$BA62,$BC62),5)","v":0},{"$f":"LARGE(($I62,$K62,$M62,$O62,$Q62,$S62,$U62,$W62,$Y62,$AA62,$AC62,$AE62,$AG62,$AI62,$AK62,$AM62,$AO62,$AQ62,$AS62,$AU62,$AW62,$AY62,$BA62,$BC62),6)","v":0},{"$f":"LARGE(($I62,$K62,$M62,$O62,$Q62,$S62,$U62,$W62,$Y62,$AA62,$AC62,$AE62,$AG62,$AI62,$AK62,$AM62,$AO62,$AQ62,$AS62,$AU62,$AW62,$AY62,$BA62,$BC62),7)","v":0},{"$f":"LARGE(($I62,$K62,$M62,$O62,$Q62,$S62,$U62,$W62,$Y62,$AA62,$AC62,$AE62,$AG62,$AI62,$AK62,$AM62,$AO62,$AQ62,$AS62,$AU62,$AW62,$AY62,$BA62,$BC62),8)","v":0},{"$f":"LARGE(($I62,$K62,$M62,$O62,$Q62,$S62,$U62,$W62,$Y62,$AA62,$AC62,$AE62,$AG62,$AI62,$AK62,$AM62,$AO62,$AQ62,$AS62,$AU62,$AW62,$AY62,$BA62,$BC62),9)","v":0},{"$f":"LARGE(($I62,$K62,$M62,$O62,$Q62,$S62,$U62,$W62,$Y62,$AA62,$AC62,$AE62,$AG62,$AI62,$AK62,$AM62,$AO62,$AQ62,$AS62,$AU62,$AW62,$AY62,$BA62,$BC62),10)","v":0}]
[59,null,null,null,{"$f":"SUM(BD63:BM63)","v":0},{"$f":"SUM(BD63:BK63)","v":0},{"$f":"I63+K63+M63+O63+Q63+S63+U63+W63+Y63+AA63+AC63+AE63+AG63+AI63+AK63+AM63+AO63+AQ63+AS63+AU63+AW63+AY63+BA63+BC63","v":0},null,{"$f":"LOOKUP(H63,Poängberäkning!$B$6:$B$97,Poängberäkning!$C$6:$C$97)","v":0},null,{"$f":"LOOKUP(J63,Poängberäkning!$B$6:$B$97,Poängberäkning!$C$6:$C$97)","v":0},null,{"$f":"LOOKUP(L63,Poängberäkning!$B$6:$B$97,Poängberäkning!$C$6:$C$97)","v":0},null,{"$f":"LOOKUP(N63,Poängberäkning!$B$6:$B$97,Poängberäkning!$C$6:$C$97)","v":0},null,{"$f":"LOOKUP(P63,Poängberäkning!$B$6:$B$97,Poängberäkning!$C$6:$C$97)","v":0},null,{"$f":"LOOKUP(R63,Poängberäkning!$B$6:$B$97,Poängberäkning!$C$6:$C$97)","v":0},null,{"$f":"LOOKUP(T63,Poängberäkning!$B$6:$B$97,Poängberäkning!$C$6:$C$97)","v":0},null,{"$f":"LOOKUP(V63,Poängberäkning!$B$6:$B$97,Poängberäkning!$C$6:$C$97)","v":0},null,{"$f":"LOOKUP(X63,Poängberäkning!$B$6:$B$97,Poängberäkning!$C$6:$C$97)","v":0},null,{"$f":"LOOKUP(Z63,Poängberäkning!$B$6:$B$97,Poängberäkning!$C$6:$C$97)","v":0},null,{"$f":"LOOKUP(AB63,Poängberäkning!$B$6:$B$97,Poängberäkning!$C$6:$C$97)","v":0},null,{"$f":"LOOKUP(AD63,Poängberäkning!$B$6:$B$97,Poängberäkning!$C$6:$C$97)","v":0},null,{"$f":"LOOKUP(AF63,Poängberäkning!$B$6:$B$97,Poängberäkning!$C$6:$C$97)","v":0},null,{"$f":"LOOKUP(AH63,Poängberäkning!$B$6:$B$97,Poängberäkning!$C$6:$C$97)","v":0},null,{"$f":"LOOKUP(AJ63,Poängberäkning!$B$6:$B$97,Poängberäkning!$C$6:$C$97)","v":0},null,{"$f":"LOOKUP(AL63,Poängberäkning!$B$6:$B$97,Poängberäkning!$C$6:$C$97)","v":0},null,{"$f":"LOOKUP(AN63,Poängberäkning!$B$6:$B$97,Poängberäkning!$C$6:$C$97)","v":0},null,{"$f":"LOOKUP(AP63,Poängberäkning!$B$6:$B$97,Poängberäkning!$C$6:$C$97)","v":0},null,{"$f":"LOOKUP(AR63,Poängberäkning!$B$6:$B$97,Poängberäkning!$C$6:$C$97)","v":0},null,{"$f":"LOOKUP(AT63,Poängberäkning!$B$6:$B$97,Poängberäkning!$C$6:$C$97)","v":0},null,null,null,null,null,null,null,null,{"$f":"LARGE(($I63,$K63,$M63,$O63,$Q63,$S63,$U63,$W63,$Y63,$AA63,$AC63,$AE63,$AG63,$AI63,$AK63,$AM63,$AO63,$AQ63,$AS63,$AU63,$AW63,$AY63,$BA63,$BC63),1)","v":0},{"$f":"LARGE(($I63,$K63,$M63,$O63,$Q63,$S63,$U63,$W63,$Y63,$AA63,$AC63,$AE63,$AG63,$AI63,$AK63,$AM63,$AO63,$AQ63,$AS63,$AU63,$AW63,$AY63,$BA63,$BC63),2)","v":0},{"$f":"LARGE(($I63,$K63,$M63,$O63,$Q63,$S63,$U63,$W63,$Y63,$AA63,$AC63,$AE63,$AG63,$AI63,$AK63,$AM63,$AO63,$AQ63,$AS63,$AU63,$AW63,$AY63,$BA63,$BC63),3)","v":0},{"$f":"LARGE(($I63,$K63,$M63,$O63,$Q63,$S63,$U63,$W63,$Y63,$AA63,$AC63,$AE63,$AG63,$AI63,$AK63,$AM63,$AO63,$AQ63,$AS63,$AU63,$AW63,$AY63,$BA63,$BC63),4)","v":0},{"$f":"LARGE(($I63,$K63,$M63,$O63,$Q63,$S63,$U63,$W63,$Y63,$AA63,$AC63,$AE63,$AG63,$AI63,$AK63,$AM63,$AO63,$AQ63,$AS63,$AU63,$AW63,$AY63,$BA63,$BC63),5)","v":0},{"$f":"LARGE(($I63,$K63,$M63,$O63,$Q63,$S63,$U63,$W63,$Y63,$AA63,$AC63,$AE63,$AG63,$AI63,$AK63,$AM63,$AO63,$AQ63,$AS63,$AU63,$AW63,$AY63,$BA63,$BC63),6)","v":0},{"$f":"LARGE(($I63,$K63,$M63,$O63,$Q63,$S63,$U63,$W63,$Y63,$AA63,$AC63,$AE63,$AG63,$AI63,$AK63,$AM63,$AO63,$AQ63,$AS63,$AU63,$AW63,$AY63,$BA63,$BC63),7)","v":0},{"$f":"LARGE(($I63,$K63,$M63,$O63,$Q63,$S63,$U63,$W63,$Y63,$AA63,$AC63,$AE63,$AG63,$AI63,$AK63,$AM63,$AO63,$AQ63,$AS63,$AU63,$AW63,$AY63,$BA63,$BC63),8)","v":0},{"$f":"LARGE(($I63,$K63,$M63,$O63,$Q63,$S63,$U63,$W63,$Y63,$AA63,$AC63,$AE63,$AG63,$AI63,$AK63,$AM63,$AO63,$AQ63,$AS63,$AU63,$AW63,$AY63,$BA63,$BC63),9)","v":0},{"$f":"LARGE(($I63,$K63,$M63,$O63,$Q63,$S63,$U63,$W63,$Y63,$AA63,$AC63,$AE63,$AG63,$AI63,$AK63,$AM63,$AO63,$AQ63,$AS63,$AU63,$AW63,$AY63,$BA63,$BC63),10)","v":0}]
[60,null,null,null,{"$f":"SUM(BD64:BM64)","v":0},{"$f":"SUM(BD64:BK64)","v":0},{"$f":"I64+K64+M64+O64+Q64+S64+U64+W64+Y64+AA64+AC64+AE64+AG64+AI64+AK64+AM64+AO64+AQ64+AS64+AU64+AW64+AY64+BA64+BC64","v":0},null,{"$f":"LOOKUP(H64,Poängberäkning!$B$6:$B$97,Poängberäkning!$C$6:$C$97)","v":0},null,{"$f":"LOOKUP(J64,Poängberäkning!$B$6:$B$97,Poängberäkning!$C$6:$C$97)","v":0},null,{"$f":"LOOKUP(L64,Poängberäkning!$B$6:$B$97,Poängberäkning!$C$6:$C$97)","v":0},null,{"$f":"LOOKUP(N64,Poängberäkning!$B$6:$B$97,Poängberäkning!$C$6:$C$97)","v":0},null,{"$f":"LOOKUP(P64,Poängberäkning!$B$6:$B$97,Poängberäkning!$C$6:$C$97)","v":0},null,{"$f":"LOOKUP(R64,Poängberäkning!$B$6:$B$97,Poängberäkning!$C$6:$C$97)","v":0},null,{"$f":"LOOKUP(T64,Poängberäkning!$B$6:$B$97,Poängberäkning!$C$6:$C$97)","v":0},null,{"$f":"LOOKUP(V64,Poängberäkning!$B$6:$B$97,Poängberäkning!$C$6:$C$97)","v":0},null,{"$f":"LOOKUP(X64,Poängberäkning!$B$6:$B$97,Poängberäkning!$C$6:$C$97)","v":0},null,{"$f":"LOOKUP(Z64,Poängberäkning!$B$6:$B$97,Poängberäkning!$C$6:$C$97)","v":0},null,{"$f":"LOOKUP(AB64,Poängberäkning!$B$6:$B$97,Poängberäkning!$C$6:$C$97)","v":0},null,{"$f":"LOOKUP(AD64,Poängberäkning!$B$6:$B$97,Poängberäkning!$C$6:$C$97)","v":0},null,{"$f":"LOOKUP(AF64,Poängberäkning!$B$6:$B$97,Poängberäkning!$C$6:$C$97)","v":0},null,{"$f":"LOOKUP(AH64,Poängberäkning!$B$6:$B$97,Poängberäkning!$C$6:$C$97)","v":0},null,{"$f":"LOOKUP(AJ64,Poängberäkning!$B$6:$B$97,Poängberäkning!$C$6:$C$97)","v":0},null,{"$f":"LOOKUP(AL64,Poängberäkning!$B$6:$B$97,Poängberäkning!$C$6:$C$97)","v":0},null,{"$f":"LOOKUP(AN64,Poängberäkning!$B$6:$B$97,Poängberäkning!$C$6:$C$97)","v":0},null,{"$f":"LOOKUP(AP64,Poängberäkning!$B$6:$B$97,Poängberäkning!$C$6:$C$97)","v":0},null,{"$f":"LOOKUP(AR64,Poängberäkning!$B$6:$B$97,Poängberäkning!$C$6:$C$97)","v":0},null,{"$f":"LOOKUP(AT64,Poängberäkning!$B$6:$B$97,Poängberäkning!$C$6:$C$97)","v":0},null,null,null,null,null,null,null,null,{"$f":"LARGE(($I64,$K64,$M64,$O64,$Q64,$S64,$U64,$W64,$Y64,$AA64,$AC64,$AE64,$AG64,$AI64,$AK64,$AM64,$AO64,$AQ64,$AS64,$AU64,$AW64,$AY64,$BA64,$BC64),1)","v":0},{"$f":"LARGE(($I64,$K64,$M64,$O64,$Q64,$S64,$U64,$W64,$Y64,$AA64,$AC64,$AE64,$AG64,$AI64,$AK64,$AM64,$AO64,$AQ64,$AS64,$AU64,$AW64,$AY64,$BA64,$BC64),2)","v":0},{"$f":"LARGE(($I64,$K64,$M64,$O64,$Q64,$S64,$U64,$W64,$Y64,$AA64,$AC64,$AE64,$AG64,$AI64,$AK64,$AM64,$AO64,$AQ64,$AS64,$AU64,$AW64,$AY64,$BA64,$BC64),3)","v":0},{"$f":"LARGE(($I64,$K64,$M64,$O64,$Q64,$S64,$U64,$W64,$Y64,$AA64,$AC64,$AE64,$AG64,$AI64,$AK64,$AM64,$AO64,$AQ64,$AS64,$AU64,$AW64,$AY64,$BA64,$BC64),4)","v":0},{"$f":"LARGE(($I64,$K64,$M64,$O64,$Q64,$S64,$U64,$W64,$Y64,$AA64,$AC64,$AE64,$AG64,$AI64,$AK64,$AM64,$AO64,$AQ64,$AS64,$AU64,$AW64,$AY64,$BA64,$BC64),5)","v":0},{"$f":"LARGE(($I64,$K64,$M64,$O64,$Q64,$S64,$U64,$W64,$Y64,$AA64,$AC64,$AE64,$AG64,$AI64,$AK64,$AM64,$AO64,$AQ64,$AS64,$AU64,$AW64,$AY64,$BA64,$BC64),6)","v":0},{"$f":"LARGE(($I64,$K64,$M64,$O64,$Q64,$S64,$U64,$W64,$Y64,$AA64,$AC64,$AE64,$AG64,$AI64,$AK64,$AM64,$AO64,$AQ64,$AS64,$AU64,$AW64,$AY64,$BA64,$BC64),7)","v":0},{"$f":"LARGE(($I64,$K64,$M64,$O64,$Q64,$S64,$U64,$W64,$Y64,$AA64,$AC64,$AE64,$AG64,$AI64,$AK64,$AM64,$AO64,$AQ64,$AS64,$AU64,$AW64,$AY64,$BA64,$BC64),8)","v":0},{"$f":"LARGE(($I64,$K64,$M64,$O64,$Q64,$S64,$U64,$W64,$Y64,$AA64,$AC64,$AE64,$AG64,$AI64,$AK64,$AM64,$AO64,$AQ64,$AS64,$AU64,$AW64,$AY64,$BA64,$BC64),9)","v":0},{"$f":"LARGE(($I64,$K64,$M64,$O64,$Q64,$S64,$U64,$W64,$Y64,$AA64,$AC64,$AE64,$AG64,$AI64,$AK64,$AM64,$AO64,$AQ64,$AS64,$AU64,$AW64,$AY64,$BA64,$BC64),10)","v":0}]
[]
[]
[]
[]
[]
[]
[]
[]
[]
[]
[]
[]
[]
[]
[]
[]
[]
[]
[]
[]
[]
[]
[]
[]
[]
[]
[]
[]
[]
[]
[]
[]
[]
[]
[]
[]
[]
[]
[]
[]
[]
[]
[]
[]
[]
[]
[]
[]
[]
[]
[]
[]
[]
[]
[]
[]
[]
[]
[]
[]
[]
[]
[]
[]
[]
[]
[]
[]
[]
[]
[]
[]
[]
[]
[]
[]
[]
[]
[]
[]
[]
[]
[]
[]
[]
[]
[]
[]
[]
[]
[]
[]
[]
[]
[]
[]
[]
[]
[]
[]
[]
[]
[]
[]
[]
[]
[]
[]
[]
[]
[]
[]
[]
[]
[]
[]
[]
[]
[]
[]
[]
[]
[]
[]
[]
[]
[]
[]
[]
[]
[]
[]
[]
[]
[]
[]
[]
[]
[]
[]
[]
[]
[]
[]
[]
[]
[]
[]
[]
[]
[]
[]
[]
[]
[]
[]
[]
[]
[]
[]
[]
[]
[]
[]
[]
[]
[]
[]
[]
[]
[]
[]
[]
[]
[]
[]
[]
[]
[]
[]
[]
[]
[]
[]
[]
[]
[]
[]
[]
[]
[]
[]
[]
[]
[]
[]
[]
[]
[]
[]
[]
[]
[]
[]
[]
[]
[]
[]
[]
[]
[]
[]
[]
[]
[]
[]
[]
[]
[]
[]
[]
[]
[]
[]
[]
[]
[]
[]
[]
[]
[]
[]
[]
[]
[]
[]
[]
[]
[]
[]
[]
[]
[]
[]
[]
[]
[]
[]
[]
[]
[]
[]
[]
[]
[]
[]
[]
[]
[]
[]
[]
[]
[]
[]
[]
[]
[]
[]
[]
[]
[]
[]
[]
[]
[]
[]
[]
[]
[]
[]
[]
[]
[]
[]
[]
[]
[]
[]
[]
[]
[]
[]
[]
[]
[]
[]
[]
[]
[]
[]
[]
[]
[]
[]
[]
[]
[]
[]
[]
[]
[]
[]
[]
[]
[]
[]
[]
[]
[]
[]
[]
[]
[]
[]
[]
[]
[]
[]
[]
[]
[]
[]
[]
[]
[]
[]
[]
[]
[]
[]
[]
[]
[]
[]
[]
[]
[]
[]
[]
[]
[]
[]
[]
[]
[]
[]
[]
[]
[]
[]
[]
[]
[]
[]
[]
[]
[]
[]
[]
[]
[]
[]
[]
[]
[]
[]
[]
[]
[]
[]
[]
[]
[]
[]
[]
[]
[]
[]
[]
[]
[]
[]
[]
[]
[]
[]
[]
[]
[]
[]
[]
[]
[]
[]
[]
[]
[]
[]
[]
[]
[]
[]
[]
[]
[]
[]
[]
[]
[]
[]
[]
[]
[]
[]
[]
[]
[]
[]
[]
[]
[]
[]
[]
[]
[]
[]
[]
[]
[]
[]
[]
[]
[]
[]
[]
[]
[]
[]
[]
[]
[]
[]
[]
[]
[]
[]
[]
[]
[]
[]
[]
[]
[]
[]
[]
[]
[]
[]
[]
[]
[]
[]
[]
[]
[]
[]
[]
[]
[]
[]
[]
[]
[]
[]
[]
[]
[]
[]
[]
[]
[]
[]
[]
[]
[]
[]
[]
[]
[]
[]
[]
[]
[]
[]
[]
[]
[]
[]
[]
[]
[]
[]
[]
[]
[]
[]
[]
[]
[]
[]
[]
[]
[]
[]
[]
[]
[]
[]
[]
[]
[]
[]
[]
[]
[]
[]
[]
[]
[]
[]
[]
[]
[]
[]
[]
[]
[]
[]
[]
[]
[]
[]
[]
[]
[]
[]
[]
[]
[]
[]
[]
[]
[]
[]
[]
[]
[]
[]
[]
[]
[]
[]
[]
[]
[]
[]
[]
[]
[]
[]
[]
[]
[]
[]
[]
[]
[]
[]
[]
[]
[]
[]
[]
[]
[]
[]
[]
[]
[]
[]
[]
[]
[]
[]
[]
[]
[]
[]
[]
[]
[]
[]
[]
[]
[]
[]
[]
[]
[]
[]
[]
[]
[]
[]
[]
[]
[]
[]
[]
[]
[]
[]
[]
[]
[]
[]
[]
[]
[]
[]
[]
[]
[]
[]
[]
[]
[]
[]
[]
[]
[]
[]
[]
[]
[]
[]
[]
[]
[]
[]
[]
[]
[]
[]
[]
[]
[]
[]
[]
[]
[]
[]
[]
[]
[]
[]
[]
[]
[]
[]
[]
[]
[]
[]
[]
[]
[]
[]
[]
[]
[]
[]
[]
[]
[]
[]
[]
[]
[]
[]
[]
[]
[]
[]
[]
[]
[]
[]
[]
[]
[]
[]
[]
[]
[]
[]
[]
[]
[]
[]
[]
[]
[]
[]
[]
[]
[]
[]
[]
[]
[]
[]
[]
[]
[]
[]
[]
[]
[]
[]
[]
[]
[]
[]
[]
[]
[]
[]
[]
[]
[]
[]
[]
[]
[]
[]
[]
[]
[]
[]
[]
[]
[]
[]
[]
[]
[]
[]
[]
[]
[]
[]
[]
[]
[]
[]
[]
[]
[]
[]
[]
[]
[]
[]
[]
[]
[]
[]
[]
[]
[]
[]
[]
[]
[]
[]
[]
[]
[]
[]
[]
[]
[]
[]
[]
[]
[]
[]
[]
[]
[]
[]
[]
[]
[]
[]
[]
[]
[]
[]
[]
[]
[]
[]
[]
[]
[]
[]
[]
[]
[]
[]
[]
[]
[]
[]
[]
[]
[]
[]
[]
[]
[]
[]
[]
[]
[]
[]
[]
[]
[]
[]
[]
[]
[]
[]
[]
[]
[]
[]
[]
[]
[]
[]
[]
[]
[]
[]
[]
[]
[]
[]
[]
[]
[]
[]
[]
[]
[]
[]
[]
[]
[]
[]
[]
[]
[]
[]
[]
[]
[]
[]
[]
[]
[]
[]
[]
[]
[]
[]
[]
[]
[]
[]
[]
[]
[]
[]
[]
[]
[]
[]
[]
[]
[]
[]
[]
[]
[]
[]
[]
[]
[]
[]
[]
[]
[]
[]
[]
[]
[]
[]
[]
[]
[]
[]
[]
[]
[]
[]
[]
[]
[]
[]
[]
[]
[]
[]
[]
[]
[]
[]
[]
[]
[]
[]
[]
[]
[]
[]
[]
[]
[]
[]
[]
[]
[]
[]
[]
[]
[]
[]
[]
[]
[]
[]
[]
[]
[]
[]
[]
[]
[]
[]
[]
[]
[]
[]
[]
[]
[]
[]
[]
[]
[]
[]
[]
[]
[]
[]
[]
[]
[]
[]
[]
[]
[]
[]
[]
[]
[]
[]
[]
[]
[]
[]
[]
[]
[]
[]
[]
[]
[]
[]
[]
[]
[]
[]
[]
[]
[]
[]
[]
[]
[]
[]
[]
[]
[]
[]
[]
[]
[]
[]
[]
[]
[]
[]
[]
[]
[]
[]
[]
[]
[]
[]
[]
[]
[]
[]
[]
[]
[]
[]
[]
[]
[]
[]
[]
[]
[]
[]
[]
[]
[]
[]
[]
[]
[]
[]
[]
[]
[]
[]
[]
[]
[]
[]
[]
[]
[]
[]
[]
[]
[]
[]
[]
[]
[]
[]
[]
[]
[]
[]
[]
[]
[]
[]
[]
[]
[]
[]
[]
[]
[]
[]
[]
[]
[]
[]
[]
[]
[]
[]
[]
[]
[]
[]
[]
[]
[]
[]
[]
[]
[]
[]
[]
[]
[]
[]
[]
[]
[]
[]
[]
[]
[]
[]
[]
[]
[]
[]
[]
[]
[]
[]
[]
[]
[]
[]
[]
[]
[]
[]
[]
[]
[]
[]
[]
[]
[]
[]
[]
[]
[]
[]
[]
[]
[]
[]
[]
[]
[]
[]
[]
[]
[]
[]
[]
[]
[]
[]
[]
[]
[]
[]
[]
[]
[]
[]
[]
[]
[]
[]
[]
[]
[]
[]
[]
[]
[]
[]
[]
[]
[]
[]
[]
[]
[]
[]
[]
[]
[]
[]
[]
[]
[]
[]
[]
[]
[]
[]
[]
[]
[]
[]
[]
[]
[]
[]
[]
[]
[]
[]
[]
[]
[]
[]
[]
[]
[]
[]
[]
[]
[]
[]
[]
[]
[]
[]
[]
[]
[]
[]
[]
[]
[]
[]
[]
[]
[]
[]
[]
[]
[]
[]
[]
[]
[]
[]
[]
[]
[]
[]
[]
[]
[]
[]
[]
[]
[]
[]
[]
[]
[]
[]
[]
[]
[]
[]
[]
[]
[]
[]
[]
[]
[]
[]
[]
[]
[]
[]
[]
[]
[]
[]
[]
[]
[]
[]
[]
[]
[]
[]
[]
[]
[]
[]
[]
[]
[]
[]
[]
[]
[]
[]
[]
[]
[]
[]
[]
[]
[]
[]
[]
[]
[]
[]
[]
[]
[]
[]
[]
[]
[]
[]
[]
[]
[]
[]
[]
[]
[]
[]
[]
[]
[]
[]
[]
[]
[]
[]
[]
[]
[]
[]
[]
[]
[]
[]
[]
[]
[]
[]
[]
[]
[]
[]
[]
[]
[]
[]
[]
[]
[]
[]
[]
[]
[]
[]
[]
[]
[]
[]
[]
[]
[]
[]
[]
[]
[]
[]
[]
[]
[]
[]
[]
[]
[]
[]
[]
[]
[]
[]
[]
[]
[]
[]
[]
[]
[]
[]
[]
[]
[]
[]
[]
[]
[]
[]
[]
[]
[]
[]
[]
[]
[]
[]
[]
[]
[]
[]
[]
[]
[]
[]
[]
[]
[]
[]
[]
[]
[]
[]
[]
[]
[]
[]
[]
[]
[]
[]
[]
[]
[]
[]
[]
[]
[]
[]
[]
[]
[]
[]
[]
[]
[]
[]
[]
[]
[]
[]
[]
[]
[]
[]
[]
[]
[]
[]
[]
[]
[]
[]
[]
[]
[]
[]
[]
[]
[]
[]
[]
[]
[]
[]
[]
[]
[]
[]
[]
[]
[]
[]
[]
[]
[]
[]
[]
[]
[]
[]
[]
[]
[]
[]
[]
[]
[]
[]
[]
[]
[]
[]
[]
[]
[]
[]
[]
[]
[]
[]
[]
[]
[]
[]
[]
[]
[]
[]
[]
[]
[]
[]
[]
[]
[]
[]
[]
[]
[]
[]
[]
[]
[]
[]
[]
[]
[]
[]
[]
[]
[]
[]
[]
[]
[]
[]
[]
[]
[]
[]
[]
[]
[]
[]
[]
[]
[]
[]
[]
[]
[]
[]
[]
[]
[]
[]
[]
[]
[]
[]
[]
[]
[]
[]
[]
[]
[]
[]
[]
[]
[]
[]
[]
[]
[]
[]
[]
[]
[]
[]
[]
[]
[]
[]
[]
[]
[]
[]
[]
[]
[]
[]
[]
[]
[]
[]
[]
[]
[]
[]
[]
[]
[]
[]
[]
[]
[]
[]
[]
[]
[]
[]
[]
[]
[]
[]
[]
[]
[]
[]
[]
[]
[]
[]
[]
[]
[]
[]
[]
[]
[]
[]
[]
[]
[]
[]
[]
[]
[]
[]
[]
[]
[]
[]
[]
[]
[]
[]
[]
[]
[]
[]
[]
[]
[]
[]
[]
[]
[]
[]
[]
[]
[]
[]
[]
[]
[]
[]
[]
[]
[]
[]
[]
[]
[]
[]
[]
[]
[]
[]
[]
[]
[]
[]
[]
[]
[]
[]
[]
[]
[]
[]
[]
[]
[]
[]
[]
[]
[]
[]
[]
[]
[]
[]
[]
[]
[]
[]
[]
[]
[]
[]
[]
[]
[]
[]
[]
[]
[]
[]
[]
[]
[]
[]
[]
[]
[]
[]
[]
[]
[]
[]
[]
[]
[]
[]
[]
[]
[]
[]
[]
[]
[]
[]
[]
[]
[]
[]
[]
[]
[]
[]
[]
[]
[]
[]
[]
[]
[]
[]
[]
[]
[]
[]
[]
[]
[]
[]
[]
[]
[]
[]
[]
[]
[]
[]
[]
[]
[]
[]
[]
[]
[]
[]
[]
[]
[]
[]
[]
[]
[]
[]
[]
[]
[]
[]
[]
[]
[]
[]
[]
[]
[]
[]
[]
[]
[]
[]
[]
[]
[]
[]
[]
[]
[]
[]
[]
[]
[]
[]
[]
[]
[]
[]
[]
[]
[]
[]
[]
[]
[]
[]
[]
[]
[]
[]
[]
[]
[]
[]
[]
[]
[]
[]
[]
[]
[]
[]
[]
[]
[]
[]
[]
[]
[]
[]
[]
[]
[]
[]
[]
[]
[]
[]
[]
[]
[]
[]
[]
[]
[]
[]
[]
[]
[]
[]
[]
[]
[]
[]
[]
[]
[]
[]
[]
[]
[]
[]
[]
[]
[]
[]
[]
[]
[]
[]
[]
[]
[]
[]
[]
[]
[]
[]
[]
[]
[]
[]
[]
[]
[]
[]
[]
[]
[]
[]
[]
[]
[]
[]
[]
[]
[]
[]
[]
[]
[]
[]
[]
[]
[]
[]
[]
[]
[]
[]
[]
[]
[]
[]
[]
[]
[]
[]
[]
[]
[]
[]
[]
[]
[]
[]
[]
[]
[]
[]
[]
[]
[]
[]
[]
[]
[]
[]
[]
[]
[]
[]
[]
[]
[]
[]
[]
[]
[]
[]
[]
[]
[]
[]
[]
[]
[]
[]
[]
[]
[]
[]
[]
[]
[]
[]
[]
[]
[]
[]
[]
[]
[]
[]
[]
[]
[]
[]
[]
[]
[]
[]
[]
[]
[]
[]
[]
[]
[]
[]
[]
[]
[]
[]
[]
[]
[]
[]
[]
[]
[]
[]
[]
[]
[]
[]
[]
[]
[]
[]
[]
[]
[]
[]
[]
[]
[]
[]
[]
[]
[]
[]
[]
[]
[]
[]
[]
[]
[]
[]
[]
[]
[]
[]
[]
[]
[]
[]
[]
[]
[]
[]
[]
[]
[]
[]
[]
[]
[]
[]
[]
[]
[]
[]
[]
[]
[]
[]
[]
[]
[]
[]
[]
[]
[]
[]
[]
[]
[]
[]
[]
[]
[]
[]
[]
[]
[]
[]
[]
[]
[]
[]
[]
[]
[]
[]
[]
[]
[]
[]
[]
[]
[]
[]
[]
[]
[]
[]
[]
[]
[]
[]
[]
[]
[]
[]
[]
[]
[]
[]
[]
[]
[]
[]
[]
[]
[]
[]
[]
[]
[]
[]
[]
[]
[]
[]
[]
[]
[]
[]
[]
[]
[]
[]
[]
[]
[]
[]
[]
[]
[]
[]
[]
[]
[]
[]
[]
[]
[]
[]
[]
[]
[]
[]
[]
[]
[]
[]
[]
[]
[]
[]
[]
[]
[]
[]
[]
[]
[]
[]
[]
[]
[]
[]
[]
[]
[]
[]
[]
[]
[]
[]
[]
[]
[]
[]
[]
[]
[]
[]
[]
[]
[]
[]
[]
[]
[]
[]
[]
[]
[]
[]
[]
[]
[]
[]
[]
[]
[]
[]
[]
[]
[]
[]
[]
[]
[]
[]
[]
[]
[]
[]
[]
[]
[]
[]
[]
[]
[]
[]
[]
[]
[]
[]
[]
[]
[]
[]
[]
[]
[]
[]
[]
[]
[]
[]
[]
[]
[]
[]
[]
[]
[]
[]
[]
[]
[]
[]
[]
[]
[]
[]
[]
[]
[]
[]
[]
[]
[]
[]
[]
[]
[]
[]
[]
[]
[]
[]
[]
[]
[]
[]
[]
[]
[]
[]
[]
[]
[]
[]
[]
[]
[]
[]
[]
[]
[]
[]
[]
[]
[]
[]
[]
[]
[]
[]
[]
[]
[]
[]
[]
[]
[]
[]
[]
[]
[]
[]
[]
[]
[]
[]
[]
[]
[]
[]
[]
[]
[]
[]
[]
[]
[]
[]
[]
[]
[]
[]
[]
[]
[]
[]
[]
[]
[]
[]
[]
[]
[]
[]
[]
[]
[]
[]
[]
[]
[]
[]
[]
[]
[]
[]
[]
[]
[]
[]
[]
[]
[]
[]
[]
[]
[]
[]
[]
[]
[]
[]
[]
[]
[]
[]
[]
[]
[]
[]
[]
[]
[]
[]
[]
[]
[]
[]
[]
[]
[]
[]
[]
[]
[]
[]
[]
[]
[]
[]
[]
[]
[]
[]
[]
[]
[]
[]
[]
[]
[]
[]
[]
[]
[]
[]
[]
[]
[]
[]
[]
[]
[]
[]
[]
[]
[]
[]
[]
[]
[]
[]
[]
[]
[]
[]
[]
[]
[]
[]
[]
[]
[]
[]
[]
[]
[]
[]
[]
[]
[]
[]
[]
[]
[]
[]
[]
[]
[]
[]
[]
[]
[]
[]
[]
[]
[]
[]
[]
[]
[]
[]
[]
[]
[]
[]
[]
[]
[]
[]
[]
[]
[]
[]
[]
[]
[]
[]
[]
[]
[]
[]
[]
[]
[]
[]
[]
[]
[]
[]
[]
[]
[]
[]
[]
[]
[]
[]
[]
[]
[]
[]
[]
[]
[]
[]
[]
[]
[]
[]
[]
[]
[]
[]
[]
[]
[]
[]
[]
[]
[]
[]
[]
[]
[]
[]
[]
[]
[]
[]
[]
[]
[]
[]
[]
[]
[]
[]
[]
[]
[]
[]
[]
[]
[]
[]
[]
[]
[]
[]
[]
[]
[]
[]
[]
[]
[]
[]
[]
[]
[]
[]
[]
[]
[]
[]
[]
[]
[]
[]
[]
[]
[]
[]
[]
[]
[]
[]
[]
[]
[]
[]
[]
[]
[]
[]
[]
[]
[]
[]
[]
[]
[]
[]
[]
[]
[]
[]
[]
[]
[]
[]
[]
[]
[]
[]
[]
[]
[]
[]
[]
[]
[]
[]
[]
[]
[]
[]
[]
[]
[]
[]
[]
[]
[]
[]
[]
[]
[]
[]
[]
[]
[]
[]
[]
[]
[]
[]
[]
[]
[]
[]
[]
[]
[]
[]
[]
[]
[]
[]
[]
[]
[]
[]
[]
[]
[]
[]
[]
[]
[]
[]
[]
[]
[]
[]
[]
[]
[]
[]
[]
[]
[]
[]
[]
[]
[]
[]
[]
[]
[]
[]
[]
[]
[]
[]
[]
[]
[]
[]
[]
[]
[]
[]
[]
[]
[]
[]
[]
[]
[]
[]
[]
[]
[]
[]
[]
[]
[]
[]
[]
[]
[]
[]
[]
[]
[]
[]
[]
[]
[]
[]
[]
[]
[]
[]
[]
[]
[]
[]
[]
[]
[]
[]
[]
[]
[]
[]
[]
[]
[]
[]
[]
[]
[]
[]
[]
[]
[]
[]
[]
[]
[]
[]
[]
[]
[]
[]
[]
[]
[]
[]
[]
[]
[]
[]
[]
[]
[]
[]
[]
[]
[]
[]
[]
[]
[]
[]
[]
[]
[]
[]
[]
[]
[]
[]
[]
[]
[]
[]
[]
[]
[]
[]
[]
[]
[]
[]
[]
[]
[]
[]
[]
[]
[]
[]
[]
[]
[]
[]
[]
[]
[]
[]
[]
[]
[]
[]
[]
[]
[]
[]
[]
[]
[]
[]
[]
[]
[]
[]
[]
[]
[]
[]
[]
[]
[]
[]
[]
[]
[]
[]
[]
[]
[]
[]
[]
[]
[]
[]
[]
[]
[]
[]
[]
[]
[]
[]
[]
[]
[]
[]
[]
[]
[]
[]
[]
[]
[]
[]
[]
[]
[]
[]
[]
[]
[]
[]
[]
[]
[]
[]
[]
[]
[]
[]
[]
[]
[]
[]
[]
[]
[]
[]
[]
[]
[]
[]
[]
[]
[]
[]
[]
[]
[]
[]
[]
[]
[]
[]
[]
[]
[]
[]
[]
[]
[]
[]
[]
[]
[]
[]
[]
[]
[]
[]
[]
[]
[]
[]
[]
[]
[]
[]
[]
[]
[]
[]
[]
[]
[]
[]
[]
[]
[]
[]
[]
[]
[]
[]
[]
[]
[]
[]
[]
[]
[]
[]
[]
[]
[]
[]
[]
[]
[]
[]
[]
[]
[]
[]
[]
[]
[]
[]
[]
[]
[]
[]
[]
[]
[]
[]
[]
[]
[]
[]
[]
[]
[]
[]
[]
[]
[]
[]
[]
[]
[]
[]
[]
[]
[]
[]
[]
[]
[]
[]
[]
[]
[]
[]
[]
[]
[]
[]
[]
[]
[]
[]
[]
[]
[]
[]
[]
[]
[]
[]
[]
[]
[]
[]
[]
[]
[]
[]
[]
[]
[]
[]
[]
[]
[]
[]
[]
[]
[]
[]
[]
[]
[]
[]
[]
[]
[]
[]
[]
[]
[]
[]
[]
[]
[]
[]
[]
[]
[]
[]
[]
[]
[]
[]
[]
[]
[]
[]
[]
[]
[]
[]
[]
[]
[]
[]
[]
[]
[]
[]
[]
[]
[]
[]
[]
[]
[]
[]
[]
[]
[]
[]
[]
[]
[]
[]
[]
[]
[]
[]
[]
[]
[]
[]
[]
[]
[]
[]
[]
[]
[]
[]
[]
[]
[]
[]
[]
[]
[]
[]
[]
[]
[]
[]
[]
[]
[]
[]
[]
[]
[]
[]
[]
[]
[]
[]
[]
[]
[]
[]
[]
[]
[]
[]
[]
[]
[]
[]
[]
[]
[]
[]
[]
[]
[]
[]
[]
[]
[]
[]
[]
[]
[]
[]
[]
[]
[]
[]
[]
[]
[]
[]
[]
[]
[]
[]
[]
[]
[]
[]
[]
[]
[]
[]
[]
[]
[]
[]
[]
[]
[]
[]
[]
[]
[]
[]
[]
[]
[]
[]
[]
[]
[]
[]
[]
[]
[]
[]
[]
[]
[]
[]
[]
[]
[]
[]
[]
[]
[]
[]
[]
[]
[]
[]
[]
[]
[]
[]
[]
[]
[]
[]
[]
[]
[]
[]
[]
[]
[]
[]
[]
[]
[]
[]
[]
[]
[]
[]
[]
[]
[]
[]
[]
[]
[]
[]
[]
[]
[]
[]
[]
[]
[]
[]
[]
[]
[]
[]
[]
[]
[]
[]
[]
[]
[]
[]
[]
[]
[]
[]
[]
[]
[]
[]
[]
[]
[]
[]
[]
[]
[]
[]
[]
[]
[]
[]
[]
[]
[]
[]
[]
[]
[]
[]
[]
[]
[]
[]
[]
[]
[]
[]
[]
[]
[]
[]
[]
[]
[]
[]
[]
[]
[]
[]
[]
[]
[]
[]
[]
[]
[]
[]
[]
[]
[]
[]
[]
[]
[]
[]
[]
[]
[]
[]
[]
[]
[]
[]
[]
[]
[]
[]
[]
[]
[]
[]
[]
[]
[]
[]
[]
[]
[]
[]
[]
[]
[]
[]
[]
[]
[]
[]
[]
[]
[]
[]
[]
[]
[]
[]
[]
[]
[]
[]
[]
[]
[]
[]
[]
[]
[]
[]
[]
[]
[]
[]
[]
[]
[]
[]
[]
[]
[]
[]
[]
[]
[]
[]
[]
[]
[]
[]
[]
[]
[]
[]
[]
[]
[]
[]
[]
[]
[]
[]
[]
[]
[]
[]
[]
[]
[]
[]
[]
[]
[]
[]
[]
[]
[]
[]
[]
[]
[]
[]
[]
[]
[]
[]
[]
[]
[]
[]
[]
[]
[]
[]
[]
[]
[]
[]
[]
[]
[]
[]
[]
[]
[]
[]
[]
[]
[]
[]
[]
[]
[]
[]
[]
[]
[]
[]
[]
[]
[]
[]
[]
[]
[]
[]
[]
[]
[]
[]
[]
[]
[]
[]
[]
[]
[]
[]
[]
[]
[]
[]
[]
[]
[]
[]
[]
[]
[]
[]
[]
[]
[]
[]
[]
[]
[]
[]
[]
[]
[]
[]
[]
[]
[]
[]
[]
[]
[]
[]
[]
[]
[]
[]
[]
[]
[]
[]
[]
[]
[]
[]
[]
[]
[]
[]
[]
[]
[]
[]
[]
[]
[]
[]
[]
[]
[]
[]
[]
[]
[]
[]
[]
[]
[]
[]
[]
[]
[]
[]
[]
[]
[]
[]
[]
[]
[]
[]
[]
[]
[]
[]
[]
[]
[]
[]
[]
[]
[]
[]
[]
[]
[]
[]
[]
[]
[]
[]
[]
[]
[]
[]
[]
[]
[]
[]
[]
[]
[]
[]
[]
[]
[]
[]
[]
[]
[]
[]
[]
[]
[]
[]
[]
[]
[]
[]
[]
[]
[]
[]
[]
[]
[]
[]
[]
[]
[]
[]
[]
[]
[]
[]
[]
[]
[]
[]
[]
[]
[]
[]
[]
[]
[]
[]
[]
[]
[]
[]
[]
[]
[]
[]
[]
[]
[]
[]
[]
[]
[]
[]
[]
[]
[]
[]
[]
[]
[]
[]
[]
[]
[]
[]
[]
[]
[]
[]
[]
[]
[]
[]
[]
[]
[]
[]
[]
[]
[]
[]
[]
[]
[]
[]
[]
[]
[]
[]
[]
[]
[]
[]
[]
[]
[]
[]
[]
[]
[]
[]
[]
[]
[]
[]
[]
[]
[]
[]
[]
[]
[]
[]
[]
[]
[]
[]
[]
[]
[]
[]
[]
[]
[]
[]
[]
[]
[]
[]
[]
[]
[]
[]
[]
[]
[]
[]
[]
[]
[]
[]
[]
[]
[]
[]
[]
[]
[]
[]
[]
[]
[]
[]
[]
[]
[]
[]
[]
[]
[]
[]
[]
[]
[]
[]
[]
[]
[]
[]
[]
[]
[]
[]
[]
[]
[]
[]
[]
[]
[]
[]
[]
[]
[]
[]
[]
[]
[]
[]
[]
[]
[]
[]
[]
[]
[]
[]
[]
[]
[]
[]
[]
[]
[]
[]
[]
[]
[]
[]
[]
[]
[]
[]
[]
[]
[]
[]
[]
[]
[]
[]
[]
[]
[]
[]
[]
[]
[]
[]
[]
[]
[]
[]
[]
[]
[]
[]
[]
[]
[]
[]
[]
[]
[]
[]
[]
[]
[]
[]
[]
[]
[]
[]
[]
[]
[]
[]
[]
[]
[]
[]
[]
[]
[]
[]
[]
[]
[]
[]
[]
[]
[]
[]
[]
[]
[]
[]
[]
[]
[]
[]
[]
[]
[]
[]
[]
[]
[]
[]
[]
[]
[]
[]
[]
[]
[]
[]
[]
[]
[]
[]
[]
[]
[]
[]
[]
[]
[]
[]
[]
[]
[]
[]
[]
[]
[]
[]
[]
[]
[]
[]
[]
[]
[]
[]
[]
[]
[]
[]
[]
[]
[]
[]
[]
[]
[]
[]
[]
[]
[]
[]
[]
[]
[]
[]
[]
[]
[]
[]
[]
[]
[]
[]
[]
[]
[]
[]
[]
[]
[]
[]
[]
[]
[]
[]
[]
[]
[]
[]
[]
[]
[]
[]
[]
[]
[]
[]
[]
[]
[]
[]
[]
[]
[]
[]
[]
[]
[]
[]
[]
[]
[]
[]
[]
[]
[]
[]
[]
[]
[]
[]
[]
[]
[]
[]
[]
[]
[]
[]
[]
[]
[]
[]
[]
[]
[]
[]
[]
[]
[]
[]
[]
[]
[]
[]
[]
[]
[]
[]
[]
[]
[]
[]
[]
[]
[]
[]
[]
[]
[]
[]
[]
[]
[]
[]
[]
[]
[]
[]
[]
[]
[]
[]
[]
[]
[]
[]
[]
[]
[]
[]
[]
[]
[]
[]
[]
[]
[]
[]
[]
[]
[]
[]
[]
[]
[]
[]
[]
[]
[]
[]
[]
[]
[]
[]
[]
[]
[]
[]
[]
[]
[]
[]
[]
[]
[]
[]
[]
[]
[]
[]
[]
[]
[]
[]
[]
[]
[]
[]
[]
[]
[]
[]
[]
[]
[]
[]
[]
[]
[]
[]
[]
[]
[]
[]
[]
[]
[]
[]
[]
[]
[]
[]
[]
[]
[]
[]
[]
[]
[]
[]
[]
[]
[]
[]
[]
[]
[]
[]
[]
[]
[]
[]
[]
[]
[]
[]
[]
[]
[]
[]
[]
[]
[]
[]
[]
[]
[]
[]
[]
[]
[]
[]
[]
[]
[]
[]
[]
[]
[]
[]
[]
[]
[]
[]
[]
[]
[]
[]
[]
[]
[]
[]
[]
[]
[]
[]
[]
[]
[]
[]
[]
[]
[]
[]
[]
[]
[]
[]
[]
[]
[]
[]
[]
[]
[]
[]
[]
[]
[]
[]
[]
[]
[]
[]
[]
[]
[]
[]
[]
[]
[]
[]
[]
[]
[]
[]
[]
[]
[]
[]
[]
[]
[]
[]
[]
[]
[]
[]
[]
[]
[]
[]
[]
[]
[]
[]
[]
[]
[]
[]
[]
[]
[]
[]
[]
[]
[]
[]
[]
[]
[]
[]
[]
[]
[]
[]
[]
[]
[]
[]
[]
[]
[]
[]
[]
[]
[]
[]
[]
[]
[]
[]
[]
[]
[]
[]
[]
[]
[]
[]
[]
[]
[]
[]
[]
[]
[]
[]
[]
[]
[]
[]
[]
[]
[]
[null,null,null,null,null,null,null,null,null,null,null,null,null,null,null,null,null,null,null,null,null,null,null,null,null,null,null,null,null,null,null,null,null,null,null,null,null,null,null,null,null,null,null,null,null,null,null,null,null,null,null,null,null,null,null,{"$f":"SUM(BD1:BD1048575)","v":927}]

{"sheet":"Ranking SL D","index":3,"n_rows":63,"n_cols":5,"rows_kept":63,"cut":false,"hidden":false,"merged":[]}
[null,"Preliminär ranking region 3 SL Damer U-15 2015"]
[null,"Ranking efter summan av de 4 bästa åken"]
["Antal","Ranking","Namn","Klubb","Poäng summa av 4 bästa SL åk"]
[1,1,{"$f":"'D U-15'!C5","v":"Alice Larsson"},{"$f":"'D U-15'!D5","v":"Sälens IF"},400]
[{"$f":"1+A4","v":2},{"$f":"1+B4","v":2},{"$f":"'D U-15'!C7","v":"Wilma Antfolk"},{"$f":"'D U-15'!D7","v":"IFK Borlänge"},360]
[3,3,{"$f":"'D U-15'!C6","v":"Elin Petterson"},{"$f":"'D U-15'!D6","v":"Örebro SLF"},310]
[4,4,{"$f":"'D U-15'!C8","v":"Ebba Kling Andersson"},{"$f":"'D U-15'!D8","v":"IFK Borlänge"},290]
[5,5,{"$f":"'D U-15'!C11","v":"Anna Jakobsson"},{"$f":"'D U-15'!D11","v":"Idre SK"},225]
[6,6,{"$f":"'D U-15'!C9","v":"Sofia Hedgren"},{"$f":"'D U-15'!D9","v":"Malungs SLK"},220]
[7,7,{"$f":"'D U-15'!C13","v":"Linn Askman"},{"$f":"'D U-15'!D13","v":"Valfjällets SLK"},199]
[8,8,{"$f":"'D U-15'!C15","v":"Emelie Ederborn"},{"$f":"'D U-15'!D15","v":"Idre SK"},199]
[9,9,{"$f":"'D U-15'!C12","v":"Hanna Flodberg"},{"$f":"'D U-15'!D12","v":"IFK Falun"},192]
[10,10,{"$f":"'D U-15'!C18","v":"Alma Faghén"},{"$f":"'D U-15'!D18","v":"Norrbärke SK Alpin"},189]
[11,11,{"$f":"'D U-15'!C10","v":"Emmy Westerlund"},{"$f":"'D U-15'!D10","v":"Malungs SLK"},186]
[12,12,{"$f":"'D U-15'!C19","v":"Lovisa Eklund"},{"$f":"'D U-15'!D19","v":"Leksands SLK"},170]
[13,12,{"$f":"'D U-15'!C20","v":"Linda Persson"},{"$f":"'D U-15'!D20","v":"Idre SK"},170]
[14,14,{"$f":"'D U-15'!C14","v":"Olivia Ederström"},{"$f":"'D U-15'!D14","v":"Kungsbergets AK"},163]
[15,15,{"$f":"'D U-15'!C21","v":"Jennifer Thornell"},{"$f":"'D U-15'!D21","v":"Avesta AK"},158]
[16,16,{"$f":"'D U-15'!C16","v":"Lisa Tegnhed"},{"$f":"'D U-15'!D16","v":"Karlstads SLK"},157]
[17,17,{"$f":"'D U-15'!C22","v":"Tilde Grönstedt"},{"$f":"'D U-15'!D22","v":"Karlstads SLK"},156]
[18,18,{"$f":"'D U-15'!C17","v":"Ahnoo Sandberg"},{"$f":"'D U-15'!D17","v":"IFK Falun"},154]
[19,19,{"$f":"'D U-15'!C23","v":"Felicia Lind"},{"$f":"'D U-15'!D23","v":"IFK Borlänge"},148]
[20,20,{"$f":"'D U-15'!C24","v":"Ida Söderlind"},{"$f":"'D U-15'!D24","v":"Örebro SLF"},139]
[21,21,{"$f":"'D U-15'!C25","v":"Ellen Kindberg"},{"$f":"'D U-15'!D25","v":"Kils SLK"},130]
[22,21,{"$f":"'D U-15'!C26","v":"Tilda Vestlund"},{"$f":"'D U-15'!D26","v":"Avesta AK"},130]
[23,23,{"$f":"'D U-15'!C27","v":"Ida Håkansson"},{"$f":"'D U-15'!D27","v":"Valfjällets SLK"},78]
[24,24,{"$f":"'D U-15'!C28","v":"Emma Skogsmark"},{"$f":"'D U-15'!D28","v":"Avesta AK"},61]
[25,25,{"$f":"'D U-15'!C29","v":"Emilia Pantzare"},{"$f":"'D U-15'!D29","v":"Idre SK"},0]
[26,26,{"$f":"'D U-15'!C30","v":0},{"$f":"'D U-15'!D30","v":0}]
[27,27,{"$f":"'D U-15'!C32","v":0},{"$f":"'D U-15'!D32","v":0}]
[28,28,{"$f":"'D U-15'!C33","v":0},{"$f":"'D U-15'!D33","v":0}]
[29,29,{"$f":"'D U-15'!C31","v":0},{"$f":"'D U-15'!D31","v":0}]
[30,30,{"$f":"'D U-15'!C34","v":0},{"$f":"'D U-15'!D34","v":0}]
[31,31,{"$f":"'D U-15'!C35","v":0},{"$f":"'D U-15'!D35","v":0}]
[32,32,{"$f":"'D U-15'!C36","v":0},{"$f":"'D U-15'!D36","v":0}]
[33,33,{"$f":"'D U-15'!C37","v":0},{"$f":"'D U-15'!D37","v":0}]
[{"$f":"1+A36","v":34},34,{"$f":"'D U-15'!C38","v":0},{"$f":"'D U-15'!D38","v":0}]
[35,35,{"$f":"'D U-15'!C39","v":0},{"$f":"'D U-15'!D39","v":0}]
[36,36,{"$f":"'D U-15'!C40","v":0},{"$f":"'D U-15'!D40","v":0}]
[37,37,{"$f":"'D U-15'!C41","v":0},{"$f":"'D U-15'!D41","v":0}]
[38,38,{"$f":"'D U-15'!C42","v":0},{"$f":"'D U-15'!D42","v":0}]
[39,39,{"$f":"'D U-15'!C43","v":0},{"$f":"'D U-15'!D43","v":0}]
[40,40,{"$f":"'D U-15'!C44","v":0},{"$f":"'D U-15'!D44","v":0}]
[41,41,{"$f":"'D U-15'!C45","v":0},{"$f":"'D U-15'!D45","v":0}]
[42,42,{"$f":"'D U-15'!C46","v":0},{"$f":"'D U-15'!D46","v":0}]
[43,43,{"$f":"'D U-15'!C47","v":0},{"$f":"'D U-15'!D47","v":0}]
[44,44,{"$f":"'D U-15'!C48","v":0},{"$f":"'D U-15'!D48","v":0}]
[45,45,{"$f":"'D U-15'!C49","v":0},{"$f":"'D U-15'!D49","v":0}]
[46,46,{"$f":"'D U-15'!C50","v":0},{"$f":"'D U-15'!D50","v":0}]
[47,47,{"$f":"'D U-15'!C51","v":0},{"$f":"'D U-15'!D51","v":0}]
[48,48,{"$f":"'D U-15'!C52","v":0},{"$f":"'D U-15'!D52","v":0}]
[49,49,{"$f":"'D U-15'!C53","v":0},{"$f":"'D U-15'!D53","v":0}]
[50,50,{"$f":"'D U-15'!C54","v":0},{"$f":"'D U-15'!D54","v":0}]
[51,51,{"$f":"'D U-15'!C55","v":0},{"$f":"'D U-15'!D55","v":0}]
[52,52,{"$f":"'D U-15'!C56","v":0},{"$f":"'D U-15'!D56","v":0}]
[53,53,{"$f":"'D U-15'!C57","v":0},{"$f":"'D U-15'!D57","v":0}]
[54,54,{"$f":"'D U-15'!C58","v":0},{"$f":"'D U-15'!D58","v":0}]
[55,55,{"$f":"'D U-15'!C59","v":0},{"$f":"'D U-15'!D59","v":0}]
[56,56,{"$f":"'D U-15'!C60","v":0},{"$f":"'D U-15'!D60","v":0}]
[57,57,{"$f":"'D U-15'!C61","v":0},{"$f":"'D U-15'!D61","v":0}]
[58,58,{"$f":"'D U-15'!C62","v":0},{"$f":"'D U-15'!D62","v":0}]
[59,59,{"$f":"'D U-15'!C63","v":0},{"$f":"'D U-15'!D63","v":0}]
[60,60,{"$f":"'D U-15'!C64","v":0},{"$f":"'D U-15'!D64","v":0}]

{"sheet":"Ranking SL H","index":4,"n_rows":63,"n_cols":5,"rows_kept":63,"cut":false,"hidden":false,"merged":[]}
[null,"Preliminär ranking region 3 SL Herrar U-15 2015"]
[null,"Ranking efter summan av de 4 bästa åken"]
["Antal","Ranking","Namn","Klubb","Poäng summa av 4 bästa SL åk"]
[1,1,{"$f":"'H U-15'!C5","v":"Mikael Semdahl"},{"$f":"'H U-15'!D5","v":"IFK Borlänge"},400]
[{"$f":"1+A4","v":2},{"$f":"1+B4","v":2},{"$f":"'H U-15'!C6","v":"Rickard Forsman"},{"$f":"'H U-15'!D6","v":"Malungs SLK"},360]
[3,{"$f":"1+B5","v":3},{"$f":"'H U-15'!C7","v":"Edvin Sundberg"},{"$f":"'H U-15'!D7","v":"Örebro SLF"},330]
[4,{"$f":"1+B6","v":4},{"$f":"'H U-15'!C8","v":"Erik Hultman"},{"$f":"'H U-15'!D8","v":"Karlskoga SLK"},265]
[5,{"$f":"1+B7","v":5},{"$f":"'H U-15'!C10","v":"Gusten Berglund"},{"$f":"'H U-15'!D10","v":"Karlstads SLK"},245]
[6,{"$f":"1+B8","v":6},{"$f":"'H U-15'!C9","v":"Carl Setterström"},{"$f":"'H U-15'!D9","v":"Karlstads SLK"},240]
[7,{"$f":"1+B9","v":7},{"$f":"'H U-15'!C11","v":"Filip Lindström"},{"$f":"'H U-15'!D11","v":"Kumla SF"},218]
[8,{"$f":"1+B10","v":8},{"$f":"'H U-15'!C15","v":"Martin Jansson"},{"$f":"'H U-15'!D15","v":"IFK Falun"},200]
[9,{"$f":"1+B11","v":9},{"$f":"'H U-15'!C14","v":"Johan Hedin"},{"$f":"'H U-15'!D14","v":"IFK Borlänge"},189]
[10,{"$f":"1+B12","v":10},{"$f":"'H U-15'!C13","v":"Carl Kieksi"},{"$f":"'H U-15'!D13","v":"IFK Borlänge"},182]
[11,{"$f":"1+B13","v":11},{"$f":"'H U-15'!C12","v":"Adam Ståhlbom"},{"$f":"'H U-15'!D12","v":"Kumla SF"},180]
[12,{"$f":"1+B14","v":12},{"$f":"'H U-15'!C16","v":"Mathias Gatu"},{"$f":"'H U-15'!D16","v":"Rättviks SLK"},122]
[13,{"$f":"1+B15","v":13},{"$f":"'H U-15'!C17","v":"Oliver Suther"},{"$f":"'H U-15'!D17","v":"Rättviks SLK"},81]
[14,{"$f":"1+B16","v":14},{"$f":"'H U-15'!C18","v":"Alexander Mueller"},{"$f":"'H U-15'!D18","v":"Kungsbergets AK"},42]
[15,{"$f":"1+B17","v":15},{"$f":"'H U-15'!C19","v":0},{"$f":"'H U-15'!D19","v":0}]
[16,16,{"$f":"'H U-15'!C20","v":0},{"$f":"'H U-15'!D20","v":0}]
[17,17,{"$f":"'H U-15'!C21","v":0},{"$f":"'H U-15'!D21","v":0}]
[18,18,{"$f":"'H U-15'!C22","v":0},{"$f":"'H U-15'!D22","v":0}]
[19,19,{"$f":"'H U-15'!C23","v":0},{"$f":"'H U-15'!D23","v":0}]
[20,20,{"$f":"'H U-15'!C24","v":0},{"$f":"'H U-15'!D24","v":0}]
[21,21,{"$f":"'H U-15'!C25","v":0},{"$f":"'H U-15'!D25","v":0}]
[22,22,{"$f":"'H U-15'!C26","v":0},{"$f":"'H U-15'!D26","v":0}]
[23,23,{"$f":"'H U-15'!C27","v":0},{"$f":"'H U-15'!D27","v":0}]
[24,24,{"$f":"'H U-15'!C28","v":0},{"$f":"'H U-15'!D28","v":0}]
[25,25,{"$f":"'H U-15'!C29","v":0},{"$f":"'H U-15'!D29","v":0}]
[26,26,{"$f":"'H U-15'!C30","v":0},{"$f":"'H U-15'!D30","v":0}]
[27,27,{"$f":"'H U-15'!C31","v":0},{"$f":"'H U-15'!D31","v":0}]
[28,28,{"$f":"'H U-15'!C32","v":0},{"$f":"'H U-15'!D32","v":0}]
[29,29,{"$f":"'H U-15'!C33","v":0},{"$f":"'H U-15'!D33","v":0}]
[30,30,{"$f":"'H U-15'!C34","v":0},{"$f":"'H U-15'!D34","v":0}]
[31,31,{"$f":"'H U-15'!C35","v":0},{"$f":"'H U-15'!D35","v":0}]
[32,32,{"$f":"'H U-15'!C36","v":0},{"$f":"'H U-15'!D36","v":0}]
[33,33,{"$f":"'H U-15'!C37","v":0},{"$f":"'H U-15'!D37","v":0}]
[34,34,{"$f":"'H U-15'!C38","v":0},{"$f":"'H U-15'!D38","v":0}]
[35,35,{"$f":"'H U-15'!C39","v":0},{"$f":"'H U-15'!D39","v":0}]
[36,36,{"$f":"'H U-15'!C40","v":0},{"$f":"'H U-15'!D40","v":0}]
[37,37,{"$f":"'H U-15'!C41","v":0},{"$f":"'H U-15'!D41","v":0}]
[38,38,{"$f":"'H U-15'!C42","v":0},{"$f":"'H U-15'!D42","v":0}]
[39,39,{"$f":"'H U-15'!C43","v":0},{"$f":"'H U-15'!D43","v":0}]
[40,40,{"$f":"'H U-15'!C44","v":0},{"$f":"'H U-15'!D44","v":0}]
[41,41,{"$f":"'H U-15'!C45","v":0},{"$f":"'H U-15'!D45","v":0}]
[42,42,{"$f":"'H U-15'!C46","v":0},{"$f":"'H U-15'!D46","v":0}]
[43,43,{"$f":"'H U-15'!C47","v":0},{"$f":"'H U-15'!D47","v":0}]
[44,44,{"$f":"'H U-15'!C48","v":0},{"$f":"'H U-15'!D48","v":0}]
[45,45,{"$f":"'H U-15'!C49","v":0},{"$f":"'H U-15'!D49","v":0}]
[46,46,{"$f":"'H U-15'!C50","v":0},{"$f":"'H U-15'!D50","v":0}]
[47,47,{"$f":"'H U-15'!C51","v":0},{"$f":"'H U-15'!D51","v":0}]
[48,48,{"$f":"'H U-15'!C52","v":0},{"$f":"'H U-15'!D52","v":0}]
[49,49,{"$f":"'H U-15'!C53","v":0},{"$f":"'H U-15'!D53","v":0}]
[50,50,{"$f":"'H U-15'!C54","v":0},{"$f":"'H U-15'!D54","v":0}]
[51,51,{"$f":"'H U-15'!C55","v":0},{"$f":"'H U-15'!D55","v":0}]
[52,52,{"$f":"'H U-15'!C56","v":0},{"$f":"'H U-15'!D56","v":0}]
[53,53,{"$f":"'H U-15'!C57","v":0},{"$f":"'H U-15'!D57","v":0}]
[54,54,{"$f":"'H U-15'!C58","v":0},{"$f":"'H U-15'!D58","v":0}]
[55,55,{"$f":"'H U-15'!C59","v":0},{"$f":"'H U-15'!D59","v":0}]
[56,56,{"$f":"'H U-15'!C60","v":0},{"$f":"'H U-15'!D60","v":0}]
[57,57,{"$f":"'H U-15'!C61","v":0},{"$f":"'H U-15'!D61","v":0}]
[58,58,{"$f":"'H U-15'!C62","v":0},{"$f":"'H U-15'!D62","v":0}]
[59,59,{"$f":"'H U-15'!C63","v":0},{"$f":"'H U-15'!D63","v":0}]
[60,60,{"$f":"'H U-15'!C64","v":0},{"$f":"'H U-15'!D64","v":0}]

{"sheet":"Ranking GS D","index":5,"n_rows":63,"n_cols":18,"rows_kept":63,"cut":false,"hidden":false,"merged":[[1,4,1,5],[1,6,1,7],[1,10,1,11],[1,8,1,9]]}
[null,"Ranking region 3 GS Damer U-15 2015",null,null,"Listan måste sorteras efter varje förändring av totalsammanställningen"]
[null,"Ranking efter summan av de 4 bästa åken",null,null,{"$f":"'D U-15'!X3","v":"Borlänge GS 1"},null,{"$f":"'D U-15'!AB3","v":"Borlänge GS 2"},null,{"$f":"'D U-15'!AF3","v":"Valfjället GS"},null,{"$f":"'D U-15'!AJ3","v":"Valfjället GS"}]
["Antal","Ranking","Namn","Klubb","Åk 1","Åk 2","Åk 1","Åk 2","Åk 1","Åk 2","Åk 1","Åk 2","GS        poäng","Ranking Summa av fyra bästa","Sär-skiljning åk 5","Sär- skiljning åk 6","Sär- skiljning åk 7","Sär- skiljning åk 8"]
[1,1,{"$f":"'D U-15'!C5","v":"Alice Larsson"},{"$f":"'D U-15'!D5","v":"Sälens IF"},{"$f":"'D U-15'!Y5","v":0},{"$f":"'D U-15'!AA5","v":0},{"$f":"'D U-15'!AC5","v":0},{"$f":"'D U-15'!AE5","v":0},{"$f":"'D U-15'!AG5","v":0},{"$f":"'D U-15'!AI5","v":0},{"$f":"'D U-15'!AK5","v":0},{"$f":"'D U-15'!AM5","v":0},{"$f":"SUM(E4:L4)","v":0},{"$f":"LARGE(E4:L4,1)+LARGE(E4:L4,2)+LARGE(E4:L4,3)+LARGE(E4:L4,4)","v":0},{"$f":"LARGE(E4:L4,5)","v":0},{"$f":"LARGE(E4:L4,6)","v":0},{"$f":"LARGE(E4:L4,7)","v":0},{"$f":"LARGE(E4:L4,8)","v":0}]
[{"$f":"1+A4","v":2},{"$f":"1+B4","v":2},{"$f":"'D U-15'!C6","v":"Elin Petterson"},{"$f":"'D U-15'!D6","v":"Örebro SLF"},{"$f":"'D U-15'!Y6","v":0},{"$f":"'D U-15'!AA6","v":0},{"$f":"'D U-15'!AC6","v":0},{"$f":"'D U-15'!AE6","v":0},{"$f":"'D U-15'!AG6","v":0},{"$f":"'D U-15'!AI6","v":0},{"$f":"'D U-15'!AK6","v":0},{"$f":"'D U-15'!AM6","v":0},0,0,{"$f":"LARGE(E5:L5,5)","v":0},{"$f":"LARGE(E5:L5,6)","v":0},{"$f":"LARGE(E5:L5,7)","v":0},{"$f":"LARGE(E5:L5,8)","v":0}]
[3,3,{"$f":"'D U-15'!C7","v":"Wilma Antfolk"},{"$f":"'D U-15'!D7","v":"IFK Borlänge"},{"$f":"'D U-15'!Y7","v":0},{"$f":"'D U-15'!AA7","v":0},{"$f":"'D U-15'!AC7","v":0},{"$f":"'D U-15'!AE7","v":0},{"$f":"'D U-15'!AG7","v":0},{"$f":"'D U-15'!AI7","v":0},{"$f":"'D U-15'!AK7","v":0},{"$f":"'D U-15'!AM7","v":0},0,0,{"$f":"LARGE(E6:L6,5)","v":0},{"$f":"LARGE(E6:L6,6)","v":0},{"$f":"LARGE(E6:L6,7)","v":0},{"$f":"LARGE(E6:L6,8)","v":0}]
[4,4,{"$f":"'D U-15'!C12","v":"Hanna Flodberg"},{"$f":"'D U-15'!D12","v":"IFK Falun"},{"$f":"'D U-15'!Y12","v":0},{"$f":"'D U-15'!AA12","v":0},{"$f":"'D U-15'!AC12","v":0},{"$f":"'D U-15'!AE12","v":0},{"$f":"'D U-15'!AG12","v":0},{"$f":"'D U-15'!AI12","v":0},{"$f":"'D U-15'!AK12","v":0},{"$f":"'D U-15'!AM12","v":0},0,0,{"$f":"LARGE(E7:L7,5)","v":0},{"$f":"LARGE(E7:L7,6)","v":0},{"$f":"LARGE(E7:L7,7)","v":0},{"$f":"LARGE(E7:L7,8)","v":0}]
[5,5,{"$f":"'D U-15'!C10","v":"Emmy Westerlund"},{"$f":"'D U-15'!D10","v":"Malungs SLK"},{"$f":"'D U-15'!Y10","v":0},{"$f":"'D U-15'!AA10","v":0},{"$f":"'D U-15'!AC10","v":0},{"$f":"'D U-15'!AE10","v":0},{"$f":"'D U-15'!AG10","v":0},{"$f":"'D U-15'!AI10","v":0},{"$f":"'D U-15'!AK10","v":0},{"$f":"'D U-15'!AM10","v":0},0,0,{"$f":"LARGE(E8:L8,5)","v":0},{"$f":"LARGE(E8:L8,6)","v":0},{"$f":"LARGE(E8:L8,7)","v":0},{"$f":"LARGE(E8:L8,8)","v":0}]
[6,6,{"$f":"'D U-15'!C9","v":"Sofia Hedgren"},{"$f":"'D U-15'!D9","v":"Malungs SLK"},{"$f":"'D U-15'!Y9","v":0},{"$f":"'D U-15'!AA9","v":0},{"$f":"'D U-15'!AC9","v":0},{"$f":"'D U-15'!AE9","v":0},{"$f":"'D U-15'!AG9","v":0},{"$f":"'D U-15'!AI9","v":0},{"$f":"'D U-15'!AK9","v":0},{"$f":"'D U-15'!AM9","v":0},0,0,0,0,0,0]
[7,7,{"$f":"'D U-15'!C13","v":"Linn Askman"},{"$f":"'D U-15'!D13","v":"Valfjällets SLK"},{"$f":"'D U-15'!Y13","v":0},{"$f":"'D U-15'!AA13","v":0},{"$f":"'D U-15'!AC13","v":0},{"$f":"'D U-15'!AE13","v":0},{"$f":"'D U-15'!AG13","v":0},{"$f":"'D U-15'!AI13","v":0},{"$f":"'D U-15'!AK13","v":0},{"$f":"'D U-15'!AM13","v":0},0,0,{"$f":"LARGE(E10:L10,5)","v":0},{"$f":"LARGE(E10:L10,6)","v":0},{"$f":"LARGE(E10:L10,7)","v":0},{"$f":"LARGE(E10:L10,8)","v":0}]
[8,8,{"$f":"'D U-15'!C11","v":"Anna Jakobsson"},{"$f":"'D U-15'!D11","v":"Idre SK"},{"$f":"'D U-15'!Y11","v":0},{"$f":"'D U-15'!AA11","v":0},{"$f":"'D U-15'!AC11","v":0},{"$f":"'D U-15'!AE11","v":0},{"$f":"'D U-15'!AG11","v":0},{"$f":"'D U-15'!AI11","v":0},{"$f":"'D U-15'!AK11","v":0},{"$f":"'D U-15'!AM11","v":0},0,0,{"$f":"LARGE(E11:L11,5)","v":0},{"$f":"LARGE(E11:L11,6)","v":0},{"$f":"LARGE(E11:L11,7)","v":0},{"$f":"LARGE(E11:L11,8)","v":0}]
[9,9,{"$f":"'D U-15'!C8","v":"Ebba Kling Andersson"},{"$f":"'D U-15'!D8","v":"IFK Borlänge"},{"$f":"'D U-15'!Y8","v":0},{"$f":"'D U-15'!AA8","v":0},{"$f":"'D U-15'!AC8","v":0},{"$f":"'D U-15'!AE8","v":0},{"$f":"'D U-15'!AG8","v":0},{"$f":"'D U-15'!AI8","v":0},{"$f":"'D U-15'!AK8","v":0},{"$f":"'D U-15'!AM8","v":0},0,0,0,0,0,0]
[10,10,{"$f":"'D U-15'!C18","v":"Alma Faghén"},{"$f":"'D U-15'!D18","v":"Norrbärke SK Alpin"},{"$f":"'D U-15'!Y18","v":0},{"$f":"'D U-15'!AA18","v":0},{"$f":"'D U-15'!AC18","v":0},{"$f":"'D U-15'!AE18","v":0},{"$f":"'D U-15'!AG18","v":0},{"$f":"'D U-15'!AI18","v":0},{"$f":"'D U-15'!AK18","v":0},{"$f":"'D U-15'!AM18","v":0},0,0,0,0,0,0]
[11,11,{"$f":"'D U-15'!C17","v":"Ahnoo Sandberg"},{"$f":"'D U-15'!D17","v":"IFK Falun"},{"$f":"'D U-15'!Y17","v":0},{"$f":"'D U-15'!AA17","v":0},{"$f":"'D U-15'!AC17","v":0},{"$f":"'D U-15'!AE17","v":0},{"$f":"'D U-15'!AG17","v":0},{"$f":"'D U-15'!AI17","v":0},{"$f":"'D U-15'!AK17","v":0},{"$f":"'D U-15'!AM17","v":0},0,0,{"$f":"LARGE(E14:L14,5)","v":0},{"$f":"LARGE(E14:L14,6)","v":0},{"$f":"LARGE(E14:L14,7)","v":0},{"$f":"LARGE(E14:L14,8)","v":0}]
[12,12,{"$f":"'D U-15'!C15","v":"Emelie Ederborn"},{"$f":"'D U-15'!D15","v":"Idre SK"},{"$f":"'D U-15'!Y15","v":0},{"$f":"'D U-15'!AA15","v":0},{"$f":"'D U-15'!AC15","v":0},{"$f":"'D U-15'!AE15","v":0},{"$f":"'D U-15'!AG15","v":0},{"$f":"'D U-15'!AI15","v":0},{"$f":"'D U-15'!AK15","v":0},{"$f":"'D U-15'!AM15","v":0},0,0,{"$f":"LARGE(E15:L15,5)","v":0},{"$f":"LARGE(E15:L15,6)","v":0},{"$f":"LARGE(E15:L15,7)","v":0},{"$f":"LARGE(E15:L15,8)","v":0}]
[13,13,{"$f":"'D U-15'!C14","v":"Olivia Ederström"},{"$f":"'D U-15'!D14","v":"Kungsbergets AK"},{"$f":"'D U-15'!Y14","v":0},{"$f":"'D U-15'!AA14","v":0},{"$f":"'D U-15'!AC14","v":0},{"$f":"'D U-15'!AE14","v":0},{"$f":"'D U-15'!AG14","v":0},{"$f":"'D U-15'!AI14","v":0},{"$f":"'D U-15'!AK14","v":0},{"$f":"'D U-15'!AM14","v":0},0,0,0,0,0,0]
[14,14,{"$f":"'D U-15'!C16","v":"Lisa Tegnhed"},{"$f":"'D U-15'!D16","v":"Karlstads SLK"},{"$f":"'D U-15'!Y16","v":0},{"$f":"'D U-15'!AA16","v":0},{"$f":"'D U-15'!AC16","v":0},{"$f":"'D U-15'!AE16","v":0},{"$f":"'D U-15'!AG16","v":0},{"$f":"'D U-15'!AI16","v":0},{"$f":"'D U-15'!AK16","v":0},{"$f":"'D U-15'!AM16","v":0},0,0,{"$f":"LARGE(E17:L17,5)","v":0},{"$f":"LARGE(E17:L17,6)","v":0},{"$f":"LARGE(E17:L17,7)","v":0},{"$f":"LARGE(E17:L17,8)","v":0}]
[15,15,{"$f":"'D U-15'!C24","v":"Ida Söderlind"},{"$f":"'D U-15'!D24","v":"Örebro SLF"},{"$f":"'D U-15'!Y24","v":0},{"$f":"'D U-15'!AA24","v":0},{"$f":"'D U-15'!AC24","v":0},{"$f":"'D U-15'!AE24","v":0},{"$f":"'D U-15'!AG24","v":0},{"$f":"'D U-15'!AI24","v":0},{"$f":"'D U-15'!AK24","v":0},{"$f":"'D U-15'!AM24","v":0},0,0,{"$f":"LARGE(E18:L18,5)","v":0},{"$f":"LARGE(E18:L18,6)","v":0},{"$f":"LARGE(E18:L18,7)","v":0},{"$f":"LARGE(E18:L18,8)","v":0}]
[16,16,{"$f":"'D U-15'!C22","v":"Tilde Grönstedt"},{"$f":"'D U-15'!D22","v":"Karlstads SLK"},{"$f":"'D U-15'!Y22","v":0},{"$f":"'D U-15'!AA22","v":0},{"$f":"'D U-15'!AC22","v":0},{"$f":"'D U-15'!AE22","v":0},{"$f":"'D U-15'!AG22","v":0},{"$f":"'D U-15'!AI22","v":0},{"$f":"'D U-15'!AK22","v":0},{"$f":"'D U-15'!AM22","v":0},0,0,{"$f":"LARGE(E19:L19,5)","v":0},{"$f":"LARGE(E19:L19,6)","v":0},{"$f":"LARGE(E19:L19,7)","v":0},{"$f":"LARGE(E19:L19,8)","v":0}]
[17,17,{"$f":"'D U-15'!C26","v":"Tilda Vestlund"},{"$f":"'D U-15'!D26","v":"Avesta AK"},{"$f":"'D U-15'!Y26","v":0},{"$f":"'D U-15'!AA26","v":0},{"$f":"'D U-15'!AC26","v":0},{"$f":"'D U-15'!AE26","v":0},{"$f":"'D U-15'!AG26","v":0},{"$f":"'D U-15'!AI26","v":0},{"$f":"'D U-15'!AK26","v":0},{"$f":"'D U-15'!AM26","v":0},0,0,{"$f":"LARGE(E20:L20,5)","v":0},{"$f":"LARGE(E20:L20,6)","v":0},{"$f":"LARGE(E20:L20,7)","v":0},{"$f":"LARGE(E20:L20,8)","v":0}]
[{"$f":"1+A20","v":18},18,{"$f":"'D U-15'!C19","v":"Lovisa Eklund"},{"$f":"'D U-15'!D19","v":"Leksands SLK"},{"$f":"'D U-15'!Y19","v":0},{"$f":"'D U-15'!AA19","v":0},{"$f":"'D U-15'!AC19","v":0},{"$f":"'D U-15'!AE19","v":0},{"$f":"'D U-15'!AG19","v":0},{"$f":"'D U-15'!AI19","v":0},{"$f":"'D U-15'!AK19","v":0},{"$f":"'D U-15'!AM19","v":0},0,0,0,0,0,0]
[19,19,{"$f":"'D U-15'!C23","v":"Felicia Lind"},{"$f":"'D U-15'!D23","v":"IFK Borlänge"},{"$f":"'D U-15'!Y23","v":0},{"$f":"'D U-15'!AA23","v":0},{"$f":"'D U-15'!AC23","v":0},{"$f":"'D U-15'!AE23","v":0},{"$f":"'D U-15'!AG23","v":0},{"$f":"'D U-15'!AI23","v":0},{"$f":"'D U-15'!AK23","v":0},{"$f":"'D U-15'!AM23","v":0},0,0,{"$f":"LARGE(E22:L22,5)","v":0},{"$f":"LARGE(E22:L22,6)","v":0},{"$f":"LARGE(E22:L22,7)","v":0},{"$f":"LARGE(E22:L22,8)","v":0}]
[20,20,{"$f":"'D U-15'!C21","v":"Jennifer Thornell"},{"$f":"'D U-15'!D21","v":"Avesta AK"},{"$f":"'D U-15'!Y21","v":0},{"$f":"'D U-15'!AA21","v":0},{"$f":"'D U-15'!AC21","v":0},{"$f":"'D U-15'!AE21","v":0},{"$f":"'D U-15'!AG21","v":0},{"$f":"'D U-15'!AI21","v":0},{"$f":"'D U-15'!AK21","v":0},{"$f":"'D U-15'!AM21","v":0},0,0,0,0,0,0]
[21,21,{"$f":"'D U-15'!C27","v":"Ida Håkansson"},{"$f":"'D U-15'!D27","v":"Valfjällets SLK"},{"$f":"'D U-15'!Y27","v":0},{"$f":"'D U-15'!AA27","v":0},{"$f":"'D U-15'!AC27","v":0},{"$f":"'D U-15'!AE27","v":0},{"$f":"'D U-15'!AG27","v":0},{"$f":"'D U-15'!AI27","v":0},{"$f":"'D U-15'!AK27","v":0},{"$f":"'D U-15'!AM27","v":0},0,0,0,0,0,0]
[22,22,{"$f":"'D U-15'!C28","v":"Emma Skogsmark"},{"$f":"'D U-15'!D28","v":"Avesta AK"},{"$f":"'D U-15'!Y28","v":0},{"$f":"'D U-15'!AA28","v":0},{"$f":"'D U-15'!AC28","v":0},{"$f":"'D U-15'!AE28","v":0},{"$f":"'D U-15'!AG28","v":0},{"$f":"'D U-15'!AI28","v":0},{"$f":"'D U-15'!AK28","v":0},{"$f":"'D U-15'!AM28","v":0},0,0,{"$f":"LARGE(E25:L25,5)","v":0},{"$f":"LARGE(E25:L25,6)","v":0},{"$f":"LARGE(E25:L25,7)","v":0},{"$f":"LARGE(E25:L25,8)","v":0}]
[23,23,{"$f":"'D U-15'!C31","v":0},{"$f":"'D U-15'!D31","v":0},{"$f":"'D U-15'!Y31","v":0},{"$f":"'D U-15'!AA31","v":0},{"$f":"'D U-15'!AC31","v":0},{"$f":"'D U-15'!AE31","v":0},{"$f":"'D U-15'!AG31","v":0},{"$f":"'D U-15'!AI31","v":0},{"$f":"'D U-15'!AK31","v":0},{"$f":"'D U-15'!AM31","v":0},0,0,{"$f":"LARGE(E26:L26,5)","v":0},{"$f":"LARGE(E26:L26,6)","v":0},{"$f":"LARGE(E26:L26,7)","v":0},{"$f":"LARGE(E26:L26,8)","v":0}]
[24,24,{"$f":"'D U-15'!C32","v":0},{"$f":"'D U-15'!D32","v":0},{"$f":"'D U-15'!Y32","v":0},{"$f":"'D U-15'!AA32","v":0},{"$f":"'D U-15'!AC32","v":0},{"$f":"'D U-15'!AE32","v":0},{"$f":"'D U-15'!AG32","v":0},{"$f":"'D U-15'!AI32","v":0},{"$f":"'D U-15'!AK32","v":0},{"$f":"'D U-15'!AM32","v":0},0,0,0,0,0,0]
[25,25,{"$f":"'D U-15'!C25","v":"Ellen Kindberg"},{"$f":"'D U-15'!D25","v":"Kils SLK"},{"$f":"'D U-15'!Y25","v":0},{"$f":"'D U-15'!AA25","v":0},{"$f":"'D U-15'!AC25","v":0},{"$f":"'D U-15'!AE25","v":0},{"$f":"'D U-15'!AG25","v":0},{"$f":"'D U-15'!AI25","v":0},{"$f":"'D U-15'!AK25","v":0},{"$f":"'D U-15'!AM25","v":0},0,0,0,0,0,0]
[26,26,{"$f":"'D U-15'!C29","v":"Emilia Pantzare"},{"$f":"'D U-15'!D29","v":"Idre SK"},{"$f":"'D U-15'!Y29","v":0},{"$f":"'D U-15'!AA29","v":0},{"$f":"'D U-15'!AC29","v":0},{"$f":"'D U-15'!AE29","v":0},{"$f":"'D U-15'!AG29","v":0},{"$f":"'D U-15'!AI29","v":0},{"$f":"'D U-15'!AK29","v":0},{"$f":"'D U-15'!AM29","v":0},0,0,0,0,0,0]
[27,27,{"$f":"'D U-15'!C20","v":"Linda Persson"},{"$f":"'D U-15'!D20","v":"Idre SK"},{"$f":"'D U-15'!Y20","v":0},{"$f":"'D U-15'!AA20","v":0},{"$f":"'D U-15'!AC20","v":0},{"$f":"'D U-15'!AE20","v":0},{"$f":"'D U-15'!AG20","v":0},{"$f":"'D U-15'!AI20","v":0},{"$f":"'D U-15'!AK20","v":0},{"$f":"'D U-15'!AM20","v":0},0,0,{"$f":"LARGE(E30:L30,5)","v":0},{"$f":"LARGE(E30:L30,6)","v":0},{"$f":"LARGE(E30:L30,7)","v":0},{"$f":"LARGE(E30:L30,8)","v":0}]
[28,28,{"$f":"'D U-15'!C30","v":0},{"$f":"'D U-15'!D30","v":0},{"$f":"'D U-15'!Y30","v":0},{"$f":"'D U-15'!AA30","v":0},{"$f":"'D U-15'!AC30","v":0},{"$f":"'D U-15'!AE30","v":0},{"$f":"'D U-15'!AG30","v":0},{"$f":"'D U-15'!AI30","v":0},{"$f":"'D U-15'!AK30","v":0},{"$f":"'D U-15'!AM30","v":0},0,0,0,0,0,0]
[29,29,{"$f":"'D U-15'!C34","v":0},{"$f":"'D U-15'!D34","v":0},{"$f":"'D U-15'!Y34","v":0},{"$f":"'D U-15'!AA34","v":0},{"$f":"'D U-15'!AC34","v":0},{"$f":"'D U-15'!AE34","v":0},{"$f":"'D U-15'!AG34","v":0},{"$f":"'D U-15'!AI34","v":0},{"$f":"'D U-15'!AK34","v":0},{"$f":"'D U-15'!AM34","v":0},0,0,0,0,0,0]
[30,30,{"$f":"'D U-15'!C33","v":0},{"$f":"'D U-15'!D33","v":0},{"$f":"'D U-15'!Y33","v":0},{"$f":"'D U-15'!AA33","v":0},{"$f":"'D U-15'!AC33","v":0},{"$f":"'D U-15'!AE33","v":0},{"$f":"'D U-15'!AG33","v":0},{"$f":"'D U-15'!AI33","v":0},{"$f":"'D U-15'!AK33","v":0},{"$f":"'D U-15'!AM33","v":0},0,0,{"$f":"LARGE(E33:L33,5)","v":0},{"$f":"LARGE(E33:L33,6)","v":0},{"$f":"LARGE(E33:L33,7)","v":0},{"$f":"LARGE(E33:L33,8)","v":0}]
[31,31,{"$f":"'D U-15'!C35","v":0},{"$f":"'D U-15'!D35","v":0},{"$f":"'D U-15'!Y35","v":0},{"$f":"'D U-15'!AA35","v":0},{"$f":"'D U-15'!AC35","v":0},{"$f":"'D U-15'!AE35","v":0},{"$f":"'D U-15'!AG35","v":0},{"$f":"'D U-15'!AI35","v":0},{"$f":"'D U-15'!AK35","v":0},{"$f":"'D U-15'!AM35","v":0},0,0,0,0,0,0]
[32,32,{"$f":"'D U-15'!C36","v":0},{"$f":"'D U-15'!D36","v":0},{"$f":"'D U-15'!Y36","v":0},{"$f":"'D U-15'!AA36","v":0},{"$f":"'D U-15'!AC36","v":0},{"$f":"'D U-15'!AE36","v":0},{"$f":"'D U-15'!AG36","v":0},{"$f":"'D U-15'!AI36","v":0},{"$f":"'D U-15'!AK36","v":0},{"$f":"'D U-15'!AM36","v":0},0,0,0,0,0,0]
[33,33,{"$f":"'D U-15'!C37","v":0},{"$f":"'D U-15'!D37","v":0},{"$f":"'D U-15'!Y37","v":0},{"$f":"'D U-15'!AA37","v":0},{"$f":"'D U-15'!AC37","v":0},{"$f":"'D U-15'!AE37","v":0},{"$f":"'D U-15'!AG37","v":0},{"$f":"'D U-15'!AI37","v":0},{"$f":"'D U-15'!AK37","v":0},{"$f":"'D U-15'!AM37","v":0},{"$f":"SUM(E36:L36)","v":0},{"$f":"LARGE(E36:L36,1)+LARGE(E36:L36,2)+LARGE(E36:L36,3)+LARGE(E36:L36,4)","v":0},0,0,0,0]
[{"$f":"1+A36","v":34},34,{"$f":"'D U-15'!C38","v":0},{"$f":"'D U-15'!D38","v":0},{"$f":"'D U-15'!Y38","v":0},{"$f":"'D U-15'!AA38","v":0},{"$f":"'D U-15'!AC38","v":0},{"$f":"'D U-15'!AE38","v":0},{"$f":"'D U-15'!AG38","v":0},{"$f":"'D U-15'!AI38","v":0},{"$f":"'D U-15'!AK38","v":0},{"$f":"'D U-15'!AM38","v":0},0,0,0,0,0,0]
[35,35,{"$f":"'D U-15'!C39","v":0},{"$f":"'D U-15'!D39","v":0},{"$f":"'D U-15'!Y39","v":0},{"$f":"'D U-15'!AA39","v":0},{"$f":"'D U-15'!AC39","v":0},{"$f":"'D U-15'!AE39","v":0},{"$f":"'D U-15'!AG39","v":0},{"$f":"'D U-15'!AI39","v":0},{"$f":"'D U-15'!AK39","v":0},{"$f":"'D U-15'!AM39","v":0},0,0,0,0,0,0]
[36,36,{"$f":"'D U-15'!C40","v":0},{"$f":"'D U-15'!D40","v":0},{"$f":"'D U-15'!Y40","v":0},{"$f":"'D U-15'!AA40","v":0},{"$f":"'D U-15'!AC40","v":0},{"$f":"'D U-15'!AE40","v":0},{"$f":"'D U-15'!AG40","v":0},{"$f":"'D U-15'!AI40","v":0},{"$f":"'D U-15'!AK40","v":0},{"$f":"'D U-15'!AM40","v":0},0,0,0,0,0,0]
[37,37,{"$f":"'D U-15'!C41","v":0},{"$f":"'D U-15'!D41","v":0},{"$f":"'D U-15'!Y41","v":0},{"$f":"'D U-15'!AA41","v":0},{"$f":"'D U-15'!AC41","v":0},{"$f":"'D U-15'!AE41","v":0},{"$f":"'D U-15'!AG41","v":0},{"$f":"'D U-15'!AI41","v":0},{"$f":"'D U-15'!AK41","v":0},{"$f":"'D U-15'!AM41","v":0},0,0,0,0,0,0]
[38,38,{"$f":"'D U-15'!C42","v":0},{"$f":"'D U-15'!D42","v":0},{"$f":"'D U-15'!Y42","v":0},{"$f":"'D U-15'!AA42","v":0},{"$f":"'D U-15'!AC42","v":0},{"$f":"'D U-15'!AE42","v":0},{"$f":"'D U-15'!AG42","v":0},{"$f":"'D U-15'!AI42","v":0},{"$f":"'D U-15'!AK42","v":0},{"$f":"'D U-15'!AM42","v":0},0,0,0,0,0,0]
[39,39,{"$f":"'D U-15'!C43","v":0},{"$f":"'D U-15'!D43","v":0},{"$f":"'D U-15'!Y43","v":0},{"$f":"'D U-15'!AA43","v":0},{"$f":"'D U-15'!AC43","v":0},{"$f":"'D U-15'!AE43","v":0},{"$f":"'D U-15'!AG43","v":0},{"$f":"'D U-15'!AI43","v":0},{"$f":"'D U-15'!AK43","v":0},{"$f":"'D U-15'!AM43","v":0},0,0,0,0,0,0]
[40,40,{"$f":"'D U-15'!C44","v":0},{"$f":"'D U-15'!D44","v":0},{"$f":"'D U-15'!Y44","v":0},{"$f":"'D U-15'!AA44","v":0},{"$f":"'D U-15'!AC44","v":0},{"$f":"'D U-15'!AE44","v":0},{"$f":"'D U-15'!AG44","v":0},{"$f":"'D U-15'!AI44","v":0},{"$f":"'D U-15'!AK44","v":0},{"$f":"'D U-15'!AM44","v":0},0,0,0,0,0,0]
[41,41,{"$f":"'D U-15'!C45","v":0},{"$f":"'D U-15'!D45","v":0},{"$f":"'D U-15'!Y45","v":0},{"$f":"'D U-15'!AA45","v":0},{"$f":"'D U-15'!AC45","v":0},{"$f":"'D U-15'!AE45","v":0},{"$f":"'D U-15'!AG45","v":0},{"$f":"'D U-15'!AI45","v":0},{"$f":"'D U-15'!AK45","v":0},{"$f":"'D U-15'!AM45","v":0},0,0,0,0,0,0]
[42,42,{"$f":"'D U-15'!C46","v":0},{"$f":"'D U-15'!D46","v":0},{"$f":"'D U-15'!Y46","v":0},{"$f":"'D U-15'!AA46","v":0},{"$f":"'D U-15'!AC46","v":0},{"$f":"'D U-15'!AE46","v":0},{"$f":"'D U-15'!AG46","v":0},{"$f":"'D U-15'!AI46","v":0},{"$f":"'D U-15'!AK46","v":0},{"$f":"'D U-15'!AM46","v":0},0,0,0,0,0,0]
[43,43,{"$f":"'D U-15'!C47","v":0},{"$f":"'D U-15'!D47","v":0},{"$f":"'D U-15'!Y47","v":0},{"$f":"'D U-15'!AA47","v":0},{"$f":"'D U-15'!AC47","v":0},{"$f":"'D U-15'!AE47","v":0},{"$f":"'D U-15'!AG47","v":0},{"$f":"'D U-15'!AI47","v":0},{"$f":"'D U-15'!AK47","v":0},{"$f":"'D U-15'!AM47","v":0},0,0,0,0,0,0]
[44,44,{"$f":"'D U-15'!C48","v":0},{"$f":"'D U-15'!D48","v":0},{"$f":"'D U-15'!Y48","v":0},{"$f":"'D U-15'!AA48","v":0},{"$f":"'D U-15'!AC48","v":0},{"$f":"'D U-15'!AE48","v":0},{"$f":"'D U-15'!AG48","v":0},{"$f":"'D U-15'!AI48","v":0},{"$f":"'D U-15'!AK48","v":0},{"$f":"'D U-15'!AM48","v":0},0,0,0,0,0,0]
[45,45,{"$f":"'D U-15'!C49","v":0},{"$f":"'D U-15'!D49","v":0},{"$f":"'D U-15'!Y49","v":0},{"$f":"'D U-15'!AA49","v":0},{"$f":"'D U-15'!AC49","v":0},{"$f":"'D U-15'!AE49","v":0},{"$f":"'D U-15'!AG49","v":0},{"$f":"'D U-15'!AI49","v":0},{"$f":"'D U-15'!AK49","v":0},{"$f":"'D U-15'!AM49","v":0},0,0,0,0,0,0]
[46,46,{"$f":"'D U-15'!C50","v":0},{"$f":"'D U-15'!D50","v":0},{"$f":"'D U-15'!Y50","v":0},{"$f":"'D U-15'!AA50","v":0},{"$f":"'D U-15'!AC50","v":0},{"$f":"'D U-15'!AE50","v":0},{"$f":"'D U-15'!AG50","v":0},{"$f":"'D U-15'!AI50","v":0},{"$f":"'D U-15'!AK50","v":0},{"$f":"'D U-15'!AM50","v":0},0,0,0,0,0,0]
[47,47,{"$f":"'D U-15'!C51","v":0},{"$f":"'D U-15'!D51","v":0},{"$f":"'D U-15'!Y51","v":0},{"$f":"'D U-15'!AA51","v":0},{"$f":"'D U-15'!AC51","v":0},{"$f":"'D U-15'!AE51","v":0},{"$f":"'D U-15'!AG51","v":0},{"$f":"'D U-15'!AI51","v":0},{"$f":"'D U-15'!AK51","v":0},{"$f":"'D U-15'!AM51","v":0},0,0,0,0,0,0]
[48,48,{"$f":"'D U-15'!C52","v":0},{"$f":"'D U-15'!D52","v":0},{"$f":"'D U-15'!Y52","v":0},{"$f":"'D U-15'!AA52","v":0},{"$f":"'D U-15'!AC52","v":0},{"$f":"'D U-15'!AE52","v":0},{"$f":"'D U-15'!AG52","v":0},{"$f":"'D U-15'!AI52","v":0},{"$f":"'D U-15'!AK52","v":0},{"$f":"'D U-15'!AM52","v":0},0,0,0,0,0,0]
[49,49,{"$f":"'D U-15'!C53","v":0},{"$f":"'D U-15'!D53","v":0},{"$f":"'D U-15'!Y53","v":0},{"$f":"'D U-15'!AA53","v":0},{"$f":"'D U-15'!AC53","v":0},{"$f":"'D U-15'!AE53","v":0},{"$f":"'D U-15'!AG53","v":0},{"$f":"'D U-15'!AI53","v":0},{"$f":"'D U-15'!AK53","v":0},{"$f":"'D U-15'!AM53","v":0},0,0,0,0,0,0]
[{"$f":"1+A52","v":50},50,{"$f":"'D U-15'!C54","v":0},{"$f":"'D U-15'!D54","v":0},{"$f":"'D U-15'!Y54","v":0},{"$f":"'D U-15'!AA54","v":0},{"$f":"'D U-15'!AC54","v":0},{"$f":"'D U-15'!AE54","v":0},{"$f":"'D U-15'!AG54","v":0},{"$f":"'D U-15'!AI54","v":0},{"$f":"'D U-15'!AK54","v":0},{"$f":"'D U-15'!AM54","v":0},0,0,0,0,0,0]
[51,51,{"$f":"'D U-15'!C55","v":0},{"$f":"'D U-15'!D55","v":0},{"$f":"'D U-15'!Y55","v":0},{"$f":"'D U-15'!AA55","v":0},{"$f":"'D U-15'!AC55","v":0},{"$f":"'D U-15'!AE55","v":0},{"$f":"'D U-15'!AG55","v":0},{"$f":"'D U-15'!AI55","v":0},{"$f":"'D U-15'!AK55","v":0},{"$f":"'D U-15'!AM55","v":0},0,0,0,0,0,0]
[52,52,{"$f":"'D U-15'!C56","v":0},{"$f":"'D U-15'!D56","v":0},{"$f":"'D U-15'!Y56","v":0},{"$f":"'D U-15'!AA56","v":0},{"$f":"'D U-15'!AC56","v":0},{"$f":"'D U-15'!AE56","v":0},{"$f":"'D U-15'!AG56","v":0},{"$f":"'D U-15'!AI56","v":0},{"$f":"'D U-15'!AK56","v":0},{"$f":"'D U-15'!AM56","v":0},0,0,0,0,0,0]
[53,53,{"$f":"'D U-15'!C57","v":0},{"$f":"'D U-15'!D57","v":0},{"$f":"'D U-15'!Y57","v":0},{"$f":"'D U-15'!AA57","v":0},{"$f":"'D U-15'!AC57","v":0},{"$f":"'D U-15'!AE57","v":0},{"$f":"'D U-15'!AG57","v":0},{"$f":"'D U-15'!AI57","v":0},{"$f":"'D U-15'!AK57","v":0},{"$f":"'D U-15'!AM57","v":0},0,0,0,0,0,0]
[54,54,{"$f":"'D U-15'!C58","v":0},{"$f":"'D U-15'!D58","v":0},{"$f":"'D U-15'!Y58","v":0},{"$f":"'D U-15'!AA58","v":0},{"$f":"'D U-15'!AC58","v":0},{"$f":"'D U-15'!AE58","v":0},{"$f":"'D U-15'!AG58","v":0},{"$f":"'D U-15'!AI58","v":0},{"$f":"'D U-15'!AK58","v":0},{"$f":"'D U-15'!AM58","v":0},0,0,0,0,0,0]
[55,55,{"$f":"'D U-15'!C59","v":0},{"$f":"'D U-15'!D59","v":0},{"$f":"'D U-15'!Y59","v":0},{"$f":"'D U-15'!AA59","v":0},{"$f":"'D U-15'!AC59","v":0},{"$f":"'D U-15'!AE59","v":0},{"$f":"'D U-15'!AG59","v":0},{"$f":"'D U-15'!AI59","v":0},{"$f":"'D U-15'!AK59","v":0},{"$f":"'D U-15'!AM59","v":0},0,0,0,0,0,0]
[56,56,{"$f":"'D U-15'!C60","v":0},{"$f":"'D U-15'!D60","v":0},{"$f":"'D U-15'!Y60","v":0},{"$f":"'D U-15'!AA60","v":0},{"$f":"'D U-15'!AC60","v":0},{"$f":"'D U-15'!AE60","v":0},{"$f":"'D U-15'!AG60","v":0},{"$f":"'D U-15'!AI60","v":0},{"$f":"'D U-15'!AK60","v":0},{"$f":"'D U-15'!AM60","v":0},0,0,0,0,0,0]
[57,57,{"$f":"'D U-15'!C61","v":0},{"$f":"'D U-15'!D61","v":0},{"$f":"'D U-15'!Y61","v":0},{"$f":"'D U-15'!AA61","v":0},{"$f":"'D U-15'!AC61","v":0},{"$f":"'D U-15'!AE61","v":0},{"$f":"'D U-15'!AG61","v":0},{"$f":"'D U-15'!AI61","v":0},{"$f":"'D U-15'!AK61","v":0},{"$f":"'D U-15'!AM61","v":0},0,0,0,0,0,0]
[58,58,{"$f":"'D U-15'!C62","v":0},{"$f":"'D U-15'!D62","v":0},{"$f":"'D U-15'!Y62","v":0},{"$f":"'D U-15'!AA62","v":0},{"$f":"'D U-15'!AC62","v":0},{"$f":"'D U-15'!AE62","v":0},{"$f":"'D U-15'!AG62","v":0},{"$f":"'D U-15'!AI62","v":0},{"$f":"'D U-15'!AK62","v":0},{"$f":"'D U-15'!AM62","v":0},0,0,0,0,0,0]
[59,59,{"$f":"'D U-15'!C63","v":0},{"$f":"'D U-15'!D63","v":0},{"$f":"'D U-15'!Y63","v":0},{"$f":"'D U-15'!AA63","v":0},{"$f":"'D U-15'!AC63","v":0},{"$f":"'D U-15'!AE63","v":0},{"$f":"'D U-15'!AG63","v":0},{"$f":"'D U-15'!AI63","v":0},{"$f":"'D U-15'!AK63","v":0},{"$f":"'D U-15'!AM63","v":0},0,0,0,0,0,0]
[60,60,{"$f":"'D U-15'!C64","v":0},{"$f":"'D U-15'!D64","v":0},{"$f":"'D U-15'!Y64","v":0},{"$f":"'D U-15'!AA64","v":0},{"$f":"'D U-15'!AC64","v":0},{"$f":"'D U-15'!AE64","v":0},{"$f":"'D U-15'!AG64","v":0},{"$f":"'D U-15'!AI64","v":0},{"$f":"'D U-15'!AK64","v":0},{"$f":"'D U-15'!AM64","v":0},0,0,0,0,0,0]

{"sheet":"Ranking GS H","index":6,"n_rows":63,"n_cols":18,"rows_kept":63,"cut":false,"hidden":false,"merged":[[1,4,1,5],[1,6,1,7],[1,8,1,9],[1,10,1,11]]}
[null,"Ranking region 3 GS Herrar U-15 2015",null,null,"Listan måste sorteras efter varje förändring av totalsammanställningen"]
[null,"Ranking efter summan av de 4 bästa åken",null,null,{"$f":"'D U-15'!X3","v":"Borlänge GS 1"},null,{"$f":"'D U-15'!AB3","v":"Borlänge GS 2"},null,{"$f":"'D U-15'!AF3","v":"Valfjället GS"},null,{"$f":"'D U-15'!AJ3","v":"Valfjället GS"}]
["Antal","Ranking","Namn","Klubb","Åk 1","Åk 2","Åk 1","Åk 2","Åk 1","Åk 2","Åk 1","Åk 2","GS        poäng","Ranking Summa av fyra bästa","Sär-skiljning åk 5","Sär- skiljning åk 6","Sär- skiljning åk 7","Sär- skiljning åk 8"]
[1,1,{"$f":"'H U-15'!C5","v":"Mikael Semdahl"},{"$f":"'H U-15'!D5","v":"IFK Borlänge"},{"$f":"'H U-15'!Y5","v":0},{"$f":"'H U-15'!AA5","v":0},{"$f":"'H U-15'!AC5","v":0},{"$f":"'H U-15'!AE5","v":0},{"$f":"'H U-15'!AG5","v":0},{"$f":"'H U-15'!AI5","v":0},{"$f":"'H U-15'!AK5","v":0},{"$f":"'H U-15'!AM5","v":0},{"$f":"SUM(E4:L4)","v":0},{"$f":"LARGE(E4:L4,1)+LARGE(E4:L4,2)+LARGE(E4:L4,3)+LARGE(E4:L4,4)","v":0},{"$f":"LARGE(E4:L4,5)","v":0},{"$f":"LARGE(E4:L4,6)","v":0},{"$f":"LARGE(E4:L4,7)","v":0},{"$f":"LARGE(E4:L4,8)","v":0}]
[{"$f":"1+A4","v":2},2,{"$f":"'H U-15'!C7","v":"Edvin Sundberg"},{"$f":"'H U-15'!D7","v":"Örebro SLF"},{"$f":"'H U-15'!Y7","v":0},{"$f":"'H U-15'!AA7","v":0},{"$f":"'H U-15'!AC7","v":0},{"$f":"'H U-15'!AE7","v":0},{"$f":"'H U-15'!AG7","v":0},{"$f":"'H U-15'!AI7","v":0},{"$f":"'H U-15'!AK7","v":0},{"$f":"'H U-15'!AM8","v":0},0,0,0,0,{"$f":"LARGE(E5:L5,7)","v":0},{"$f":"LARGE(E5:L5,8)","v":0}]
[3,{"$f":"1+B5","v":3},{"$f":"'H U-15'!C6","v":"Rickard Forsman"},{"$f":"'H U-15'!D6","v":"Malungs SLK"},{"$f":"'H U-15'!Y6","v":0},{"$f":"'H U-15'!AA6","v":0},{"$f":"'H U-15'!AC6","v":0},{"$f":"'H U-15'!AE6","v":0},{"$f":"'H U-15'!AG6","v":0},{"$f":"'H U-15'!AI6","v":0},{"$f":"'H U-15'!AK6","v":0},{"$f":"'H U-15'!AM6","v":0},0,0,0,0,{"$f":"LARGE(E6:L6,7)","v":0},{"$f":"LARGE(E6:L6,8)","v":0}]
[4,{"$f":"1+B6","v":4},{"$f":"'H U-15'!C8","v":"Erik Hultman"},{"$f":"'H U-15'!D8","v":"Karlskoga SLK"},{"$f":"'H U-15'!Y8","v":0},{"$f":"'H U-15'!AA8","v":0},{"$f":"'H U-15'!AC8","v":0},{"$f":"'H U-15'!AE8","v":0},{"$f":"'H U-15'!AG8","v":0},{"$f":"'H U-15'!AI8","v":0},{"$f":"'H U-15'!AK8","v":0},{"$f":"'H U-15'!AM7","v":0},0,0,0,0,0,0]
[5,{"$f":"1+B7","v":5},{"$f":"'H U-15'!C9","v":"Carl Setterström"},{"$f":"'H U-15'!D9","v":"Karlstads SLK"},{"$f":"'H U-15'!Y9","v":0},{"$f":"'H U-15'!AA9","v":0},{"$f":"'H U-15'!AC9","v":0},{"$f":"'H U-15'!AE9","v":0},{"$f":"'H U-15'!AG9","v":0},{"$f":"'H U-15'!AI9","v":0},{"$f":"'H U-15'!AK9","v":0},{"$f":"'H U-15'!AM9","v":0},0,0,0,0,0,0]
[6,{"$f":"1+B8","v":6},{"$f":"'H U-15'!C10","v":"Gusten Berglund"},{"$f":"'H U-15'!D10","v":"Karlstads SLK"},{"$f":"'H U-15'!Y10","v":0},{"$f":"'H U-15'!AA10","v":0},{"$f":"'H U-15'!AC10","v":0},{"$f":"'H U-15'!AE10","v":0},{"$f":"'H U-15'!AG10","v":0},{"$f":"'H U-15'!AI10","v":0},{"$f":"'H U-15'!AK10","v":0},{"$f":"'H U-15'!AM10","v":0},0,0,0,0,0,0]
[7,{"$f":"1+B9","v":7},{"$f":"'H U-15'!C12","v":"Adam Ståhlbom"},{"$f":"'H U-15'!D12","v":"Kumla SF"},{"$f":"'H U-15'!Y12","v":0},{"$f":"'H U-15'!AA12","v":0},{"$f":"'H U-15'!AC12","v":0},{"$f":"'H U-15'!AE12","v":0},{"$f":"'H U-15'!AG12","v":0},{"$f":"'H U-15'!AI12","v":0},{"$f":"'H U-15'!AK12","v":0},{"$f":"'H U-15'!AM12","v":0},0,0,0,0,0,0]
[8,{"$f":"1+B10","v":8},{"$f":"'H U-15'!C11","v":"Filip Lindström"},{"$f":"'H U-15'!D11","v":"Kumla SF"},{"$f":"'H U-15'!Y11","v":0},{"$f":"'H U-15'!AA11","v":0},{"$f":"'H U-15'!AC11","v":0},{"$f":"'H U-15'!AE11","v":0},{"$f":"'H U-15'!AG11","v":0},{"$f":"'H U-15'!AI11","v":0},{"$f":"'H U-15'!AK11","v":0},{"$f":"'H U-15'!AM11","v":0},0,0,0,0,0,0]
[9,{"$f":"1+B11","v":9},{"$f":"'H U-15'!C13","v":"Carl Kieksi"},{"$f":"'H U-15'!D13","v":"IFK Borlänge"},{"$f":"'H U-15'!Y13","v":0},{"$f":"'H U-15'!AA13","v":0},{"$f":"'H U-15'!AC13","v":0},{"$f":"'H U-15'!AE13","v":0},{"$f":"'H U-15'!AG13","v":0},{"$f":"'H U-15'!AI13","v":0},{"$f":"'H U-15'!AK13","v":0},{"$f":"'H U-15'!AM13","v":0},0,0,0,0,0,0]
[10,{"$f":"1+B12","v":10},{"$f":"'H U-15'!C15","v":"Martin Jansson"},{"$f":"'H U-15'!D15","v":"IFK Falun"},{"$f":"'H U-15'!Y14","v":0},{"$f":"'H U-15'!AA14","v":0},{"$f":"'H U-15'!AC14","v":0},{"$f":"'H U-15'!AE14","v":0},{"$f":"'H U-15'!AG14","v":0},{"$f":"'H U-15'!AI14","v":0},{"$f":"'H U-15'!AK14","v":0},{"$f":"'H U-15'!AM14","v":0},0,0,0,0,0,0]
[11,{"$f":"1+B13","v":11},{"$f":"'H U-15'!C16","v":"Mathias Gatu"},{"$f":"'H U-15'!D16","v":"Rättviks SLK"},{"$f":"'H U-15'!Y15","v":0},{"$f":"'H U-15'!AA15","v":0},{"$f":"'H U-15'!AC15","v":0},{"$f":"'H U-15'!AE15","v":0},{"$f":"'H U-15'!AG15","v":0},{"$f":"'H U-15'!AI15","v":0},{"$f":"'H U-15'!AK15","v":0},{"$f":"'H U-15'!AM15","v":0},0,0,0,0,0,0]
[12,{"$f":"1+B14","v":12},{"$f":"'H U-15'!C17","v":"Oliver Suther"},{"$f":"'H U-15'!D17","v":"Rättviks SLK"},{"$f":"'H U-15'!Y16","v":0},{"$f":"'H U-15'!AA16","v":0},{"$f":"'H U-15'!AC16","v":0},{"$f":"'H U-15'!AE16","v":0},{"$f":"'H U-15'!AG16","v":0},{"$f":"'H U-15'!AI16","v":0},{"$f":"'H U-15'!AK16","v":0},{"$f":"'H U-15'!AM16","v":0},0,0,0,0,0,0]
[13,{"$f":"1+B15","v":13},{"$f":"'H U-15'!#REF!","v":{"$error":"#REF!"}},{"$f":"'H U-15'!#REF!","v":{"$error":"#REF!"}},{"$f":"'H U-15'!Y17","v":0},{"$f":"'H U-15'!AA17","v":0},{"$f":"'H U-15'!AC17","v":0},{"$f":"'H U-15'!AE17","v":0},{"$f":"'H U-15'!AG17","v":0},{"$f":"'H U-15'!AI17","v":0},{"$f":"'H U-15'!AK17","v":0},{"$f":"'H U-15'!AM17","v":0},0,0,0,0,0,0]
[14,{"$f":"1+B16","v":14},{"$f":"'H U-15'!C18","v":"Alexander Mueller"},{"$f":"'H U-15'!D18","v":"Kungsbergets AK"},{"$f":"'H U-15'!Y18","v":0},{"$f":"'H U-15'!AA18","v":0},{"$f":"'H U-15'!AC18","v":0},{"$f":"'H U-15'!AE18","v":0},{"$f":"'H U-15'!AG18","v":0},{"$f":"'H U-15'!AI18","v":0},{"$f":"'H U-15'!AK18","v":0},{"$f":"'H U-15'!AM18","v":0},0,0,0,0,0,0]
[15,{"$f":"1+B17","v":15},{"$f":"'H U-15'!C19","v":0},{"$f":"'H U-15'!D19","v":0},{"$f":"'H U-15'!Y19","v":0},{"$f":"'H U-15'!AA19","v":0},{"$f":"'H U-15'!AC19","v":0},{"$f":"'H U-15'!AE19","v":0},{"$f":"'H U-15'!AG19","v":0},{"$f":"'H U-15'!AI19","v":0},{"$f":"'H U-15'!AK19","v":0},{"$f":"'H U-15'!AM19","v":0},0,0,0,0,0,0]
[16,{"$f":"1+B18","v":16},{"$f":"'H U-15'!C20","v":0},{"$f":"'H U-15'!D20","v":0},{"$f":"'H U-15'!Y20","v":0},{"$f":"'H U-15'!AA20","v":0},{"$f":"'H U-15'!AC20","v":0},{"$f":"'H U-15'!AE20","v":0},{"$f":"'H U-15'!AG20","v":0},{"$f":"'H U-15'!AI20","v":0},{"$f":"'H U-15'!AK20","v":0},{"$f":"'H U-15'!AM20","v":0},0,0,0,0,0,0]
[17,{"$f":"1+B19","v":17},{"$f":"'H U-15'!C21","v":0},{"$f":"'H U-15'!D21","v":0},{"$f":"'H U-15'!Y21","v":0},{"$f":"'H U-15'!AA21","v":0},{"$f":"'H U-15'!AC21","v":0},{"$f":"'H U-15'!AE21","v":0},{"$f":"'H U-15'!AG21","v":0},{"$f":"'H U-15'!AI21","v":0},{"$f":"'H U-15'!AK21","v":0},{"$f":"'H U-15'!AM21","v":0},0,0,0,0,0,0]
[{"$f":"1+A20","v":18},18,{"$f":"'H U-15'!C22","v":0},{"$f":"'H U-15'!D22","v":0},{"$f":"'H U-15'!Y22","v":0},{"$f":"'H U-15'!AA22","v":0},{"$f":"'H U-15'!AC22","v":0},{"$f":"'H U-15'!AE22","v":0},{"$f":"'H U-15'!AG22","v":0},{"$f":"'H U-15'!AI22","v":0},{"$f":"'H U-15'!AK22","v":0},{"$f":"'H U-15'!AM22","v":0},0,0,0,0,0,0]
[19,19,{"$f":"'H U-15'!C23","v":0},{"$f":"'H U-15'!D23","v":0},{"$f":"'H U-15'!Y23","v":0},{"$f":"'H U-15'!AA23","v":0},{"$f":"'H U-15'!AC23","v":0},{"$f":"'H U-15'!AE23","v":0},{"$f":"'H U-15'!AG23","v":0},{"$f":"'H U-15'!AI23","v":0},{"$f":"'H U-15'!AK23","v":0},{"$f":"'H U-15'!AM23","v":0},0,0,0,0,0,0]
[20,20,{"$f":"'H U-15'!C24","v":0},{"$f":"'H U-15'!D24","v":0},{"$f":"'H U-15'!Y24","v":0},{"$f":"'H U-15'!AA24","v":0},{"$f":"'H U-15'!AC24","v":0},{"$f":"'H U-15'!AE24","v":0},{"$f":"'H U-15'!AG24","v":0},{"$f":"'H U-15'!AI24","v":0},{"$f":"'H U-15'!AK24","v":0},{"$f":"'H U-15'!AM24","v":0},0,0,0,0,0,0]
[21,21,{"$f":"'H U-15'!C25","v":0},{"$f":"'H U-15'!D25","v":0},{"$f":"'H U-15'!Y25","v":0},{"$f":"'H U-15'!AA25","v":0},{"$f":"'H U-15'!AC25","v":0},{"$f":"'H U-15'!AE25","v":0},{"$f":"'H U-15'!AG25","v":0},{"$f":"'H U-15'!AI25","v":0},{"$f":"'H U-15'!AK25","v":0},{"$f":"'H U-15'!AM25","v":0},0,0,0,0,0,0]
[22,22,{"$f":"'H U-15'!C26","v":0},{"$f":"'H U-15'!D26","v":0},{"$f":"'H U-15'!Y26","v":0},{"$f":"'H U-15'!AA26","v":0},{"$f":"'H U-15'!AC26","v":0},{"$f":"'H U-15'!AE26","v":0},{"$f":"'H U-15'!AG26","v":0},{"$f":"'H U-15'!AI26","v":0},{"$f":"'H U-15'!AK26","v":0},{"$f":"'H U-15'!AM26","v":0},0,0,0,0,0,0]
[23,23,{"$f":"'H U-15'!C27","v":0},{"$f":"'H U-15'!D27","v":0},{"$f":"'H U-15'!Y27","v":0},{"$f":"'H U-15'!AA27","v":0},{"$f":"'H U-15'!AC27","v":0},{"$f":"'H U-15'!AE27","v":0},{"$f":"'H U-15'!AG27","v":0},{"$f":"'H U-15'!AI27","v":0},{"$f":"'H U-15'!AK27","v":0},{"$f":"'H U-15'!AM27","v":0},0,0,0,0,0,0]
[24,24,{"$f":"'H U-15'!C28","v":0},{"$f":"'H U-15'!D28","v":0},{"$f":"'H U-15'!Y28","v":0},{"$f":"'H U-15'!AA28","v":0},{"$f":"'H U-15'!AC28","v":0},{"$f":"'H U-15'!AE28","v":0},{"$f":"'H U-15'!AG28","v":0},{"$f":"'H U-15'!AI28","v":0},{"$f":"'H U-15'!AK28","v":0},{"$f":"'H U-15'!AM28","v":0},0,0,0,0,0,0]
[25,25,{"$f":"'H U-15'!C29","v":0},{"$f":"'H U-15'!D29","v":0},{"$f":"'H U-15'!Y29","v":0},{"$f":"'H U-15'!AA29","v":0},{"$f":"'H U-15'!AC29","v":0},{"$f":"'H U-15'!AE29","v":0},{"$f":"'H U-15'!AG29","v":0},{"$f":"'H U-15'!AI29","v":0},{"$f":"'H U-15'!AK29","v":0},{"$f":"'H U-15'!AM29","v":0},0,0,0,0,0,0]
[26,26,{"$f":"'H U-15'!C30","v":0},{"$f":"'H U-15'!D30","v":0},{"$f":"'H U-15'!Y30","v":0},{"$f":"'H U-15'!AA30","v":0},{"$f":"'H U-15'!AC30","v":0},{"$f":"'H U-15'!AE30","v":0},{"$f":"'H U-15'!AG30","v":0},{"$f":"'H U-15'!AI30","v":0},{"$f":"'H U-15'!AK30","v":0},{"$f":"'H U-15'!AM30","v":0},0,0,0,0,0,0]
[27,27,{"$f":"'H U-15'!C31","v":0},{"$f":"'H U-15'!D31","v":0},{"$f":"'H U-15'!Y31","v":0},{"$f":"'H U-15'!AA31","v":0},{"$f":"'H U-15'!AC31","v":0},{"$f":"'H U-15'!AE31","v":0},{"$f":"'H U-15'!AG31","v":0},{"$f":"'H U-15'!AI31","v":0},{"$f":"'H U-15'!AK31","v":0},{"$f":"'H U-15'!AM31","v":0},0,0,0,0,0,0]
[28,28,{"$f":"'H U-15'!C32","v":0},{"$f":"'H U-15'!D32","v":0},{"$f":"'H U-15'!Y32","v":0},{"$f":"'H U-15'!AA32","v":0},{"$f":"'H U-15'!AC32","v":0},{"$f":"'H U-15'!AE32","v":0},{"$f":"'H U-15'!AG32","v":0},{"$f":"'H U-15'!AI32","v":0},{"$f":"'H U-15'!AK32","v":0},{"$f":"'H U-15'!AM32","v":0},0,0,0,0,0,0]
[29,29,{"$f":"'H U-15'!C33","v":0},{"$f":"'H U-15'!D33","v":0},{"$f":"'H U-15'!Y33","v":0},{"$f":"'H U-15'!AA33","v":0},{"$f":"'H U-15'!AC33","v":0},{"$f":"'H U-15'!AE33","v":0},{"$f":"'H U-15'!AG33","v":0},{"$f":"'H U-15'!AI33","v":0},{"$f":"'H U-15'!AK33","v":0},{"$f":"'H U-15'!AM33","v":0},0,0,0,0,0,0]
[30,30,{"$f":"'H U-15'!C34","v":0},{"$f":"'H U-15'!D34","v":0},{"$f":"'H U-15'!Y34","v":0},{"$f":"'H U-15'!AA34","v":0},{"$f":"'H U-15'!AC34","v":0},{"$f":"'H U-15'!AE34","v":0},{"$f":"'H U-15'!AG34","v":0},{"$f":"'H U-15'!AI34","v":0},{"$f":"'H U-15'!AK34","v":0},{"$f":"'H U-15'!AM34","v":0},0,0,0,0,0,0]
[31,31,{"$f":"'H U-15'!C35","v":0},{"$f":"'H U-15'!D35","v":0},{"$f":"'H U-15'!Y35","v":0},{"$f":"'H U-15'!AA35","v":0},{"$f":"'H U-15'!AC35","v":0},{"$f":"'H U-15'!AE35","v":0},{"$f":"'H U-15'!AG35","v":0},{"$f":"'H U-15'!AI35","v":0},{"$f":"'H U-15'!AK35","v":0},{"$f":"'H U-15'!AM35","v":0},0,0,0,0,0,0]
[32,32,{"$f":"'H U-15'!C36","v":0},{"$f":"'H U-15'!D36","v":0},{"$f":"'H U-15'!Y36","v":0},{"$f":"'H U-15'!AA36","v":0},{"$f":"'H U-15'!AC36","v":0},{"$f":"'H U-15'!AE36","v":0},{"$f":"'H U-15'!AG36","v":0},{"$f":"'H U-15'!AI36","v":0},{"$f":"'H U-15'!AK36","v":0},{"$f":"'H U-15'!AM36","v":0},0,0,0,0,0,0]
[33,33,{"$f":"'H U-15'!C37","v":0},{"$f":"'H U-15'!D37","v":0},{"$f":"'H U-15'!Y37","v":0},{"$f":"'H U-15'!AA37","v":0},{"$f":"'H U-15'!AC37","v":0},{"$f":"'H U-15'!AE37","v":0},{"$f":"'H U-15'!AG37","v":0},{"$f":"'H U-15'!AI37","v":0},{"$f":"'H U-15'!AK37","v":0},{"$f":"'H U-15'!AM37","v":0},{"$f":"SUM(E36:L36)","v":0},{"$f":"LARGE(E36:L36,1)+LARGE(E36:L36,2)+LARGE(E36:L36,3)+LARGE(E36:L36,4)","v":0},{"$f":"LARGE(E36:L36,5)","v":0},{"$f":"LARGE(E36:L36,6)","v":0},0,0]
[{"$f":"1+A36","v":34},34,{"$f":"'H U-15'!C38","v":0},{"$f":"'H U-15'!D38","v":0},{"$f":"'H U-15'!Y38","v":0},{"$f":"'H U-15'!AA38","v":0},{"$f":"'H U-15'!AC38","v":0},{"$f":"'H U-15'!AE38","v":0},{"$f":"'H U-15'!AG38","v":0},{"$f":"'H U-15'!AI38","v":0},{"$f":"'H U-15'!AK38","v":0},{"$f":"'H U-15'!AM38","v":0},0,0,0,0,0,0]
[35,35,{"$f":"'H U-15'!C39","v":0},{"$f":"'H U-15'!D39","v":0},{"$f":"'H U-15'!Y39","v":0},{"$f":"'H U-15'!AA39","v":0},{"$f":"'H U-15'!AC39","v":0},{"$f":"'H U-15'!AE39","v":0},{"$f":"'H U-15'!AG39","v":0},{"$f":"'H U-15'!AI39","v":0},{"$f":"'H U-15'!AK39","v":0},{"$f":"'H U-15'!AM39","v":0},0,0,0,0,0,0]
[36,36,{"$f":"'H U-15'!C40","v":0},{"$f":"'H U-15'!D40","v":0},{"$f":"'H U-15'!Y40","v":0},{"$f":"'H U-15'!AA40","v":0},{"$f":"'H U-15'!AC40","v":0},{"$f":"'H U-15'!AE40","v":0},{"$f":"'H U-15'!AG40","v":0},{"$f":"'H U-15'!AI40","v":0},{"$f":"'H U-15'!AK40","v":0},{"$f":"'H U-15'!AM40","v":0},0,0,0,0,0,0]
[37,37,{"$f":"'H U-15'!C41","v":0},{"$f":"'H U-15'!D41","v":0},{"$f":"'H U-15'!Y41","v":0},{"$f":"'H U-15'!AA41","v":0},{"$f":"'H U-15'!AC41","v":0},{"$f":"'H U-15'!AE41","v":0},{"$f":"'H U-15'!AG41","v":0},{"$f":"'H U-15'!AI41","v":0},{"$f":"'H U-15'!AK41","v":0},{"$f":"'H U-15'!AM41","v":0},0,0,0,0,0,0]
[38,38,{"$f":"'H U-15'!C42","v":0},{"$f":"'H U-15'!D42","v":0},{"$f":"'H U-15'!Y42","v":0},{"$f":"'H U-15'!AA42","v":0},{"$f":"'H U-15'!AC42","v":0},{"$f":"'H U-15'!AE42","v":0},{"$f":"'H U-15'!AG42","v":0},{"$f":"'H U-15'!AI42","v":0},{"$f":"'H U-15'!AK42","v":0},{"$f":"'H U-15'!AM42","v":0},0,0,0,0,0,0]
[39,39,{"$f":"'H U-15'!C43","v":0},{"$f":"'H U-15'!D43","v":0},{"$f":"'H U-15'!Y43","v":0},{"$f":"'H U-15'!AA43","v":0},{"$f":"'H U-15'!AC43","v":0},{"$f":"'H U-15'!AE43","v":0},{"$f":"'H U-15'!AG43","v":0},{"$f":"'H U-15'!AI43","v":0},{"$f":"'H U-15'!AK43","v":0},{"$f":"'H U-15'!AM43","v":0},0,0,0,0,0,0]
[40,40,{"$f":"'H U-15'!C44","v":0},{"$f":"'H U-15'!D44","v":0},{"$f":"'H U-15'!Y44","v":0},{"$f":"'H U-15'!AA44","v":0},{"$f":"'H U-15'!AC44","v":0},{"$f":"'H U-15'!AE44","v":0},{"$f":"'H U-15'!AG44","v":0},{"$f":"'H U-15'!AI44","v":0},{"$f":"'H U-15'!AK44","v":0},{"$f":"'H U-15'!AM44","v":0},0,0,0,0,0,0]
[41,41,{"$f":"'H U-15'!C45","v":0},{"$f":"'H U-15'!D45","v":0},{"$f":"'H U-15'!Y45","v":0},{"$f":"'H U-15'!AA45","v":0},{"$f":"'H U-15'!AC45","v":0},{"$f":"'H U-15'!AE45","v":0},{"$f":"'H U-15'!AG45","v":0},{"$f":"'H U-15'!AI45","v":0},{"$f":"'H U-15'!AK45","v":0},{"$f":"'H U-15'!AM45","v":0},0,0,0,0,0,0]
[42,42,{"$f":"'H U-15'!C46","v":0},{"$f":"'H U-15'!D46","v":0},{"$f":"'H U-15'!Y46","v":0},{"$f":"'H U-15'!AA46","v":0},{"$f":"'H U-15'!AC46","v":0},{"$f":"'H U-15'!AE46","v":0},{"$f":"'H U-15'!AG46","v":0},{"$f":"'H U-15'!AI46","v":0},{"$f":"'H U-15'!AK46","v":0},{"$f":"'H U-15'!AM46","v":0},0,0,0,0,0,0]
[43,43,{"$f":"'H U-15'!C47","v":0},{"$f":"'H U-15'!D47","v":0},{"$f":"'H U-15'!Y47","v":0},{"$f":"'H U-15'!AA47","v":0},{"$f":"'H U-15'!AC47","v":0},{"$f":"'H U-15'!AE47","v":0},{"$f":"'H U-15'!AG47","v":0},{"$f":"'H U-15'!AI47","v":0},{"$f":"'H U-15'!AK47","v":0},{"$f":"'H U-15'!AM47","v":0},0,0,0,0,0,0]
[44,44,{"$f":"'H U-15'!C48","v":0},{"$f":"'H U-15'!D48","v":0},{"$f":"'H U-15'!Y48","v":0},{"$f":"'H U-15'!AA48","v":0},{"$f":"'H U-15'!AC48","v":0},{"$f":"'H U-15'!AE48","v":0},{"$f":"'H U-15'!AG48","v":0},{"$f":"'H U-15'!AI48","v":0},{"$f":"'H U-15'!AK48","v":0},{"$f":"'H U-15'!AM48","v":0},0,0,0,0,0,0]
[45,45,{"$f":"'H U-15'!C49","v":0},{"$f":"'H U-15'!D49","v":0},{"$f":"'H U-15'!Y49","v":0},{"$f":"'H U-15'!AA49","v":0},{"$f":"'H U-15'!AC49","v":0},{"$f":"'H U-15'!AE49","v":0},{"$f":"'H U-15'!AG49","v":0},{"$f":"'H U-15'!AI49","v":0},{"$f":"'H U-15'!AK49","v":0},{"$f":"'H U-15'!AM49","v":0},0,0,0,0,0,0]
[46,46,{"$f":"'H U-15'!C50","v":0},{"$f":"'H U-15'!D50","v":0},{"$f":"'H U-15'!Y50","v":0},{"$f":"'H U-15'!AA50","v":0},{"$f":"'H U-15'!AC50","v":0},{"$f":"'H U-15'!AE50","v":0},{"$f":"'H U-15'!AG50","v":0},{"$f":"'H U-15'!AI50","v":0},{"$f":"'H U-15'!AK50","v":0},{"$f":"'H U-15'!AM50","v":0},0,0,0,0,0,0]
[47,47,{"$f":"'H U-15'!C51","v":0},{"$f":"'H U-15'!D51","v":0},{"$f":"'H U-15'!Y51","v":0},{"$f":"'H U-15'!AA51","v":0},{"$f":"'H U-15'!AC51","v":0},{"$f":"'H U-15'!AE51","v":0},{"$f":"'H U-15'!AG51","v":0},{"$f":"'H U-15'!AI51","v":0},{"$f":"'H U-15'!AK51","v":0},{"$f":"'H U-15'!AM51","v":0},0,0,0,0,0,0]
[48,48,{"$f":"'H U-15'!C52","v":0},{"$f":"'H U-15'!D52","v":0},{"$f":"'H U-15'!Y52","v":0},{"$f":"'H U-15'!AA52","v":0},{"$f":"'H U-15'!AC52","v":0},{"$f":"'H U-15'!AE52","v":0},{"$f":"'H U-15'!AG52","v":0},{"$f":"'H U-15'!AI52","v":0},{"$f":"'H U-15'!AK52","v":0},{"$f":"'H U-15'!AM52","v":0},0,0,0,0,0,0]
[49,49,{"$f":"'H U-15'!C53","v":0},{"$f":"'H U-15'!D53","v":0},{"$f":"'H U-15'!Y53","v":0},{"$f":"'H U-15'!AA53","v":0},{"$f":"'H U-15'!AC53","v":0},{"$f":"'H U-15'!AE53","v":0},{"$f":"'H U-15'!AG53","v":0},{"$f":"'H U-15'!AI53","v":0},{"$f":"'H U-15'!AK53","v":0},{"$f":"'H U-15'!AM53","v":0},0,0,0,0,0,0]
[{"$f":"1+A52","v":50},50,{"$f":"'H U-15'!C54","v":0},{"$f":"'H U-15'!D54","v":0},{"$f":"'H U-15'!Y54","v":0},{"$f":"'H U-15'!AA54","v":0},{"$f":"'H U-15'!AC54","v":0},{"$f":"'H U-15'!AE54","v":0},{"$f":"'H U-15'!AG54","v":0},{"$f":"'H U-15'!AI54","v":0},{"$f":"'H U-15'!AK54","v":0},{"$f":"'H U-15'!AM54","v":0},0,0,0,0,0,0]
[51,51,{"$f":"'H U-15'!C55","v":0},{"$f":"'H U-15'!D55","v":0},{"$f":"'H U-15'!Y55","v":0},{"$f":"'H U-15'!AA55","v":0},{"$f":"'H U-15'!AC55","v":0},{"$f":"'H U-15'!AE55","v":0},{"$f":"'H U-15'!AG55","v":0},{"$f":"'H U-15'!AI55","v":0},{"$f":"'H U-15'!AK55","v":0},{"$f":"'H U-15'!AM55","v":0},0,0,0,0,0,0]
[52,52,{"$f":"'H U-15'!C56","v":0},{"$f":"'H U-15'!D56","v":0},{"$f":"'H U-15'!Y56","v":0},{"$f":"'H U-15'!AA56","v":0},{"$f":"'H U-15'!AC56","v":0},{"$f":"'H U-15'!AE56","v":0},{"$f":"'H U-15'!AG56","v":0},{"$f":"'H U-15'!AI56","v":0},{"$f":"'H U-15'!AK56","v":0},{"$f":"'H U-15'!AM56","v":0},0,0,0,0,0,0]
[53,53,{"$f":"'H U-15'!C57","v":0},{"$f":"'H U-15'!D57","v":0},{"$f":"'H U-15'!Y57","v":0},{"$f":"'H U-15'!AA57","v":0},{"$f":"'H U-15'!AC57","v":0},{"$f":"'H U-15'!AE57","v":0},{"$f":"'H U-15'!AG57","v":0},{"$f":"'H U-15'!AI57","v":0},{"$f":"'H U-15'!AK57","v":0},{"$f":"'H U-15'!AM57","v":0},0,0,0,0,0,0]
[54,54,{"$f":"'H U-15'!C58","v":0},{"$f":"'H U-15'!D58","v":0},{"$f":"'H U-15'!Y58","v":0},{"$f":"'H U-15'!AA58","v":0},{"$f":"'H U-15'!AC58","v":0},{"$f":"'H U-15'!AE58","v":0},{"$f":"'H U-15'!AG58","v":0},{"$f":"'H U-15'!AI58","v":0},{"$f":"'H U-15'!AK58","v":0},{"$f":"'H U-15'!AM58","v":0},0,0,0,0,0,0]
[55,55,{"$f":"'H U-15'!C59","v":0},{"$f":"'H U-15'!D59","v":0},{"$f":"'H U-15'!Y59","v":0},{"$f":"'H U-15'!AA59","v":0},{"$f":"'H U-15'!AC59","v":0},{"$f":"'H U-15'!AE59","v":0},{"$f":"'H U-15'!AG59","v":0},{"$f":"'H U-15'!AI59","v":0},{"$f":"'H U-15'!AK59","v":0},{"$f":"'H U-15'!AM59","v":0},0,0,0,0,0,0]
[56,56,{"$f":"'H U-15'!C60","v":0},{"$f":"'H U-15'!D60","v":0},{"$f":"'H U-15'!Y60","v":0},{"$f":"'H U-15'!AA60","v":0},{"$f":"'H U-15'!AC60","v":0},{"$f":"'H U-15'!AE60","v":0},{"$f":"'H U-15'!AG60","v":0},{"$f":"'H U-15'!AI60","v":0},{"$f":"'H U-15'!AK60","v":0},{"$f":"'H U-15'!AM60","v":0},0,0,0,0,0,0]
[57,57,{"$f":"'H U-15'!C61","v":0},{"$f":"'H U-15'!D61","v":0},{"$f":"'H U-15'!Y61","v":0},{"$f":"'H U-15'!AA61","v":0},{"$f":"'H U-15'!AC61","v":0},{"$f":"'H U-15'!AE61","v":0},{"$f":"'H U-15'!AG61","v":0},{"$f":"'H U-15'!AI61","v":0},{"$f":"'H U-15'!AK61","v":0},{"$f":"'H U-15'!AM61","v":0},0,0,0,0,0,0]
[58,58,{"$f":"'H U-15'!C62","v":0},{"$f":"'H U-15'!D62","v":0},{"$f":"'H U-15'!Y62","v":0},{"$f":"'H U-15'!AA62","v":0},{"$f":"'H U-15'!AC62","v":0},{"$f":"'H U-15'!AE62","v":0},{"$f":"'H U-15'!AG62","v":0},{"$f":"'H U-15'!AI62","v":0},{"$f":"'H U-15'!AK62","v":0},{"$f":"'H U-15'!AM62","v":0},0,0,0,0,0,0]
[59,59,{"$f":"'H U-15'!C63","v":0},{"$f":"'H U-15'!D63","v":0},{"$f":"'H U-15'!Y63","v":0},{"$f":"'H U-15'!AA63","v":0},{"$f":"'H U-15'!AC63","v":0},{"$f":"'H U-15'!AE63","v":0},{"$f":"'H U-15'!AG63","v":0},{"$f":"'H U-15'!AI63","v":0},{"$f":"'H U-15'!AK63","v":0},{"$f":"'H U-15'!AM63","v":0},0,0,0,0,0,0]
[60,60,{"$f":"'H U-15'!C64","v":0},{"$f":"'H U-15'!D64","v":0},{"$f":"'H U-15'!Y64","v":0},{"$f":"'H U-15'!AA64","v":0},{"$f":"'H U-15'!AC64","v":0},{"$f":"'H U-15'!AE64","v":0},{"$f":"'H U-15'!AG64","v":0},{"$f":"'H U-15'!AI64","v":0},{"$f":"'H U-15'!AK64","v":0},{"$f":"'H U-15'!AM64","v":0},0,0,0,0,0,0]

{"sheet":"Ranking SG DH D","index":7,"n_rows":63,"n_cols":14,"rows_kept":63,"cut":false,"hidden":false,"merged":[[1,4,1,5],[1,8,1,9]]}
[null,"Ranking region 3 SG/DH Herrar U-15 2015",null,null,"Listan måste sorteras efter varje förändring av totalsammanställningen"]
[null,"Ranking efter summan av de 2 bästa åken",null,null,{"$f":"'[1]D U-15'!AN3","v":"Funäsdalen DH"},null,{"$f":"'[1]D U-15'!AJ3","v":"Sunne GS"},null,{"$f":"'[1]D U-15'!AR3","v":"Funäsdalen SG"}]
["Antal","Ranking","Namn","Klubb","Åk 1","Åk 2","Åk 1","Åk 2","Åk 1","Åk 2","SG/DH        poäng","Ranking Summa av två bästa","Sär-skiljning åk 3","Sär- skiljning åk 4"]
[1,1,{"$f":"'[1]D U-15'!C5","v":"Emma Hammergård"},{"$f":"'[1]D U-15'!D5","v":"Gävle Alpina SK"},{"$f":"'[1]D U-15'!AO5","v":100},{"$f":"'[1]D U-15'!AQ5","v":100},{"$f":"'[1]H U-15'!AK5","v":0},{"$f":"'[1]H U-15'!AM5","v":0},{"$f":"'[1]D U-15'!AS5","v":100},{"$f":"'[1]D U-15'!AU5","v":100},{"$f":"SUM(E4:J4)","v":400},{"$f":"LARGE(E4:J4,1)+LARGE(E4:J4,2)","v":200},{"$f":"LARGE(E4:J4,3)","v":100},{"$f":"LARGE(E4:J4,4)","v":100}]
[{"$f":"1+A4","v":2},{"$f":"1+B4","v":2},{"$f":"'[1]D U-15'!C6","v":"Julia Litzèn"},{"$f":"'[1]D U-15'!D6","v":"Idre SK"},{"$f":"'[1]D U-15'!AO6","v":55},{"$f":"'[1]D U-15'!AQ6","v":80},{"$f":"'[1]H U-15'!AK6","v":0},{"$f":"'[1]H U-15'!AM6","v":0},{"$f":"'[1]D U-15'!AS6","v":0},{"$f":"'[1]D U-15'!AU6","v":70},{"$f":"SUM(E5:J5)","v":205},{"$f":"LARGE(E5:J5,1)+LARGE(E5:J5,2)","v":150},{"$f":"LARGE(E5:J5,3)","v":55},{"$f":"LARGE(E5:J5,4)","v":0}]
[3,3,{"$f":"'[1]D U-15'!C10","v":"Emma Wähl"},{"$f":"'[1]D U-15'!D10","v":"Norrbärke SK Alpin"},{"$f":"'[1]D U-15'!AO10","v":80},{"$f":"'[1]D U-15'!AQ10","v":70},{"$f":"'[1]H U-15'!AK10","v":0},{"$f":"'[1]H U-15'!AM10","v":0},{"$f":"'[1]D U-15'!AS10","v":0},{"$f":"'[1]D U-15'!AU10","v":44},{"$f":"SUM(E6:J6)","v":194},{"$f":"LARGE(E6:J6,1)+LARGE(E6:J6,2)","v":150},{"$f":"LARGE(E6:J6,3)","v":44},{"$f":"LARGE(E6:J6,4)","v":0}]
[4,4,{"$f":"'[1]D U-15'!C7","v":"Alma Stridh"},{"$f":"'[1]D U-15'!D7","v":"Örebro SLF"},{"$f":"'[1]D U-15'!AO7","v":60},{"$f":"'[1]D U-15'!AQ7","v":55},{"$f":"'[1]H U-15'!AK8","v":0},{"$f":"'[1]H U-15'!AM8","v":0},{"$f":"'[1]D U-15'!AS7","v":0},{"$f":"'[1]D U-15'!AU7","v":80},{"$f":"SUM(E7:J7)","v":195},{"$f":"LARGE(E7:J7,1)+LARGE(E7:J7,2)","v":140},{"$f":"LARGE(E7:J7,3)","v":55},{"$f":"LARGE(E7:J7,4)","v":0}]
[5,5,{"$f":"'[1]D U-15'!C9","v":"Lovisa Jensen"},{"$f":"'[1]D U-15'!D9","v":"Orsa Alpina Klubb"},{"$f":"'[1]D U-15'!AO9","v":50},{"$f":"'[1]D U-15'!AQ9","v":50},{"$f":"'[1]H U-15'!AK7","v":0},{"$f":"'[1]H U-15'!AM7","v":0},{"$f":"'[1]D U-15'!AS9","v":80},{"$f":"'[1]D U-15'!AU9","v":55},235,135,50,50]
[6,6,{"$f":"'[1]D U-15'!C8","v":"Sara Bruhn"},{"$f":"'[1]D U-15'!D8","v":"IFK Falun"},{"$f":"'[1]D U-15'!AO8","v":70},{"$f":"'[1]D U-15'!AQ8","v":60},{"$f":"'[1]H U-15'!AK9","v":0},{"$f":"'[1]H U-15'!AM9","v":0},{"$f":"'[1]D U-15'!AS8","v":0},{"$f":"'[1]D U-15'!AU8","v":60},{"$f":"SUM(E9:J9)","v":190},{"$f":"LARGE(E9:J9,1)+LARGE(E9:J9,2)","v":130},{"$f":"LARGE(E9:J9,3)","v":60},{"$f":"LARGE(E9:J9,4)","v":0}]
[7,7,{"$f":"'[1]D U-15'!C11","v":"Jasmine Svedberg"},{"$f":"'[1]D U-15'!D11","v":"IFK Borlänge"},{"$f":"'[1]D U-15'!AO11","v":44},{"$f":"'[1]D U-15'!AQ11","v":44},{"$f":"'[1]H U-15'!AK11","v":0},{"$f":"'[1]H U-15'!AM11","v":0},{"$f":"'[1]D U-15'!AS11","v":70},{"$f":"'[1]D U-15'!AU11","v":48},206,118,44,44]
[8,8,{"$f":"'[1]D U-15'!C12","v":"Hanna Håkonsen"},{"$f":"'[1]D U-15'!D12","v":"Norrbärke SK Alpin"},{"$f":"'[1]D U-15'!AO12","v":42},{"$f":"'[1]D U-15'!AQ12","v":42},{"$f":"'[1]H U-15'!AK12","v":0},{"$f":"'[1]H U-15'!AM12","v":0},{"$f":"'[1]D U-15'!AS12","v":60},{"$f":"'[1]D U-15'!AU12","v":50},194,110,42,42]
[9,9,{"$f":"'[1]D U-15'!C25","v":"Kajsa Östergren Nilsson"},{"$f":"'[1]D U-15'!D25","v":"Sälens IF"},{"$f":"'[1]D U-15'!AO25","v":48},{"$f":"'[1]D U-15'!AQ25","v":46},{"$f":"'[1]H U-15'!AK25","v":0},{"$f":"'[1]H U-15'!AM25","v":0},{"$f":"'[1]D U-15'!AS25","v":0},{"$f":"'[1]D U-15'!AU25","v":46},{"$f":"SUM(E12:J12)","v":140},{"$f":"LARGE(E12:J12,1)+LARGE(E12:J12,2)","v":94},{"$f":"LARGE(E12:J12,3)","v":46},{"$f":"LARGE(E12:J12,4)","v":0}]
[10,10,{"$f":"'[1]D U-15'!C14","v":"Julia Pettersson"},{"$f":"'[1]D U-15'!D14","v":"Gävle Alpina SK"},{"$f":"'[1]D U-15'!AO14","v":46},{"$f":"'[1]D U-15'!AQ14","v":48},{"$f":"'[1]H U-15'!AK14","v":0},{"$f":"'[1]H U-15'!AM14","v":0},{"$f":"'[1]D U-15'!AS14","v":0},{"$f":"'[1]D U-15'!AU14","v":0},{"$f":"SUM(E13:J13)","v":94},{"$f":"LARGE(E13:J13,1)+LARGE(E13:J13,2)","v":94},{"$f":"LARGE(E13:J13,3)","v":0},{"$f":"LARGE(E13:J13,4)","v":0}]
[11,11,{"$f":"'[1]D U-15'!C13","v":"Hedvig Fries"},{"$f":"'[1]D U-15'!D13","v":"IFK Borlänge"},{"$f":"'[1]D U-15'!AO13","v":0},{"$f":"'[1]D U-15'!AQ13","v":0},{"$f":"'[1]H U-15'!AK13","v":0},{"$f":"'[1]H U-15'!AM13","v":0},{"$f":"'[1]D U-15'!AS13","v":0},{"$f":"'[1]D U-15'!AU13","v":0},0,0,0,0]
[12,12,{"$f":"'[1]D U-15'!C15","v":"Agnes Blomqvist"},{"$f":"'[1]D U-15'!D15","v":"Gävle Alpina SK"},{"$f":"'[1]D U-15'!AO15","v":0},{"$f":"'[1]D U-15'!AQ15","v":0},{"$f":"'[1]H U-15'!AK15","v":0},{"$f":"'[1]H U-15'!AM15","v":0},{"$f":"'[1]D U-15'!AS15","v":0},{"$f":"'[1]D U-15'!AU15","v":0},0,0,0,0]
[13,13,{"$f":"'[1]D U-15'!C16","v":"Evelina Lööf"},{"$f":"'[1]D U-15'!D16","v":"IFK Borlänge"},{"$f":"'[1]D U-15'!AO16","v":0},{"$f":"'[1]D U-15'!AQ16","v":0},{"$f":"'[1]H U-15'!AK16","v":0},{"$f":"'[1]H U-15'!AM16","v":0},{"$f":"'[1]D U-15'!AS16","v":0},{"$f":"'[1]D U-15'!AU16","v":0},0,0,0,0]
[14,14,{"$f":"'[1]D U-15'!C17","v":"Sofie Jonsson"},{"$f":"'[1]D U-15'!D17","v":"Kungsbergets AK"},{"$f":"'[1]D U-15'!AO17","v":0},{"$f":"'[1]D U-15'!AQ17","v":0},{"$f":"'[1]H U-15'!AK17","v":0},{"$f":"'[1]H U-15'!AM17","v":0},{"$f":"'[1]D U-15'!AS17","v":0},{"$f":"'[1]D U-15'!AU17","v":0},0,0,0,0]
[15,15,{"$f":"'[1]D U-15'!C18","v":"Filippa Strömberg"},{"$f":"'[1]D U-15'!D18","v":"Grums SLK"},{"$f":"'[1]D U-15'!AO18","v":0},{"$f":"'[1]D U-15'!AQ18","v":0},{"$f":"'[1]H U-15'!AK18","v":0},{"$f":"'[1]H U-15'!AM18","v":0},{"$f":"'[1]D U-15'!AS18","v":0},{"$f":"'[1]D U-15'!AU18","v":0},0,0,0,0]
[16,16,{"$f":"'[1]D U-15'!C19","v":"Julia Åberg"},{"$f":"'[1]D U-15'!D19","v":"Avesta AK"},{"$f":"'[1]D U-15'!AO19","v":0},{"$f":"'[1]D U-15'!AQ19","v":0},{"$f":"'[1]H U-15'!AK19","v":0},{"$f":"'[1]H U-15'!AM19","v":0},{"$f":"'[1]D U-15'!AS19","v":0},{"$f":"'[1]D U-15'!AU19","v":0},0,0,0,0]
[17,17,{"$f":"'[1]D U-15'!C20","v":"Ingrid-Johanna Larsson"},{"$f":"'[1]D U-15'!D20","v":"Gävle Alpina SK"},{"$f":"'[1]D U-15'!AO20","v":0},{"$f":"'[1]D U-15'!AQ20","v":0},{"$f":"'[1]H U-15'!AK20","v":0},{"$f":"'[1]H U-15'!AM20","v":0},{"$f":"'[1]D U-15'!AS20","v":0},{"$f":"'[1]D U-15'!AU20","v":0},0,0,0,0]
[18,18,{"$f":"'[1]D U-15'!C21","v":"Frida Olofsson"},{"$f":"'[1]D U-15'!D21","v":"Kungsbergets AK"},{"$f":"'[1]D U-15'!AO21","v":0},{"$f":"'[1]D U-15'!AQ21","v":0},{"$f":"'[1]H U-15'!AK21","v":0},{"$f":"'[1]H U-15'!AM21","v":0},{"$f":"'[1]D U-15'!AS21","v":0},{"$f":"'[1]D U-15'!AU21","v":0},0,0,0,0]
[19,19,{"$f":"'[1]D U-15'!C22","v":"Maja Nordell"},{"$f":"'[1]D U-15'!D22","v":"Gävle Alpina SK"},{"$f":"'[1]D U-15'!AO22","v":0},{"$f":"'[1]D U-15'!AQ22","v":0},{"$f":"'[1]H U-15'!AK22","v":0},{"$f":"'[1]H U-15'!AM22","v":0},{"$f":"'[1]D U-15'!AS22","v":0},{"$f":"'[1]D U-15'!AU22","v":0},0,0,0,0]
[20,20,{"$f":"'[1]D U-15'!C23","v":"Sanna Olsson"},{"$f":"'[1]D U-15'!D23","v":"Grums SLK"},{"$f":"'[1]D U-15'!AO23","v":0},{"$f":"'[1]D U-15'!AQ23","v":0},{"$f":"'[1]H U-15'!AK23","v":0},{"$f":"'[1]H U-15'!AM23","v":0},{"$f":"'[1]D U-15'!AS23","v":0},{"$f":"'[1]D U-15'!AU23","v":0},0,0,0,0]
[21,21,{"$f":"'[1]D U-15'!C24","v":"Sigrid Karlsson"},{"$f":"'[1]D U-15'!D24","v":"Gävle Alpina SK"},{"$f":"'[1]D U-15'!AO24","v":0},{"$f":"'[1]D U-15'!AQ24","v":0},{"$f":"'[1]H U-15'!AK24","v":0},{"$f":"'[1]H U-15'!AM24","v":0},{"$f":"'[1]D U-15'!AS24","v":0},{"$f":"'[1]D U-15'!AU24","v":0},0,0,0,0]
[22,22,{"$f":"'[1]D U-15'!C26","v":"Ida-Stina Andersson"},{"$f":"'[1]D U-15'!D26","v":"Norrbärke SK Alpin"},{"$f":"'[1]D U-15'!AO26","v":0},{"$f":"'[1]D U-15'!AQ26","v":0},{"$f":"'[1]H U-15'!AK26","v":0},{"$f":"'[1]H U-15'!AM26","v":0},{"$f":"'[1]D U-15'!AS26","v":0},{"$f":"'[1]D U-15'!AU26","v":0},0,0,0,0]
[23,23,{"$f":"'[1]D U-15'!C27","v":"Klara Bergmark"},{"$f":"'[1]D U-15'!D27","v":"Gävle Alpina SK"},{"$f":"'[1]D U-15'!AO27","v":0},{"$f":"'[1]D U-15'!AQ27","v":0},{"$f":"'[1]H U-15'!AK27","v":0},{"$f":"'[1]H U-15'!AM27","v":0},{"$f":"'[1]D U-15'!AS27","v":0},{"$f":"'[1]D U-15'!AU27","v":0},0,0,0,0]
[24,24,{"$f":"'[1]D U-15'!C28","v":"Emma Andersson"},{"$f":"'[1]D U-15'!D28","v":"Örebro SLF"},{"$f":"'[1]D U-15'!AO28","v":0},{"$f":"'[1]D U-15'!AQ28","v":0},{"$f":"'[1]H U-15'!AK28","v":0},{"$f":"'[1]H U-15'!AM28","v":0},{"$f":"'[1]D U-15'!AS28","v":0},{"$f":"'[1]D U-15'!AU28","v":0},0,0,0,0]
[25,25,{"$f":"'[1]D U-15'!C29","v":"Boglárka Réthy"},{"$f":"'[1]D U-15'!D29","v":"Kungsbergets AK"},{"$f":"'[1]D U-15'!AO29","v":0},{"$f":"'[1]D U-15'!AQ29","v":0},{"$f":"'[1]H U-15'!AK29","v":0},{"$f":"'[1]H U-15'!AM29","v":0},{"$f":"'[1]D U-15'!AS29","v":0},{"$f":"'[1]D U-15'!AU29","v":0},0,0,0,0]
[26,26,{"$f":"'[1]D U-15'!C30","v":"Jessica Raninen"},{"$f":"'[1]D U-15'!D30","v":"Kils SLK"},{"$f":"'[1]D U-15'!AO30","v":0},{"$f":"'[1]D U-15'!AQ30","v":0},{"$f":"'[1]H U-15'!AK30","v":0},{"$f":"'[1]H U-15'!AM30","v":0},{"$f":"'[1]D U-15'!AS30","v":0},{"$f":"'[1]D U-15'!AU30","v":0},0,0,0,0]
[27,27,{"$f":"'[1]D U-15'!C31","v":"Maja Skagerlind"},{"$f":"'[1]D U-15'!D31","v":"Gävle Alpina SK"},{"$f":"'[1]D U-15'!AO31","v":0},{"$f":"'[1]D U-15'!AQ31","v":0},{"$f":"'[1]H U-15'!AK31","v":0},{"$f":"'[1]H U-15'!AM31","v":0},{"$f":"'[1]D U-15'!AS31","v":0},{"$f":"'[1]D U-15'!AU31","v":0},0,0,0,0]
[28,28,{"$f":"'[1]D U-15'!C32","v":"Jennifer Gran"},{"$f":"'[1]D U-15'!D32","v":"Valfjällets SLK"},{"$f":"'[1]D U-15'!AO32","v":0},{"$f":"'[1]D U-15'!AQ32","v":0},{"$f":"'[1]H U-15'!AK32","v":0},{"$f":"'[1]H U-15'!AM32","v":0},{"$f":"'[1]D U-15'!AS32","v":0},{"$f":"'[1]D U-15'!AU32","v":0},0,0,0,0]
[29,29,{"$f":"'[1]D U-15'!C33","v":0},{"$f":"'[1]D U-15'!D33","v":0},{"$f":"'[1]D U-15'!AO33","v":0},{"$f":"'[1]D U-15'!AQ33","v":0},{"$f":"'[1]H U-15'!AK33","v":0},{"$f":"'[1]H U-15'!AM33","v":0},{"$f":"'[1]D U-15'!AS33","v":0},{"$f":"'[1]D U-15'!AU33","v":0},0,0,0,0]
[30,30,{"$f":"'[1]D U-15'!C34","v":0},{"$f":"'[1]D U-15'!D34","v":0},{"$f":"'[1]D U-15'!AO34","v":0},{"$f":"'[1]D U-15'!AQ34","v":0},{"$f":"'[1]H U-15'!AK34","v":0},{"$f":"'[1]H U-15'!AM34","v":0},{"$f":"'[1]D U-15'!AS34","v":0},{"$f":"'[1]D U-15'!AU34","v":0},0,0,0,0]
[31,31,{"$f":"'[1]D U-15'!C35","v":0},{"$f":"'[1]D U-15'!D35","v":0},{"$f":"'[1]D U-15'!AO35","v":0},{"$f":"'[1]D U-15'!AQ35","v":0},{"$f":"'[1]H U-15'!AK35","v":0},{"$f":"'[1]H U-15'!AM35","v":0},{"$f":"'[1]D U-15'!AS35","v":0},{"$f":"'[1]D U-15'!AU35","v":0},0,0,0,0]
[32,32,{"$f":"'[1]D U-15'!C36","v":0},{"$f":"'[1]D U-15'!D36","v":0},{"$f":"'[1]D U-15'!AO36","v":0},{"$f":"'[1]D U-15'!AQ36","v":0},{"$f":"'[1]H U-15'!AK36","v":0},{"$f":"'[1]H U-15'!AM36","v":0},{"$f":"'[1]D U-15'!AS36","v":0},{"$f":"'[1]D U-15'!AU36","v":0},0,0,0,0]
[33,33,{"$f":"'[1]D U-15'!C37","v":0},{"$f":"'[1]D U-15'!D37","v":0},{"$f":"'[1]D U-15'!AO37","v":0},{"$f":"'[1]D U-15'!AQ37","v":0},{"$f":"'[1]H U-15'!AK37","v":0},{"$f":"'[1]H U-15'!AM37","v":0},{"$f":"'[1]D U-15'!AS37","v":0},{"$f":"'[1]D U-15'!AU37","v":0},{"$f":"SUM(E36:J36)","v":0},{"$f":"LARGE(E36:J36,1)+LARGE(E36:J36,2)","v":0},{"$f":"LARGE(E36:J36,3)","v":0},{"$f":"LARGE(E36:J36,4)","v":0}]
[34,{"$f":"1+B36","v":34},{"$f":"'[1]D U-15'!C38","v":0},{"$f":"'[1]D U-15'!D38","v":0},{"$f":"'[1]D U-15'!AO38","v":0},{"$f":"'[1]D U-15'!AQ38","v":0},{"$f":"'[1]H U-15'!AK38","v":0},{"$f":"'[1]H U-15'!AM38","v":0},{"$f":"'[1]D U-15'!AS38","v":0},{"$f":"'[1]D U-15'!AU38","v":0},0,0,0,0]
[35,35,{"$f":"'[1]D U-15'!C39","v":0},{"$f":"'[1]D U-15'!D39","v":0},{"$f":"'[1]D U-15'!AO39","v":0},{"$f":"'[1]D U-15'!AQ39","v":0},{"$f":"'[1]H U-15'!AK39","v":0},{"$f":"'[1]H U-15'!AM39","v":0},{"$f":"'[1]D U-15'!AS39","v":0},{"$f":"'[1]D U-15'!AU39","v":0},0,0,0,0]
[36,36,{"$f":"'[1]D U-15'!C40","v":0},{"$f":"'[1]D U-15'!D40","v":0},{"$f":"'[1]D U-15'!AO40","v":0},{"$f":"'[1]D U-15'!AQ40","v":0},{"$f":"'[1]H U-15'!AK40","v":0},{"$f":"'[1]H U-15'!AM40","v":0},{"$f":"'[1]D U-15'!AS40","v":0},{"$f":"'[1]D U-15'!AU40","v":0},0,0,0,0]
[37,37,{"$f":"'[1]D U-15'!C41","v":0},{"$f":"'[1]D U-15'!D41","v":0},{"$f":"'[1]D U-15'!AO41","v":0},{"$f":"'[1]D U-15'!AQ41","v":0},{"$f":"'[1]H U-15'!AK41","v":0},{"$f":"'[1]H U-15'!AM41","v":0},{"$f":"'[1]D U-15'!AS41","v":0},{"$f":"'[1]D U-15'!AU41","v":0},0,0,0,0]
[38,38,{"$f":"'[1]D U-15'!C42","v":0},{"$f":"'[1]D U-15'!D42","v":0},{"$f":"'[1]D U-15'!AO42","v":0},{"$f":"'[1]D U-15'!AQ42","v":0},{"$f":"'[1]H U-15'!AK42","v":0},{"$f":"'[1]H U-15'!AM42","v":0},{"$f":"'[1]D U-15'!AS42","v":0},{"$f":"'[1]D U-15'!AU42","v":0},0,0,0,0]
[39,39,{"$f":"'[1]D U-15'!C43","v":0},{"$f":"'[1]D U-15'!D43","v":0},{"$f":"'[1]D U-15'!AO43","v":0},{"$f":"'[1]D U-15'!AQ43","v":0},{"$f":"'[1]H U-15'!AK43","v":0},{"$f":"'[1]H U-15'!AM43","v":0},{"$f":"'[1]D U-15'!AS43","v":0},{"$f":"'[1]D U-15'!AU43","v":0},0,0,0,0]
[40,40,{"$f":"'[1]D U-15'!C44","v":0},{"$f":"'[1]D U-15'!D44","v":0},{"$f":"'[1]D U-15'!AO44","v":0},{"$f":"'[1]D U-15'!AQ44","v":0},{"$f":"'[1]H U-15'!AK44","v":0},{"$f":"'[1]H U-15'!AM44","v":0},{"$f":"'[1]D U-15'!AS44","v":0},{"$f":"'[1]D U-15'!AU44","v":0},0,0,0,0]
[41,41,{"$f":"'[1]D U-15'!C45","v":0},{"$f":"'[1]D U-15'!D45","v":0},{"$f":"'[1]D U-15'!AO45","v":0},{"$f":"'[1]D U-15'!AQ45","v":0},{"$f":"'[1]H U-15'!AK45","v":0},{"$f":"'[1]H U-15'!AM45","v":0},{"$f":"'[1]D U-15'!AS45","v":0},{"$f":"'[1]D U-15'!AU45","v":0},0,0,0,0]
[42,42,{"$f":"'[1]D U-15'!C46","v":0},{"$f":"'[1]D U-15'!D46","v":0},{"$f":"'[1]D U-15'!AO46","v":0},{"$f":"'[1]D U-15'!AQ46","v":0},{"$f":"'[1]H U-15'!AK46","v":0},{"$f":"'[1]H U-15'!AM46","v":0},{"$f":"'[1]D U-15'!AS46","v":0},{"$f":"'[1]D U-15'!AU46","v":0},0,0,0,0]
[43,43,{"$f":"'[1]D U-15'!C47","v":0},{"$f":"'[1]D U-15'!D47","v":0},{"$f":"'[1]D U-15'!AO47","v":0},{"$f":"'[1]D U-15'!AQ47","v":0},{"$f":"'[1]H U-15'!AK47","v":0},{"$f":"'[1]H U-15'!AM47","v":0},{"$f":"'[1]D U-15'!AS47","v":0},{"$f":"'[1]D U-15'!AU47","v":0},0,0,0,0]
[44,44,{"$f":"'[1]D U-15'!C48","v":0},{"$f":"'[1]D U-15'!D48","v":0},{"$f":"'[1]D U-15'!AO48","v":0},{"$f":"'[1]D U-15'!AQ48","v":0},{"$f":"'[1]H U-15'!AK48","v":0},{"$f":"'[1]H U-15'!AM48","v":0},{"$f":"'[1]D U-15'!AS48","v":0},{"$f":"'[1]D U-15'!AU48","v":0},0,0,0,0]
[45,45,{"$f":"'[1]D U-15'!C49","v":0},{"$f":"'[1]D U-15'!D49","v":0},{"$f":"'[1]D U-15'!AO49","v":0},{"$f":"'[1]D U-15'!AQ49","v":0},{"$f":"'[1]H U-15'!AK49","v":0},{"$f":"'[1]H U-15'!AM49","v":0},{"$f":"'[1]D U-15'!AS49","v":0},{"$f":"'[1]D U-15'!AU49","v":0},0,0,0,0]
[46,46,{"$f":"'[1]D U-15'!C50","v":0},{"$f":"'[1]D U-15'!D50","v":0},{"$f":"'[1]D U-15'!AO50","v":0},{"$f":"'[1]D U-15'!AQ50","v":0},{"$f":"'[1]H U-15'!AK50","v":0},{"$f":"'[1]H U-15'!AM50","v":0},{"$f":"'[1]D U-15'!AS50","v":0},{"$f":"'[1]D U-15'!AU50","v":0},0,0,0,0]
[47,47,{"$f":"'[1]D U-15'!C51","v":0},{"$f":"'[1]D U-15'!D51","v":0},{"$f":"'[1]D U-15'!AO51","v":0},{"$f":"'[1]D U-15'!AQ51","v":0},{"$f":"'[1]H U-15'!AK51","v":0},{"$f":"'[1]H U-15'!AM51","v":0},{"$f":"'[1]D U-15'!AS51","v":0},{"$f":"'[1]D U-15'!AU51","v":0},0,0,0,0]
[48,48,{"$f":"'[1]D U-15'!C52","v":0},{"$f":"'[1]D U-15'!D52","v":0},{"$f":"'[1]D U-15'!AO52","v":0},{"$f":"'[1]D U-15'!AQ52","v":0},{"$f":"'[1]H U-15'!AK52","v":0},{"$f":"'[1]H U-15'!AM52","v":0},{"$f":"'[1]D U-15'!AS52","v":0},{"$f":"'[1]D U-15'!AU52","v":0},0,0,0,0]
[49,49,{"$f":"'[1]D U-15'!C53","v":0},{"$f":"'[1]D U-15'!D53","v":0},{"$f":"'[1]D U-15'!AO53","v":0},{"$f":"'[1]D U-15'!AQ53","v":0},{"$f":"'[1]H U-15'!AK53","v":0},{"$f":"'[1]H U-15'!AM53","v":0},{"$f":"'[1]D U-15'!AS53","v":0},{"$f":"'[1]D U-15'!AU53","v":0},0,0,0,0]
[50,50,{"$f":"'[1]D U-15'!C54","v":0},{"$f":"'[1]D U-15'!D54","v":0},{"$f":"'[1]D U-15'!AO54","v":0},{"$f":"'[1]D U-15'!AQ54","v":0},{"$f":"'[1]H U-15'!AK54","v":0},{"$f":"'[1]H U-15'!AM54","v":0},{"$f":"'[1]D U-15'!AS54","v":0},{"$f":"'[1]D U-15'!AU54","v":0},0,0,0,0]
[51,51,{"$f":"'[1]D U-15'!C55","v":0},{"$f":"'[1]D U-15'!D55","v":0},{"$f":"'[1]D U-15'!AO55","v":0},{"$f":"'[1]D U-15'!AQ55","v":0},{"$f":"'[1]H U-15'!AK55","v":0},{"$f":"'[1]H U-15'!AM55","v":0},{"$f":"'[1]D U-15'!AS55","v":0},{"$f":"'[1]D U-15'!AU55","v":0},0,0,0,0]
[52,52,{"$f":"'[1]D U-15'!C56","v":0},{"$f":"'[1]D U-15'!D56","v":0},{"$f":"'[1]D U-15'!AO56","v":0},{"$f":"'[1]D U-15'!AQ56","v":0},{"$f":"'[1]H U-15'!AK56","v":0},{"$f":"'[1]H U-15'!AM56","v":0},{"$f":"'[1]D U-15'!AS56","v":0},{"$f":"'[1]D U-15'!AU56","v":0},0,0,0,0]
[53,53,{"$f":"'[1]D U-15'!C57","v":0},{"$f":"'[1]D U-15'!D57","v":0},{"$f":"'[1]D U-15'!AO57","v":0},{"$f":"'[1]D U-15'!AQ57","v":0},{"$f":"'[1]H U-15'!AK57","v":0},{"$f":"'[1]H U-15'!AM57","v":0},{"$f":"'[1]D U-15'!AS57","v":0},{"$f":"'[1]D U-15'!AU57","v":0},0,0,0,0]
[54,54,{"$f":"'[1]D U-15'!C58","v":0},{"$f":"'[1]D U-15'!D58","v":0},{"$f":"'[1]D U-15'!AO58","v":0},{"$f":"'[1]D U-15'!AQ58","v":0},{"$f":"'[1]H U-15'!AK58","v":0},{"$f":"'[1]H U-15'!AM58","v":0},{"$f":"'[1]D U-15'!AS58","v":0},{"$f":"'[1]D U-15'!AU58","v":0},0,0,0,0]
[55,55,{"$f":"'[1]D U-15'!C59","v":0},{"$f":"'[1]D U-15'!D59","v":0},{"$f":"'[1]D U-15'!AO59","v":0},{"$f":"'[1]D U-15'!AQ59","v":0},{"$f":"'[1]H U-15'!AK59","v":0},{"$f":"'[1]H U-15'!AM59","v":0},{"$f":"'[1]D U-15'!AS59","v":0},{"$f":"'[1]D U-15'!AU59","v":0},0,0,0,0]
[56,56,{"$f":"'[1]D U-15'!C60","v":0},{"$f":"'[1]D U-15'!D60","v":0},{"$f":"'[1]D U-15'!AO60","v":0},{"$f":"'[1]D U-15'!AQ60","v":0},{"$f":"'[1]H U-15'!AK60","v":0},{"$f":"'[1]H U-15'!AM60","v":0},{"$f":"'[1]D U-15'!AS60","v":0},{"$f":"'[1]D U-15'!AU60","v":0},0,0,0,0]
[57,57,{"$f":"'[1]D U-15'!C61","v":0},{"$f":"'[1]D U-15'!D61","v":0},{"$f":"'[1]D U-15'!AO61","v":0},{"$f":"'[1]D U-15'!AQ61","v":0},{"$f":"'[1]H U-15'!AK61","v":0},{"$f":"'[1]H U-15'!AM61","v":0},{"$f":"'[1]D U-15'!AS61","v":0},{"$f":"'[1]D U-15'!AU61","v":0},0,0,0,0]
[58,58,{"$f":"'[1]D U-15'!C62","v":0},{"$f":"'[1]D U-15'!D62","v":0},{"$f":"'[1]D U-15'!AO62","v":0},{"$f":"'[1]D U-15'!AQ62","v":0},{"$f":"'[1]H U-15'!AK62","v":0},{"$f":"'[1]H U-15'!AM62","v":0},{"$f":"'[1]D U-15'!AS62","v":0},{"$f":"'[1]D U-15'!AU62","v":0},0,0,0,0]
[59,59,{"$f":"'[1]D U-15'!C63","v":0},{"$f":"'[1]D U-15'!D63","v":0},{"$f":"'[1]D U-15'!AO63","v":0},{"$f":"'[1]D U-15'!AQ63","v":0},{"$f":"'[1]H U-15'!AK63","v":0},{"$f":"'[1]H U-15'!AM63","v":0},{"$f":"'[1]D U-15'!AS63","v":0},{"$f":"'[1]D U-15'!AU63","v":0},0,0,0,0]
[60,60,{"$f":"'[1]D U-15'!C64","v":0},{"$f":"'[1]D U-15'!D64","v":0},{"$f":"'[1]D U-15'!AO64","v":0},{"$f":"'[1]D U-15'!AQ64","v":0},{"$f":"'[1]H U-15'!AK64","v":0},{"$f":"'[1]H U-15'!AM64","v":0},{"$f":"'[1]D U-15'!AS64","v":0},{"$f":"'[1]D U-15'!AU64","v":0},0,0,0,0]

{"sheet":"TeamMidroc 2007","index":8,"n_rows":13,"n_cols":6,"rows_kept":13,"cut":false,"hidden":true,"merged":[]}
["Åkare ur Team Midroc från Region 3 2007"]
["Namn","Klubb","TeamMidroc Tävling","Datum","Till","Kolliderar med kval"]
[]
["Sara Hector","Järbo IF","Slovenien","2007-02-21","2007-02-26"]
["Maja Bergkvist","Leksands IF","Slovenien","2007-02-21","2007-02-26"]
["Simon Larsson","IFK Grängesberg","Slovenien","2007-02-21","2007-02-26"]
[]
["Stina Grahn","IFK Borlänge","Kroatien","2007-02-18","2007-02-23"]
["Andreas Dahlberg","Norrbärke SKA","Kroatien","2007-02-18","2007-02-23"]
[]
["Nathalie Eklund","Leksands IF","Italien","2007-02-26","2007-03-04"]
[]
["Linea Troeng","Gävle Alpina","Tjeckien","2007-03-05","2007-03-10"]

{"sheet":"Ranking SG DH H","index":9,"n_rows":63,"n_cols":14,"rows_kept":63,"cut":false,"hidden":false,"merged":[[1,4,1,5],[1,8,1,9]]}
[null,"Ranking region 3 SG/DH Herrar U-15 2015",null,null,"Listan måste sorteras efter varje förändring av totalsammanställningen"]
[null,"Ranking efter summan av de 2 bästa åken",null,null,{"$f":"'[1]D U-15'!AN3","v":"Funäsdalen DH"},null,{"$f":"'[1]D U-15'!AJ3","v":"Sunne GS"},null,{"$f":"'[1]D U-15'!AR3","v":"Funäsdalen SG"}]
["Antal","Ranking","Namn","Klubb","Åk 1","Åk 2","Åk 1","Åk 2","Åk 1","Åk 2","SG/DH        poäng","Ranking Summa av två bästa","Sär-skiljning åk 3","Sär- skiljning åk 4"]
[1,1,{"$f":"'[1]H U-15'!C5","v":"Jesper Brändholm"},{"$f":"'[1]H U-15'!D5","v":"Sälens IF"},{"$f":"'[1]H U-15'!AO5","v":80},{"$f":"'[1]H U-15'!AQ5","v":100},{"$f":"'[1]H U-15'!AK5","v":0},{"$f":"'[1]H U-15'!AM5","v":0},{"$f":"'[1]H U-15'!AS5","v":100},{"$f":"'[1]H U-15'!AU5","v":100},{"$f":"SUM(E4:J4)","v":380},{"$f":"LARGE(E4:J4,1)+LARGE(E4:J4,2)","v":200},{"$f":"LARGE(E4:J4,3)","v":100},{"$f":"LARGE(E4:J4,4)","v":80}]
[{"$f":"1+A4","v":2},{"$f":"1+B4","v":2},{"$f":"'[1]H U-15'!C6","v":"Johan Hagberg"},{"$f":"'[1]H U-15'!D6","v":"Avesta AK"},{"$f":"'[1]H U-15'!AO6","v":100},{"$f":"'[1]H U-15'!AQ6","v":80},{"$f":"'[1]H U-15'!AK6","v":0},{"$f":"'[1]H U-15'!AM6","v":0},{"$f":"'[1]H U-15'!AS6","v":80},{"$f":"'[1]H U-15'!AU6","v":80},340,180,80,80]
[3,3,{"$f":"'[1]H U-15'!C9","v":"Edvin Nilsson"},{"$f":"'[1]H U-15'!D9","v":"Sälens IF"},{"$f":"'[1]H U-15'!AO9","v":70},{"$f":"'[1]H U-15'!AQ9","v":70},{"$f":"'[1]H U-15'!AK9","v":0},{"$f":"'[1]H U-15'!AM9","v":0},{"$f":"'[1]H U-15'!AS9","v":70},{"$f":"'[1]H U-15'!AU9","v":0},210,140,70,0]
[4,4,{"$f":"'[1]H U-15'!C7","v":"Linus Lundquist"},{"$f":"'[1]H U-15'!D7","v":"Karlstads SLK"},{"$f":"'[1]H U-15'!AO7","v":60},{"$f":"'[1]H U-15'!AQ7","v":60},{"$f":"'[1]H U-15'!AK7","v":0},{"$f":"'[1]H U-15'!AM7","v":0},{"$f":"'[1]H U-15'!AS7","v":60},{"$f":"'[1]H U-15'!AU7","v":70},250,130,60,60]
[5,5,{"$f":"'[1]H U-15'!C8","v":"Fredrik Axelsson"},{"$f":"'[1]H U-15'!D8","v":"Karlstads SLK"},{"$f":"'[1]H U-15'!AO8","v":55},{"$f":"'[1]H U-15'!AQ8","v":55},{"$f":"'[1]H U-15'!AK8","v":0},{"$f":"'[1]H U-15'!AM8","v":0},{"$f":"'[1]H U-15'!AS8","v":55},{"$f":"'[1]H U-15'!AU8","v":60},225,115,55,55]
[6,6,{"$f":"'[1]H U-15'!C11","v":"David Tegmark"},{"$f":"'[1]H U-15'!D11","v":"IFK Falun"},{"$f":"'[1]H U-15'!AO11","v":48},{"$f":"'[1]H U-15'!AQ11","v":48},{"$f":"'[1]H U-15'!AK11","v":0},{"$f":"'[1]H U-15'!AM11","v":0},{"$f":"'[1]H U-15'!AS11","v":50},{"$f":"'[1]H U-15'!AU11","v":55},201,105,48,48]
[7,7,{"$f":"'[1]H U-15'!C10","v":"Jakob Bergman"},{"$f":"'[1]H U-15'!D10","v":"IFK Falun"},{"$f":"'[1]H U-15'!AO10","v":50},{"$f":"'[1]H U-15'!AQ10","v":50},{"$f":"'[1]H U-15'!AK10","v":0},{"$f":"'[1]H U-15'!AM10","v":0},{"$f":"'[1]H U-15'!AS10","v":0},{"$f":"'[1]H U-15'!AU10","v":0},100,100,0,0]
[8,8,{"$f":"'[1]H U-15'!C12","v":"Nils Kangas"},{"$f":"'[1]H U-15'!D12","v":"Kungsbergets AK"},{"$f":"'[1]H U-15'!AO12","v":0},{"$f":"'[1]H U-15'!AQ12","v":0},{"$f":"'[1]H U-15'!AK12","v":0},{"$f":"'[1]H U-15'!AM12","v":0},{"$f":"'[1]H U-15'!AS12","v":0},{"$f":"'[1]H U-15'!AU12","v":0},0,0,0,0]
[9,9,{"$f":"'[1]H U-15'!C13","v":0},{"$f":"'[1]H U-15'!D13","v":0},{"$f":"'[1]H U-15'!AO13","v":0},{"$f":"'[1]H U-15'!AQ13","v":0},{"$f":"'[1]H U-15'!AK13","v":0},{"$f":"'[1]H U-15'!AM13","v":0},{"$f":"'[1]H U-15'!AS13","v":0},{"$f":"'[1]H U-15'!AU13","v":0},0,0,0,0]
[10,10,{"$f":"'[1]H U-15'!C14","v":0},{"$f":"'[1]H U-15'!D14","v":0},{"$f":"'[1]H U-15'!AO14","v":0},{"$f":"'[1]H U-15'!AQ14","v":0},{"$f":"'[1]H U-15'!AK14","v":0},{"$f":"'[1]H U-15'!AM14","v":0},{"$f":"'[1]H U-15'!AS14","v":0},{"$f":"'[1]H U-15'!AU14","v":0},0,0,0,0]
[11,11,{"$f":"'[1]H U-15'!C15","v":0},{"$f":"'[1]H U-15'!D15","v":0},{"$f":"'[1]H U-15'!AO15","v":0},{"$f":"'[1]H U-15'!AQ15","v":0},{"$f":"'[1]H U-15'!AK15","v":0},{"$f":"'[1]H U-15'!AM15","v":0},{"$f":"'[1]H U-15'!AS15","v":0},{"$f":"'[1]H U-15'!AU15","v":0},0,0,0,0]
[12,12,{"$f":"'[1]H U-15'!C16","v":0},{"$f":"'[1]H U-15'!D16","v":0},{"$f":"'[1]H U-15'!AO16","v":0},{"$f":"'[1]H U-15'!AQ16","v":0},{"$f":"'[1]H U-15'!AK16","v":0},{"$f":"'[1]H U-15'!AM16","v":0},{"$f":"'[1]H U-15'!AS16","v":0},{"$f":"'[1]H U-15'!AU16","v":0},0,0,0,0]
[13,13,{"$f":"'[1]H U-15'!C17","v":0},{"$f":"'[1]H U-15'!D17","v":0},{"$f":"'[1]H U-15'!AO17","v":0},{"$f":"'[1]H U-15'!AQ17","v":0},{"$f":"'[1]H U-15'!AK17","v":0},{"$f":"'[1]H U-15'!AM17","v":0},{"$f":"'[1]H U-15'!AS17","v":0},{"$f":"'[1]H U-15'!AU17","v":0},0,0,0,0]
[14,14,{"$f":"'[1]H U-15'!C18","v":0},{"$f":"'[1]H U-15'!D18","v":0},{"$f":"'[1]H U-15'!AO18","v":0},{"$f":"'[1]H U-15'!AQ18","v":0},{"$f":"'[1]H U-15'!AK18","v":0},{"$f":"'[1]H U-15'!AM18","v":0},{"$f":"'[1]H U-15'!AS18","v":0},{"$f":"'[1]H U-15'!AU18","v":0},0,0,0,0]
[15,15,{"$f":"'[1]H U-15'!C19","v":0},{"$f":"'[1]H U-15'!D19","v":0},{"$f":"'[1]H U-15'!AO19","v":0},{"$f":"'[1]H U-15'!AQ19","v":0},{"$f":"'[1]H U-15'!AK19","v":0},{"$f":"'[1]H U-15'!AM19","v":0},{"$f":"'[1]H U-15'!AS19","v":0},{"$f":"'[1]H U-15'!AU19","v":0},0,0,0,0]
[16,16,{"$f":"'[1]H U-15'!C20","v":0},{"$f":"'[1]H U-15'!D20","v":0},{"$f":"'[1]H U-15'!AO20","v":0},{"$f":"'[1]H U-15'!AQ20","v":0},{"$f":"'[1]H U-15'!AK20","v":0},{"$f":"'[1]H U-15'!AM20","v":0},{"$f":"'[1]H U-15'!AS20","v":0},{"$f":"'[1]H U-15'!AU20","v":0},0,0,0,0]
[17,17,{"$f":"'[1]H U-15'!C21","v":0},{"$f":"'[1]H U-15'!D21","v":0},{"$f":"'[1]H U-15'!AO21","v":0},{"$f":"'[1]H U-15'!AQ21","v":0},{"$f":"'[1]H U-15'!AK21","v":0},{"$f":"'[1]H U-15'!AM21","v":0},{"$f":"'[1]H U-15'!AS21","v":0},{"$f":"'[1]H U-15'!AU21","v":0},0,0,0,0]
[{"$f":"1+A20","v":18},18,{"$f":"'[1]H U-15'!C22","v":0},{"$f":"'[1]H U-15'!D22","v":0},{"$f":"'[1]H U-15'!AO22","v":0},{"$f":"'[1]H U-15'!AQ22","v":0},{"$f":"'[1]H U-15'!AK22","v":0},{"$f":"'[1]H U-15'!AM22","v":0},{"$f":"'[1]H U-15'!AS22","v":0},{"$f":"'[1]H U-15'!AU22","v":0},0,0,0,0]
[19,19,{"$f":"'[1]H U-15'!C23","v":0},{"$f":"'[1]H U-15'!D23","v":0},{"$f":"'[1]H U-15'!AO23","v":0},{"$f":"'[1]H U-15'!AQ23","v":0},{"$f":"'[1]H U-15'!AK23","v":0},{"$f":"'[1]H U-15'!AM23","v":0},{"$f":"'[1]H U-15'!AS23","v":0},{"$f":"'[1]H U-15'!AU23","v":0},0,0,0,0]
[20,20,{"$f":"'[1]H U-15'!C24","v":0},{"$f":"'[1]H U-15'!D24","v":0},{"$f":"'[1]H U-15'!AO24","v":0},{"$f":"'[1]H U-15'!AQ24","v":0},{"$f":"'[1]H U-15'!AK24","v":0},{"$f":"'[1]H U-15'!AM24","v":0},{"$f":"'[1]H U-15'!AS24","v":0},{"$f":"'[1]H U-15'!AU24","v":0},0,0,0,0]
[21,21,{"$f":"'[1]H U-15'!C25","v":0},{"$f":"'[1]H U-15'!D25","v":0},{"$f":"'[1]H U-15'!AO25","v":0},{"$f":"'[1]H U-15'!AQ25","v":0},{"$f":"'[1]H U-15'!AK25","v":0},{"$f":"'[1]H U-15'!AM25","v":0},{"$f":"'[1]H U-15'!AS25","v":0},{"$f":"'[1]H U-15'!AU25","v":0},0,0,0,0]
[22,22,{"$f":"'[1]H U-15'!C26","v":0},{"$f":"'[1]H U-15'!D26","v":0},{"$f":"'[1]H U-15'!AO26","v":0},{"$f":"'[1]H U-15'!AQ26","v":0},{"$f":"'[1]H U-15'!AK26","v":0},{"$f":"'[1]H U-15'!AM26","v":0},{"$f":"'[1]H U-15'!AS26","v":0},{"$f":"'[1]H U-15'!AU26","v":0},0,0,0,0]
[23,23,{"$f":"'[1]H U-15'!C27","v":0},{"$f":"'[1]H U-15'!D27","v":0},{"$f":"'[1]H U-15'!AO27","v":0},{"$f":"'[1]H U-15'!AQ27","v":0},{"$f":"'[1]H U-15'!AK27","v":0},{"$f":"'[1]H U-15'!AM27","v":0},{"$f":"'[1]H U-15'!AS27","v":0},{"$f":"'[1]H U-15'!AU27","v":0},0,0,0,0]
[24,24,{"$f":"'[1]H U-15'!C28","v":0},{"$f":"'[1]H U-15'!D28","v":0},{"$f":"'[1]H U-15'!AO28","v":0},{"$f":"'[1]H U-15'!AQ28","v":0},{"$f":"'[1]H U-15'!AK28","v":0},{"$f":"'[1]H U-15'!AM28","v":0},{"$f":"'[1]H U-15'!AS28","v":0},{"$f":"'[1]H U-15'!AU28","v":0},0,0,0,0]
[25,25,{"$f":"'[1]H U-15'!C29","v":0},{"$f":"'[1]H U-15'!D29","v":0},{"$f":"'[1]H U-15'!AO29","v":0},{"$f":"'[1]H U-15'!AQ29","v":0},{"$f":"'[1]H U-15'!AK29","v":0},{"$f":"'[1]H U-15'!AM29","v":0},{"$f":"'[1]H U-15'!AS29","v":0},{"$f":"'[1]H U-15'!AU29","v":0},0,0,0,0]
[26,26,{"$f":"'[1]H U-15'!C30","v":0},{"$f":"'[1]H U-15'!D30","v":0},{"$f":"'[1]H U-15'!AO30","v":0},{"$f":"'[1]H U-15'!AQ30","v":0},{"$f":"'[1]H U-15'!AK30","v":0},{"$f":"'[1]H U-15'!AM30","v":0},{"$f":"'[1]H U-15'!AS30","v":0},{"$f":"'[1]H U-15'!AU30","v":0},0,0,0,0]
[27,27,{"$f":"'[1]H U-15'!C31","v":0},{"$f":"'[1]H U-15'!D31","v":0},{"$f":"'[1]H U-15'!AO31","v":0},{"$f":"'[1]H U-15'!AQ31","v":0},{"$f":"'[1]H U-15'!AK31","v":0},{"$f":"'[1]H U-15'!AM31","v":0},{"$f":"'[1]H U-15'!AS31","v":0},{"$f":"'[1]H U-15'!AU31","v":0},0,0,0,0]
[28,28,{"$f":"'[1]H U-15'!C32","v":0},{"$f":"'[1]H U-15'!D32","v":0},{"$f":"'[1]H U-15'!AO32","v":0},{"$f":"'[1]H U-15'!AQ32","v":0},{"$f":"'[1]H U-15'!AK32","v":0},{"$f":"'[1]H U-15'!AM32","v":0},{"$f":"'[1]H U-15'!AS32","v":0},{"$f":"'[1]H U-15'!AU32","v":0},0,0,0,0]
[29,29,{"$f":"'[1]H U-15'!C33","v":0},{"$f":"'[1]H U-15'!D33","v":0},{"$f":"'[1]H U-15'!AO33","v":0},{"$f":"'[1]H U-15'!AQ33","v":0},{"$f":"'[1]H U-15'!AK33","v":0},{"$f":"'[1]H U-15'!AM33","v":0},{"$f":"'[1]H U-15'!AS33","v":0},{"$f":"'[1]H U-15'!AU33","v":0},0,0,0,0]
[30,30,{"$f":"'[1]H U-15'!C34","v":0},{"$f":"'[1]H U-15'!D34","v":0},{"$f":"'[1]H U-15'!AO34","v":0},{"$f":"'[1]H U-15'!AQ34","v":0},{"$f":"'[1]H U-15'!AK34","v":0},{"$f":"'[1]H U-15'!AM34","v":0},{"$f":"'[1]H U-15'!AS34","v":0},{"$f":"'[1]H U-15'!AU34","v":0},0,0,0,0]
[31,31,{"$f":"'[1]H U-15'!C35","v":0},{"$f":"'[1]H U-15'!D35","v":0},{"$f":"'[1]H U-15'!AO35","v":0},{"$f":"'[1]H U-15'!AQ35","v":0},{"$f":"'[1]H U-15'!AK35","v":0},{"$f":"'[1]H U-15'!AM35","v":0},{"$f":"'[1]H U-15'!AS35","v":0},{"$f":"'[1]H U-15'!AU35","v":0},0,0,0,0]
[32,32,{"$f":"'[1]H U-15'!C36","v":0},{"$f":"'[1]H U-15'!D36","v":0},{"$f":"'[1]H U-15'!AO36","v":0},{"$f":"'[1]H U-15'!AQ36","v":0},{"$f":"'[1]H U-15'!AK36","v":0},{"$f":"'[1]H U-15'!AM36","v":0},{"$f":"'[1]H U-15'!AS36","v":0},{"$f":"'[1]H U-15'!AU36","v":0},0,0,0,0]
[33,33,{"$f":"'[1]H U-15'!C37","v":0},{"$f":"'[1]H U-15'!D37","v":0},{"$f":"'[1]H U-15'!AO37","v":0},{"$f":"'[1]H U-15'!AQ37","v":0},{"$f":"'[1]H U-15'!AK37","v":0},{"$f":"'[1]H U-15'!AM37","v":0},{"$f":"'[1]H U-15'!AS37","v":0},{"$f":"'[1]H U-15'!AU37","v":0},0,0,0,0]
[{"$f":"1+A36","v":34},34,{"$f":"'[1]H U-15'!C38","v":0},{"$f":"'[1]H U-15'!D38","v":0},{"$f":"'[1]H U-15'!AO38","v":0},{"$f":"'[1]H U-15'!AQ38","v":0},{"$f":"'[1]H U-15'!AK38","v":0},{"$f":"'[1]H U-15'!AM38","v":0},{"$f":"'[1]H U-15'!AS38","v":0},{"$f":"'[1]H U-15'!AU38","v":0},0,0,0,0]
[35,35,{"$f":"'[1]H U-15'!C39","v":0},{"$f":"'[1]H U-15'!D39","v":0},{"$f":"'[1]H U-15'!AO39","v":0},{"$f":"'[1]H U-15'!AQ39","v":0},{"$f":"'[1]H U-15'!AK39","v":0},{"$f":"'[1]H U-15'!AM39","v":0},{"$f":"'[1]H U-15'!AS39","v":0},{"$f":"'[1]H U-15'!AU39","v":0},0,0,0,0]
[36,36,{"$f":"'[1]H U-15'!C40","v":0},{"$f":"'[1]H U-15'!D40","v":0},{"$f":"'[1]H U-15'!AO40","v":0},{"$f":"'[1]H U-15'!AQ40","v":0},{"$f":"'[1]H U-15'!AK40","v":0},{"$f":"'[1]H U-15'!AM40","v":0},{"$f":"'[1]H U-15'!AS40","v":0},{"$f":"'[1]H U-15'!AU40","v":0},0,0,0,0]
[37,37,{"$f":"'[1]H U-15'!C41","v":0},{"$f":"'[1]H U-15'!D41","v":0},{"$f":"'[1]H U-15'!AO41","v":0},{"$f":"'[1]H U-15'!AQ41","v":0},{"$f":"'[1]H U-15'!AK41","v":0},{"$f":"'[1]H U-15'!AM41","v":0},{"$f":"'[1]H U-15'!AS41","v":0},{"$f":"'[1]H U-15'!AU41","v":0},0,0,0,0]
[38,38,{"$f":"'[1]H U-15'!C42","v":0},{"$f":"'[1]H U-15'!D42","v":0},{"$f":"'[1]H U-15'!AO42","v":0},{"$f":"'[1]H U-15'!AQ42","v":0},{"$f":"'[1]H U-15'!AK42","v":0},{"$f":"'[1]H U-15'!AM42","v":0},{"$f":"'[1]H U-15'!AS42","v":0},{"$f":"'[1]H U-15'!AU42","v":0},0,0,0,0]
[39,39,{"$f":"'[1]H U-15'!C43","v":0},{"$f":"'[1]H U-15'!D43","v":0},{"$f":"'[1]H U-15'!AO43","v":0},{"$f":"'[1]H U-15'!AQ43","v":0},{"$f":"'[1]H U-15'!AK43","v":0},{"$f":"'[1]H U-15'!AM43","v":0},{"$f":"'[1]H U-15'!AS43","v":0},{"$f":"'[1]H U-15'!AU43","v":0},0,0,0,0]
[40,40,{"$f":"'[1]H U-15'!C44","v":0},{"$f":"'[1]H U-15'!D44","v":0},{"$f":"'[1]H U-15'!AO44","v":0},{"$f":"'[1]H U-15'!AQ44","v":0},{"$f":"'[1]H U-15'!AK44","v":0},{"$f":"'[1]H U-15'!AM44","v":0},{"$f":"'[1]H U-15'!AS44","v":0},{"$f":"'[1]H U-15'!AU44","v":0},0,0,0,0]
[41,41,{"$f":"'[1]H U-15'!C45","v":0},{"$f":"'[1]H U-15'!D45","v":0},{"$f":"'[1]H U-15'!AO45","v":0},{"$f":"'[1]H U-15'!AQ45","v":0},{"$f":"'[1]H U-15'!AK45","v":0},{"$f":"'[1]H U-15'!AM45","v":0},{"$f":"'[1]H U-15'!AS45","v":0},{"$f":"'[1]H U-15'!AU45","v":0},0,0,0,0]
[42,42,{"$f":"'[1]H U-15'!C46","v":0},{"$f":"'[1]H U-15'!D46","v":0},{"$f":"'[1]H U-15'!AO46","v":0},{"$f":"'[1]H U-15'!AQ46","v":0},{"$f":"'[1]H U-15'!AK46","v":0},{"$f":"'[1]H U-15'!AM46","v":0},{"$f":"'[1]H U-15'!AS46","v":0},{"$f":"'[1]H U-15'!AU46","v":0},0,0,0,0]
[43,43,{"$f":"'[1]H U-15'!C47","v":0},{"$f":"'[1]H U-15'!D47","v":0},{"$f":"'[1]H U-15'!AO47","v":0},{"$f":"'[1]H U-15'!AQ47","v":0},{"$f":"'[1]H U-15'!AK47","v":0},{"$f":"'[1]H U-15'!AM47","v":0},{"$f":"'[1]H U-15'!AS47","v":0},{"$f":"'[1]H U-15'!AU47","v":0},0,0,0,0]
[44,44,{"$f":"'[1]H U-15'!C48","v":0},{"$f":"'[1]H U-15'!D48","v":0},{"$f":"'[1]H U-15'!AO48","v":0},{"$f":"'[1]H U-15'!AQ48","v":0},{"$f":"'[1]H U-15'!AK48","v":0},{"$f":"'[1]H U-15'!AM48","v":0},{"$f":"'[1]H U-15'!AS48","v":0},{"$f":"'[1]H U-15'!AU48","v":0},0,0,0,0]
[45,45,{"$f":"'[1]H U-15'!C49","v":0},{"$f":"'[1]H U-15'!D49","v":0},{"$f":"'[1]H U-15'!AO49","v":0},{"$f":"'[1]H U-15'!AQ49","v":0},{"$f":"'[1]H U-15'!AK49","v":0},{"$f":"'[1]H U-15'!AM49","v":0},{"$f":"'[1]H U-15'!AS49","v":0},{"$f":"'[1]H U-15'!AU49","v":0},0,0,0,0]
[46,46,{"$f":"'[1]H U-15'!C50","v":0},{"$f":"'[1]H U-15'!D50","v":0},{"$f":"'[1]H U-15'!AO50","v":0},{"$f":"'[1]H U-15'!AQ50","v":0},{"$f":"'[1]H U-15'!AK50","v":0},{"$f":"'[1]H U-15'!AM50","v":0},{"$f":"'[1]H U-15'!AS50","v":0},{"$f":"'[1]H U-15'!AU50","v":0},0,0,0,0]
[47,47,{"$f":"'[1]H U-15'!C51","v":0},{"$f":"'[1]H U-15'!D51","v":0},{"$f":"'[1]H U-15'!AO51","v":0},{"$f":"'[1]H U-15'!AQ51","v":0},{"$f":"'[1]H U-15'!AK51","v":0},{"$f":"'[1]H U-15'!AM51","v":0},{"$f":"'[1]H U-15'!AS51","v":0},{"$f":"'[1]H U-15'!AU51","v":0},0,0,0,0]
[48,48,{"$f":"'[1]H U-15'!C52","v":0},{"$f":"'[1]H U-15'!D52","v":0},{"$f":"'[1]H U-15'!AO52","v":0},{"$f":"'[1]H U-15'!AQ52","v":0},{"$f":"'[1]H U-15'!AK52","v":0},{"$f":"'[1]H U-15'!AM52","v":0},{"$f":"'[1]H U-15'!AS52","v":0},{"$f":"'[1]H U-15'!AU52","v":0},0,0,0,0]
[49,49,{"$f":"'[1]H U-15'!C53","v":0},{"$f":"'[1]H U-15'!D53","v":0},{"$f":"'[1]H U-15'!AO53","v":0},{"$f":"'[1]H U-15'!AQ53","v":0},{"$f":"'[1]H U-15'!AK53","v":0},{"$f":"'[1]H U-15'!AM53","v":0},{"$f":"'[1]H U-15'!AS53","v":0},{"$f":"'[1]H U-15'!AU53","v":0},0,0,0,0]
[{"$f":"1+A52","v":50},50,{"$f":"'[1]H U-15'!C54","v":0},{"$f":"'[1]H U-15'!D54","v":0},{"$f":"'[1]H U-15'!AO54","v":0},{"$f":"'[1]H U-15'!AQ54","v":0},{"$f":"'[1]H U-15'!AK54","v":0},{"$f":"'[1]H U-15'!AM54","v":0},{"$f":"'[1]H U-15'!AS54","v":0},{"$f":"'[1]H U-15'!AU54","v":0},0,0,0,0]
[51,51,{"$f":"'[1]H U-15'!C55","v":0},{"$f":"'[1]H U-15'!D55","v":0},{"$f":"'[1]H U-15'!AO55","v":0},{"$f":"'[1]H U-15'!AQ55","v":0},{"$f":"'[1]H U-15'!AK55","v":0},{"$f":"'[1]H U-15'!AM55","v":0},{"$f":"'[1]H U-15'!AS55","v":0},{"$f":"'[1]H U-15'!AU55","v":0},0,0,0,0]
[52,52,{"$f":"'[1]H U-15'!C56","v":0},{"$f":"'[1]H U-15'!D56","v":0},{"$f":"'[1]H U-15'!AO56","v":0},{"$f":"'[1]H U-15'!AQ56","v":0},{"$f":"'[1]H U-15'!AK56","v":0},{"$f":"'[1]H U-15'!AM56","v":0},{"$f":"'[1]H U-15'!AS56","v":0},{"$f":"'[1]H U-15'!AU56","v":0},0,0,0,0]
[53,53,{"$f":"'[1]H U-15'!C57","v":0},{"$f":"'[1]H U-15'!D57","v":0},{"$f":"'[1]H U-15'!AO57","v":0},{"$f":"'[1]H U-15'!AQ57","v":0},{"$f":"'[1]H U-15'!AK57","v":0},{"$f":"'[1]H U-15'!AM57","v":0},{"$f":"'[1]H U-15'!AS57","v":0},{"$f":"'[1]H U-15'!AU57","v":0},0,0,0,0]
[54,54,{"$f":"'[1]H U-15'!C58","v":0},{"$f":"'[1]H U-15'!D58","v":0},{"$f":"'[1]H U-15'!AO58","v":0},{"$f":"'[1]H U-15'!AQ58","v":0},{"$f":"'[1]H U-15'!AK58","v":0},{"$f":"'[1]H U-15'!AM58","v":0},{"$f":"'[1]H U-15'!AS58","v":0},{"$f":"'[1]H U-15'!AU58","v":0},0,0,0,0]
[55,55,{"$f":"'[1]H U-15'!C59","v":0},{"$f":"'[1]H U-15'!D59","v":0},{"$f":"'[1]H U-15'!AO59","v":0},{"$f":"'[1]H U-15'!AQ59","v":0},{"$f":"'[1]H U-15'!AK59","v":0},{"$f":"'[1]H U-15'!AM59","v":0},{"$f":"'[1]H U-15'!AS59","v":0},{"$f":"'[1]H U-15'!AU59","v":0},0,0,0,0]
[56,56,{"$f":"'[1]H U-15'!C60","v":0},{"$f":"'[1]H U-15'!D60","v":0},{"$f":"'[1]H U-15'!AO60","v":0},{"$f":"'[1]H U-15'!AQ60","v":0},{"$f":"'[1]H U-15'!AK60","v":0},{"$f":"'[1]H U-15'!AM60","v":0},{"$f":"'[1]H U-15'!AS60","v":0},{"$f":"'[1]H U-15'!AU60","v":0},0,0,0,0]
[57,57,{"$f":"'[1]H U-15'!C61","v":0},{"$f":"'[1]H U-15'!D61","v":0},{"$f":"'[1]H U-15'!AO61","v":0},{"$f":"'[1]H U-15'!AQ61","v":0},{"$f":"'[1]H U-15'!AK61","v":0},{"$f":"'[1]H U-15'!AM61","v":0},{"$f":"'[1]H U-15'!AS61","v":0},{"$f":"'[1]H U-15'!AU61","v":0},0,0,0,0]
[58,58,{"$f":"'[1]H U-15'!C62","v":0},{"$f":"'[1]H U-15'!D62","v":0},{"$f":"'[1]H U-15'!AO62","v":0},{"$f":"'[1]H U-15'!AQ62","v":0},{"$f":"'[1]H U-15'!AK62","v":0},{"$f":"'[1]H U-15'!AM62","v":0},{"$f":"'[1]H U-15'!AS62","v":0},{"$f":"'[1]H U-15'!AU62","v":0},0,0,0,0]
[59,59,{"$f":"'[1]H U-15'!C63","v":0},{"$f":"'[1]H U-15'!D63","v":0},{"$f":"'[1]H U-15'!AO63","v":0},{"$f":"'[1]H U-15'!AQ63","v":0},{"$f":"'[1]H U-15'!AK63","v":0},{"$f":"'[1]H U-15'!AM63","v":0},{"$f":"'[1]H U-15'!AS63","v":0},{"$f":"'[1]H U-15'!AU63","v":0},0,0,0,0]
[60,60,{"$f":"'[1]H U-15'!C64","v":0},{"$f":"'[1]H U-15'!D64","v":0},{"$f":"'[1]H U-15'!AO64","v":0},{"$f":"'[1]H U-15'!AQ64","v":0},{"$f":"'[1]H U-15'!AK64","v":0},{"$f":"'[1]H U-15'!AM64","v":0},{"$f":"'[1]H U-15'!AS64","v":0},{"$f":"'[1]H U-15'!AU64","v":0},0,0,0,0]

{"sheet":"Poängberäkning","index":10,"n_rows":97,"n_cols":5,"rows_kept":97,"cut":false,"hidden":false,"merged":[[3,1,3,2],[2,1,2,4]]}
[]
[]
[null,"Poängberäkning USM kval"]
[null,"Deltagarpoäng: ",null,null,20]
[null,"Plats","Poäng","Plats","Poäng"]
[null,0,0]
[null,1,100]
[null,2,80]
[null,3,70]
[null,4,60]
[null,5,55]
[null,6,50]
[null,7,48]
[null,8,46]
[null,9,44]
[null,10,42]
[null,11,40]
[null,12,39]
[null,13,38]
[null,14,37]
[null,15,36]
[null,16,35]
[null,17,34]
[null,18,33]
[null,19,32]
[null,20,31]
[null,21,30]
[null,22,29]
[null,23,28]
[null,24,27]
[null,25,26]
[null,26,25]
[null,27,24]
[null,28,23]
[null,29,22]
[null,30,21]
[null,31,20]
[null,32,19]
[null,33,18]
[null,34,17]
[null,35,16]
[null,36,15]
[null,37,14]
[null,38,13]
[null,39,12]
[null,40,11]
[null,41,10]
[null,42,9]
[null,43,8]
[null,44,7]
[null,45,6]
[null,46,5]
[null,47,4]
[null,48,3]
[null,49,2]
[null,50,1]
[null,{"$f":"B56+1","v":51},1]
[null,{"$f":"B57+1","v":52},1]
[null,53,1]
[null,54,1]
[null,55,1]
[null,56,1]
[null,57,1]
[null,58,1]
[null,59,1]
[null,60,1]
[null,61,1]
[null,62,1]
[null,63,1]
[null,64,1]
[null,65,1]
[null,66,1]
[null,67,1]
[null,68,1]
[null,69,1]
[null,70,1]
[null,71,1]
[null,72,1]
[null,73,1]
[null,74,1]
[null,75,1]
[null,76,1]
[null,77,1]
[null,78,1]
[null,79,1]
[null,80,1]
[null,81,1]
[null,82,1]
[null,83,1]
[null,84,1]
[null,85,1]
[null,86,1]
[null,87,1]
[null,88,1]
[null,89,1]
[null,90,1]
[null,99,0]